Workbook
Name 士林區: 附表三!$C$11
Name 大同區: 附表三!$C$5
Name 大安區: 附表三!$C$8
Name 中山區: 附表三!$C$6
Name 中正區: 附表三!$C$4
Name 仁愛區: 附表三!$C$17
Name 內湖區: 附表三!$C$13
Name 文山區: 附表三!$C$15
Name 北投區: 附表三!$C$12
Name 台中縣: [1]表單連結!#REF!
Name 台中縣: [1]表單連結!#REF!
Name 台中縣: [1]表單連結!#REF!
Name 台中縣: [1]表單連結!#REF!
Name 台中縣: [1]表單連結!#REF!
Name 台中縣: [1]表單連結!#REF!
Name 台北縣: [1]表單連結!#REF!
Name 台北縣: [1]表單連結!#REF!
Name 台北縣: [1]表單連結!#REF!
Name 台北縣: [1]表單連結!#REF!
Name 台北縣: [1]表單連結!#REF!
Name 台北縣: [1]表單連結!#REF!
Name 台南縣: [1]表單連結!#REF!
Name 台南縣: [1]表單連結!#REF!
Name 台南縣: [1]表單連結!#REF!
Name 台南縣: [1]表單連結!#REF!
Name 台南縣: [1]表單連結!#REF!
Name 台南縣: [1]表單連結!#REF!
Name 宜蘭縣: 附表三!$A$55:$A$67
Name 松山區: 附表三!$C$7
Name 花蓮縣: 附表三!$A$371:$A$383
Name 金門縣: 附表三!$A$385:$A$390
Name 信義區: 附表三!$C$10
Name 南投縣: 附表三!$A$177:$A$189
Name 南海諸島: 附表三!$A$310:$A$311
Name 南港區: 附表三!$C$14
Name 屏東縣: 附表三!$A$320:$A$352
Name 苗栗縣: 附表三!$A$101:$A$118
Name 原燃物料: [1]表三!$I$4:$I$194
Name 原燃物料代碼及名稱: [1]表三!#REF!
Name 原燃物料代碼及名稱: [1]表三!#REF!
Name 原燃物料代碼及名稱: [1]表三!#REF!
Name 原燃物料代碼及名稱: [1]表三!#REF!
Name 原燃物料代碼及名稱: [1]表三!#REF!
Name 原燃物料代碼及名稱: [1]表三!#REF!
Name 原燃物料編號_名稱: [1]表三!#REF!
Name 原燃物料編號_名稱: [1]表三!#REF!
Name 原燃物料編號_名稱: [1]表三!#REF!
Name 原燃物料編號_名稱: [1]表三!#REF!
Name 桃園市: 附表三!$A$87:$A$99
Name 高雄市: 附表三!$A$271:$A$308
Name 高雄縣: [1]表單連結!#REF!
Name 高雄縣: [1]表單連結!#REF!
Name 高雄縣: [1]表單連結!#REF!
Name 高雄縣: [1]表單連結!#REF!
Name 高雄縣: [1]表單連結!#REF!
Name 高雄縣: [1]表單連結!#REF!
Name 基隆市: 附表三!$A$17:$A$23
Name 強度行業: [2]清單!$A$76:$A$79
Name 排放型式: [2]清單!$A$65:$E$65,[2]清單!$A$66:$B$66,[2]清單!$A$67:$E$67
Name 排放強度產品: !#REF!

Sheet 表單說明
A1: 表單編號 | B1: 表單名稱 | C1: 填寫準則 | D1: 適用對象 | E1: 簡介 | F1: 表單為新增或修改 | G1: 2016.01改版內容說明 | H1: 2017.01改版內容說明 | I1: 2020.01改版內容說明
A2: 表一 | B2: 事業基本資料 | C2: ◎ | D2: 適用管理辦法與溫室氣體相關方案者及自願登錄盤查資訊者 | E2: 內容涵蓋盤查年度、基本資料、盤查及查證資訊、門檻值設定等(適用於2015年(含)之後之溫室氣體盤查作業) | F2: - | G2: 增加第2類行業別及盤查及查證資訊，其中盤查及查證資訊包含登錄原因、盤查依據規範、是否完成第三者查證、門檻值設定等。 | H2: 新增盤查表單版次(欄位O1)，排放源應依據修改次數進行調整。 合格查驗機構家數調整。 | I2: 修正盤查年度為108年之後
A3: 表二 | B3: 邊界設定 | C3: ◎ | E3: 內容涵蓋場址外涵蓋區域、場址內扣除區域、設定方法等 | F3: - | G3: 包含場址外涵蓋區域、場址內扣除區域、邊界設定方法。 | H3: - | I3: -
A4: 表三 | B4: 排放源鑑別 | C4: ◎ | E4: 內容涵蓋組織邊界設定及排放源鑑別資料 | F4: - | G4: 將原表單之排放型式與範疇二型式整合為單一欄位(排放型式)，該欄位可依範疇別變換其排放型式選項；修正製程或逸散類別之欄位選項，調整與登錄平台設定一致。 新增溫室氣體種類NF3。 | H4: 新增範疇二外購電力之類別，排放源應選擇為離網電力或併網電力。(AK欄位) | I4: -
A5: 表四 | B5: 活動數據 | C5: ◎ | E5: 內容涵蓋設備排放源活動數據數值及來源等相關資料填寫 | F5: - | G5: 增加活動數據分配比率之欄位。 活動數據種類（R欄位）文字調整與系統一致。 | H5: 新增電力/蒸汽供應商名稱欄位(L欄位)，倘排放源使用之電力為離網電力，則排放源應完整說明電力/蒸氣供應商之名稱。 | I5: -
A6: 表五 | B6: 定量盤查 | C6: ◎ | E6: 內容涵蓋設備排放源排放係數、來源、GWP值及排放量計算等資訊 | F6: - | G6: 增加係數類型之欄位，選項內容與登錄平台設定一致；並依有效位數之運算邏輯將排放量與排放當量之小數位數由2位修改為4位。 102年(含102年)之係數，以轉換為係數管理表6.0.1版次。 104年(含104年)之係數，以轉換為係數管理表6.0.2版次。 | H6: 溫暖化潛勢採用IPCC 第四次評估報告(2007)之數值。(U、AF、AQ欄位) | I6: -
A7: 表六 | B7: 數據品質管理 | C7: ◎ | E7: 提供自廠品質管理等及管控作業，主要利用活動數據、排放係數及儀器校正等項目進行數據品質分級管理評估 | F7: - | G7: 由於單一排放源之各類溫室氣體排放係數來源出處應相同，因此刪除以各類溫室氣體排放係數分列其數據品質，僅保留單一排放源排放係數之數據品質欄位。 G欄位，活動數據種類等級評分修改，財務會計推估之評分修改為3 | H7: - | I7: -
A8: 表七 | B8: 不確定性定量評估 | C8: ◎ | E8: 提供不確定性定量評估作業表單，主要利用活動數據及排放係數之不確定性數值，進行清冊不確定性量化評估 | F8: - | G8: O、P、W、X、AE、AF欄位鎖定位數至小數點後3位。 | H8: - | I8: -
A9: 表八 | B9: 溫室氣體排放量彙總 | C9: ◎ | E9: 包括填寫整廠電力資訊及展現各類溫室氣體排放量、數據品質及不確定性評估結果 | F9: - | G9: 因應溫室氣體排放量盤查登錄管理辦法規定將排放總量之小數位數由2位修改為3位。 另其餘溫室氣體排放量統計顯示至小數點後4位。 | H9: 彙整表六，修正進行不確定性量化分析之排放量占比之公式。(G27、H27、G29欄位) | I9: -
A10: 表九 | B10: 全廠電力、蒸汽供需情況 | C10: ◎ | E10: 填寫全廠電力及蒸汽生產及供應情況 | F10: - | G10: - | H10: 新增表單 | I10: -
A11: 附表一 | B11: 溫室氣體排放係數管理表 | C11: △ | E11: 適用盤查年度為2009年(含)後之對象，提供IPCC 2006年燃料燃燒CO2原始係數與95%信賴區間不確性%及能源局熱值 | F11: 修改(2020.01) | G11: 綜合各版次(6.0.1版與6.0.2版)之排放係數管理表 | H11: - | I11: 排放係數管理表更新為6.0.4版
A12: 附表二 | B12: GWP表 | C12: △ | E12: 溫暖化潛勢值(GWP)，包括IPCC之1995年、2001年、2007、2013年等年度。 | F12: - | G12: 新增AR5之GWP值 H2欄位修正為IPCC第五次評估報告(2013) | H12: - | I12: 新增氟化物
A13: 附表三 | B13: 郵遞區號 | C13: △ | E13: 國內地政資訊 | F13: - | H13: - | I13: -
A14: 附表四 | B14: 行業別分類表 | C14: △ | E14: 行業別之代碼與所對應名稱 | F14: - | G14: 調整為與登錄平台之內容設定一致 | H14: - | I14: -
A15: 附表五 | B15: 製程分類 | C15: △ | E15: 製程之代碼與所對應名稱 | F15: - | G15: 調整為與登錄平台之內容設定一致 | H15: - | I15: -
A16: 附表六 | B16: 設備分類表 | C16: △ | E16: 設備之代碼與所對應名稱 | F16: - | G16: 調整為與登錄平台之內容設定一致 | H16: - | I16: -
A17: 附表七 | B17: 原燃物料或產品分類表 | C17: △ | E17: 原燃物料或產品之代碼與所對應名稱 | F17: - | G17: 調整為與登錄平台之內容設定一致 新增GG3501認購綠電代碼 | H17: - | I17: 新增氟化物、電證合一代碼
A18: 註1：◎→必填；△→僅供參酌
A19: 註2：本盤查申報作業表單僅供單一管制編號進行溫室氣體盤查清冊資訊蒐集。
A20: 註3：工作表皆已設置保護程式，保護密碼為1234。
A21: 註4：＊為非必要填寫欄位。
A22: 註5：於盤查表單表中橘色欄位會提供下拉式選擇；灰色欄位會自動帶出資訊。

Sheet 表一
A1: 一、事業基本資料 | E1: 盤查日期： | G1: 民國109年01月01日 | O1: 盤查表單版次： | Q1: V1
A2: 盤查 年度 | C2: 基本資料 | Y2: 盤查及查證資訊 | AC2: 門檻值設定 | AF2: 備註
C3: 管制 編號 | D3: 事業名稱 | E3: 統一 編號 | F3: 工廠 登記證 編號 | G3: 縣 市 別 | H3: 鄉 鎮 別 | I3: 郵遞 區號3 | J3: 里 別* | K3: 鄰 別* | L3: 地址 | M3: 員工 人數* | N3: 負責人 姓名 | O3: 事業電子信箱(忘記密碼寄發信箱) | P3: 聯絡人資訊 | U3: 行業分類4 | Y3: 登錄 原因 | Z3: 盤查 依據 規範 | AA3: 是否經第三者查證 | AB3: 查驗 機構 名稱 | AC3: 顯著性門檻 | AD3: 實質性門檻 | AE3: 排除門檻
P4: 姓名 | Q4: 電話 | R4: 電子 信箱 | S4: 傳真* | T4: 手機 | U4: 行業代碼1 | V4: 行業名稱1 | W4: 行業代碼* | X4: 行業名稱2
A5: 民國 | B5: 109 | C5: A1234567 | D5: 環科工程顧問股份有限公司台北廠 | E5: 27718879 | G5: 臺北市 | H5: 大安區 | I5: =VLOOKUP(G5&H5,附表三!$B$4:$C$395,2,) -> 106 | L5: 忠孝東路四段280號 | M5: 100 | N5: 吳先生 | O5: 123abc@estc.tw | P5: 王小明 | Q5: (02)2775-3919#331 | U5: 2413 | V5: =VLOOKUP(U5,附表四!$B$2:$C$558,2,) -> 鋼鐵軋延及擠型業 | X5: =IFERROR(VLOOKUP(W5,附表四!$B$2:$C$558,2,),"") | Y5: 依法申報 | Z5: ISO / CNS 14064-1 | AA5: 是 | AB5: 立恩威國際驗證股份有限公司(DNV GL) | AC5: 0.03 | AD5: 0.05 | AE5: 0.005
A6: 填表說明
A7: 1. | B7: 白色底色欄位表示由使用者自行填寫之欄位；灰色底色欄位表示由表單自動產生之欄位（已設定公式）；橘色底色欄位為下拉式選項，由使用者選擇代入。
A8: 2. | B8: "*" 表非必填欄位。
A9: 3. | B9: 行業別代碼為4位數字，如為0500 石油及天然氣礦業，行業別代碼及其所對應名稱請參閱附表四。
A19: 連結設定
A20: 年度 | B20: 登錄原因 | C20: 盤查依據規範 | D20: 查驗機構
A21: 108 | B21: 自願性登錄 | C21: 溫室氣體排放量盤查登錄管理辦法/溫室氣體盤查登錄作業指引 | D21: 艾法諾國際股份有限公司(AFNOR)
A22: 109 | B22: 環評承諾 | C22: ISO / CNS 14064-1 | D22: 香港商英國標準協會太平洋有限公司台灣分公司(Bsi)
A23: 110 | B23: 依法登錄 | C23: 溫室氣體盤查議定書-企業會計與報告標準 | D23: 台灣衛理國際品保驗證股份有限公司(BV)
A24: 111 | B24: 其他 | C24: 溫室氣體排放量盤查登錄管理辦法/溫室氣體盤查登錄作業指引與ISO / CNS 14064-1 | D24: 立恩威國際驗證股份有限公司(DNV GL)
A25: 112 | C25: 溫室氣體排放量盤查登錄管理辦法/溫室氣體盤查登錄作業指引與溫室氣體盤查議定書-企業會計與報告標準 | D25: 英商勞氏檢驗股份有限公司台灣分公司(LRQA)
A26: 113 | C26: ISO / CNS 14064-1與溫室氣體盤查議定書-企業會計與報告標準 | D26: 台灣檢驗科技股份有限公司(SGS)
A27: 114 | C27: 溫室氣體排放量盤查登錄管理辦法/溫室氣體盤查登錄作業指引、ISO / CNS 14064-1與溫室氣體盤查議定書-企業會計與報告標準 | D27: 台灣德國萊因技術監護顧問股份有限公司(TÜV-Rh)
A28: 115 | D28: 無
A29: 116
A30: 117
A31: 118
A32: 119
A33: 120

Sheet 表二
A1: 二、邊界設定 | C1: 盤查日期： | E1: =表一!G1 -> 民國109年01月01日 | H1: =表一!O1 -> 盤查表單版次： | I1: =表一!Q1 -> V1
A2: (一) | B2: 場址外涵蓋區域* | C2: 餐廳
C3: 宿舍
C4: 宿舍
A5: (二) | B5: 場址內扣除區域*
A6: (三) | B6: 設定方法 | C6: 營運控制法
A7: 填表說明
A8: 1. | B8: 白色底色欄位表示由使用者自行填寫之欄位；灰色底色欄位表示由表單自動產生之欄位（已設定公式）；橘色底色欄位為下拉式選項，由使用者選擇代入。
A9: 2. | B9: "*" 表非必填欄位。

Sheet 表三
A1: 三、排放源鑑別 | D1: 盤查日期： | F1: =表一!G1 -> 民國109年01月01日 | G1: =表一!O1 -> 盤查表單版次： | I1: =表一!Q1 -> V1
A2: 製程 | D2: 設備 | G2: 原燃物料或產品 | K2: 排放源資料 | AL2: 可能產生溫室氣體種類12 | AS2: 是否屬汽電共生設備 | AT2: 備註* | BM2: a | BN2: CO2
A3: 編號3 | B3: 代碼4 | C3: 名稱 | D3: 編號5 | E3: 代碼6 | F3: 名稱 | G3: 類別7 | H3: 代碼8 | I3: 名稱 | J3: 是否屬生質能源 | K3: 範疇別9 | L3: 排放型式下拉式選單項目 | P3: 排放型式10 | Q3: 製程或逸散類別下拉式選單項目 | AK3: 製程/逸散/外購電力類別11 | AL3: CO2 | AM3: CH4 | AN3: N2O | AO3: HFCS | AP3: PFCS | AQ3: SF6 | AR3: NF3 | BM3: b | BN3: CH4
A4: G01 | B4: 000999 | C4: =IF(B4<>"",VLOOKUP(B4,附表五!$B$2:$C$1024,2,0),"") -> 其他未分類製程 | D4: GM01 | E4: 0201 | F4: =IF(E4<>"",VLOOKUP(E4,附表六!$B$2:$C$325,2,0),"") -> 柴油引擎 | G4: 1.原燃物料 | H4: 170006 | I4: =IF(H4<>"",VLOOKUP(H4,附表七!$B:$C,2,0),"") -> 柴油 | J4: 否 | K4: 範疇1 | L4: =IF(K4<>"",IF($K4="範疇2","外購電力","固定 (E)"),"") -> 固定 (E) | M4: =IF(K4<>"",IF($K4="範疇2","外購蒸汽","製程 (P)"),"") -> 製程 (P) | N4: =IF(K4<>"",IF($K4="範疇2","","移動 (T)"),"") -> 移動 (T) | O4: =IF(K4<>"",IF($K4="範疇2","","逸散 (F)"),"") -> 逸散 (F) | P4: 固定 (E) | Q4: =IF($P4<>"",IF($P4="外購電力","併網",IF($P4="製程 (P)","水泥製程",IF($P4="逸散 (F)","廢棄物排放源",""))),"") | R4: =IF($P4<>"",IF($P4="外購電力","離網",IF($P4="製程 (P)","鋼鐵製程-使用造渣劑",IF($P4="逸散 (F)","廢水排放源",""))),"") | S4: =IF($P4<>"",IF($P4="製程 (P)","鋼鐵製程-使用添加劑",IF($P4="逸散 (F)","廢棄污泥排放源","")),"") | T4: =IF($P4<>"",IF($P4="製程 (P)","鋼鐵製程-金屬進料",IF($P4="逸散 (F)","溶劑、噴霧劑及冷媒排放源","")),"") | U4: =IF($P4<>"",IF($P4="製程 (P)","鋼鐵製程-外售含碳產品(已知CO2排放係數",IF($P4="逸散 (F)","VOCs未經燃燒且含CH4","")),"") | V4: =IF($P4<>"",IF($P4="製程 (P)","鋼鐵製程-使用添加劑(預焙陽極炭塊與煤碳電極",IF($P4="逸散 (F)","已知VOCs濃度","")),"") | W4: =IF($P4<>"",IF($P4="製程 (P)","鋼鐵製程--外售含碳產品(已知含碳率)",IF($P4="逸散 (F)","未知VOCs濃度已知CO2排放係數","")),"") | X4: =IF($P4<>"",IF($P4="製程 (P)","半導體光電製程",IF($P4="逸散 (F)","化糞池排放源","")),"") | Y4: =IF($P4<>"",IF($P4="製程 (P)","石灰製程",IF($P4="逸散 (F)","其他","")),"") | Z4: =IF($P4<>"",IF($P4="製程 (P)","碳酸鈉製程-碳酸鈉製造",""),"") | AA4: =IF($P4<>"",IF($P4="製程 (P)","碳酸鈉製程-碳酸鈉使用",""),"") | AB4: =IF($P4<>"",IF($P4="製程 (P)","碳化物鈉製程-碳化矽製造",""),"") | AC4: =IF($P4<>"",IF($P4="製程 (P)","碳化物鈉製程-碳化鈣製造",""),"") | AD4: =IF($P4<>"",IF($P4="製程 (P)","碳化物鈉製程-碳化鈣使用",""),"") | AE4: =IF($P4<>"",IF($P4="製程 (P)","碳酸製程",""),"") | AF4: =IF($P4<>"",IF($P4="製程 (P)","已二酸製程",""),"") | AG4: =IF($P4<>"",IF($P4="製程 (P)","二氟一氯甲烷",""),"") | AH4: =IF($P4<>"",IF($P4="製程 (P)","乙炔-焊接維修製程",""),"") | AI4: =IF($P4<>"",IF($P4="製程 (P)","濕式排煙脫硫-石灰石製程",""),"") | AJ4: =IF($P4<>"",IF($P4="製程 (P)","其他",""),"") | AL4: v | AM4: v | AN4: v | AS4: 否 | AU4: =IF(AL4<>"",AL$3,"") -> CO2 | AV4: =IF(AM4<>"",AM$3,"") -> CH4 | AW4: =IF(AN4<>"",AN$3,"") -> N2O | AX4: =IF(AO4<>"",AO$3,"") | AY4: =IF(AP4<>"",AP$3,"") | AZ4: =IF(AQ4<>"",AQ$3,"") | BA4: =IF(AR4<>"",AR$3,"") | BB4: =IF(AL4<>"","a","") -> a | BC4: =IF(AM4<>"","b","") -> b | BD4: =IF(AN4<>"","c","") -> c | BE4: =IF(AO4<>"","d","") | BF4: =IF(AP4<>"","e","") | BG4: =IF(AQ4<>"","f","") | BH4: =IF(AR4<>"","g","") | BI4: =BB4&BC4&BD4&BE4&BF4&BG4&BH4 -> abc | BJ4: =IF(BI4="","",VLOOKUP($BI4,$BM$2:$BP$57,2,0)) -> CO2 | BK4: =IF(BI4="","",VLOOKUP($BI4,$BM$2:$BP$57,3,0)) -> CH4 | BL4: =IF(BI4="","",VLOOKUP($BI4,$BM$2:$BP$57,4,0)) -> N2O | BM4: c | BN4: N2O
A5: G02 | B5: 000999 | C5: =IF(B5<>"",VLOOKUP(B5,附表五!$B$2:$C$1024,2,0),"") -> 其他未分類製程 | D5: GM02 | E5: 0200 | F5: =IF(E5<>"",VLOOKUP(E5,附表六!$B$2:$C$325,2,0),"") -> 汽油引擎 | G5: 1.原燃物料 | H5: 170099 | I5: =IF(H5<>"",VLOOKUP(H5,附表七!$B:$C,2,0),"") -> 其他汽油 | J5: 否 | K5: 範疇1 | L5: =IF(K5<>"",IF($K5="範疇2","外購電力","固定 (E)"),"") -> 固定 (E) | M5: =IF(K5<>"",IF($K5="範疇2","外購蒸汽","製程 (P)"),"") -> 製程 (P) | N5: =IF(K5<>"",IF($K5="範疇2","","移動 (T)"),"") -> 移動 (T) | O5: =IF(K5<>"",IF($K5="範疇2","","逸散 (F)"),"") -> 逸散 (F) | P5: 固定 (E) | Q5: =IF($P5<>"",IF($P5="外購電力","併網",IF($P5="製程 (P)","水泥製程",IF($P5="逸散 (F)","廢棄物排放源",""))),"") | R5: =IF($P5<>"",IF($P5="外購電力","離網",IF($P5="製程 (P)","鋼鐵製程-使用造渣劑",IF($P5="逸散 (F)","廢水排放源",""))),"") | S5: =IF($P5<>"",IF($P5="製程 (P)","鋼鐵製程-使用添加劑",IF($P5="逸散 (F)","廢棄污泥排放源","")),"") | T5: =IF($P5<>"",IF($P5="製程 (P)","鋼鐵製程-金屬進料",IF($P5="逸散 (F)","溶劑、噴霧劑及冷媒排放源","")),"") | U5: =IF($P5<>"",IF($P5="製程 (P)","鋼鐵製程-外售含碳產品(已知CO2排放係數",IF($P5="逸散 (F)","VOCs未經燃燒且含CH4","")),"") | V5: =IF($P5<>"",IF($P5="製程 (P)","鋼鐵製程-使用添加劑(預焙陽極炭塊與煤碳電極",IF($P5="逸散 (F)","已知VOCs濃度","")),"") | W5: =IF($P5<>"",IF($P5="製程 (P)","鋼鐵製程--外售含碳產品(已知含碳率)",IF($P5="逸散 (F)","未知VOCs濃度已知CO2排放係數","")),"") | X5: =IF($P5<>"",IF($P5="製程 (P)","半導體光電製程",IF($P5="逸散 (F)","化糞池排放源","")),"") | Y5: =IF($P5<>"",IF($P5="製程 (P)","石灰製程",IF($P5="逸散 (F)","其他","")),"") | Z5: =IF($P5<>"",IF($P5="製程 (P)","碳酸鈉製程-碳酸鈉製造",""),"") | AA5: =IF($P5<>"",IF($P5="製程 (P)","碳酸鈉製程-碳酸鈉使用",""),"") | AB5: =IF($P5<>"",IF($P5="製程 (P)","碳化物鈉製程-碳化矽製造",""),"") | AC5: =IF($P5<>"",IF($P5="製程 (P)","碳化物鈉製程-碳化鈣製造",""),"") | AD5: =IF($P5<>"",IF($P5="製程 (P)","碳化物鈉製程-碳化鈣使用",""),"") | AE5: =IF($P5<>"",IF($P5="製程 (P)","碳酸製程",""),"") | AF5: =IF($P5<>"",IF($P5="製程 (P)","已二酸製程",""),"") | AG5: =IF($P5<>"",IF($P5="製程 (P)","二氟一氯甲烷",""),"") | AH5: =IF($P5<>"",IF($P5="製程 (P)","乙炔-焊接維修製程",""),"") | AI5: =IF($P5<>"",IF($P5="製程 (P)","濕式排煙脫硫-石灰石製程",""),"") | AJ5: =IF($P5<>"",IF($P5="製程 (P)","其他",""),"") | AL5: v | AM5: v | AN5: v | AS5: 否 | AU5: =IF(AL5<>"",AL$3,"") -> CO2 | AV5: =IF(AM5<>"",AM$3,"") -> CH4 | AW5: =IF(AN5<>"",AN$3,"") -> N2O | AX5: =IF(AO5<>"",AO$3,"") | AY5: =IF(AP5<>"",AP$3,"") | AZ5: =IF(AQ5<>"",AQ$3,"") | BA5: =IF(AR5<>"",AR$3,"") | BB5: =IF(AL5<>"","a","") -> a | BC5: =IF(AM5<>"","b","") -> b | BD5: =IF(AN5<>"","c","") -> c | BE5: =IF(AO5<>"","d","") | BF5: =IF(AP5<>"","e","") | BG5: =IF(AQ5<>"","f","") | BH5: =IF(AR5<>"","g","") | BI5: =BB5&BC5&BD5&BE5&BF5&BG5&BH5 -> abc | BJ5: =IF(BI5="","",VLOOKUP($BI5,$BM$2:$BP$57,2,0)) -> CO2 | BK5: =IF(BI5="","",VLOOKUP($BI5,$BM$2:$BP$57,3,0)) -> CH4 | BL5: =IF(BI5="","",VLOOKUP($BI5,$BM$2:$BP$57,4,0)) -> N2O | BM5: d | BN5: HFCS
A6: G03 | B6: G20902 | C6: =IF(B6<>"",VLOOKUP(B6,附表五!$B$2:$C$1024,2,0),"") -> 維修保養程序 | D6: GM03 | E6: 6099 | F6: =IF(E6<>"",VLOOKUP(E6,附表六!$B$2:$C$325,2,0),"") -> 其他切割設施 | G6: 1.原燃物料 | H6: 180191 | I6: =IF(H6<>"",VLOOKUP(H6,附表七!$B:$C,2,0),"") -> 乙炔 | J6: 否 | K6: 範疇1 | L6: =IF(K6<>"",IF($K6="範疇2","外購電力","固定 (E)"),"") -> 固定 (E) | M6: =IF(K6<>"",IF($K6="範疇2","外購蒸汽","製程 (P)"),"") -> 製程 (P) | N6: =IF(K6<>"",IF($K6="範疇2","","移動 (T)"),"") -> 移動 (T) | O6: =IF(K6<>"",IF($K6="範疇2","","逸散 (F)"),"") -> 逸散 (F) | P6: 製程 (P) | Q6: =IF($P6<>"",IF($P6="外購電力","併網",IF($P6="製程 (P)","水泥製程",IF($P6="逸散 (F)","廢棄物排放源",""))),"") -> 水泥製程 | R6: =IF($P6<>"",IF($P6="外購電力","離網",IF($P6="製程 (P)","鋼鐵製程-使用造渣劑",IF($P6="逸散 (F)","廢水排放源",""))),"") -> 鋼鐵製程-使用造渣劑 | S6: =IF($P6<>"",IF($P6="製程 (P)","鋼鐵製程-使用添加劑",IF($P6="逸散 (F)","廢棄污泥排放源","")),"") -> 鋼鐵製程-使用添加劑 | T6: =IF($P6<>"",IF($P6="製程 (P)","鋼鐵製程-金屬進料",IF($P6="逸散 (F)","溶劑、噴霧劑及冷媒排放源","")),"") -> 鋼鐵製程-金屬進料 | U6: =IF($P6<>"",IF($P6="製程 (P)","鋼鐵製程-外售含碳產品(已知CO2排放係數",IF($P6="逸散 (F)","VOCs未經燃燒且含CH4","")),"") -> 鋼鐵製程-外售含碳產品(已知CO2排放係數 | V6: =IF($P6<>"",IF($P6="製程 (P)","鋼鐵製程-使用添加劑(預焙陽極炭塊與煤碳電極",IF($P6="逸散 (F)","已知VOCs濃度","")),"") -> 鋼鐵製程-使用添加劑(預焙陽極炭塊與煤碳電極 | W6: =IF($P6<>"",IF($P6="製程 (P)","鋼鐵製程--外售含碳產品(已知含碳率)",IF($P6="逸散 (F)","未知VOCs濃度已知CO2排放係數","")),"") -> 鋼鐵製程--外售含碳產品(已知含碳率) | X6: =IF($P6<>"",IF($P6="製程 (P)","半導體光電製程",IF($P6="逸散 (F)","化糞池排放源","")),"") -> 半導體光電製程 | Y6: =IF($P6<>"",IF($P6="製程 (P)","石灰製程",IF($P6="逸散 (F)","其他","")),"") -> 石灰製程 | Z6: =IF($P6<>"",IF($P6="製程 (P)","碳酸鈉製程-碳酸鈉製造",""),"") -> 碳酸鈉製程-碳酸鈉製造 | AA6: =IF($P6<>"",IF($P6="製程 (P)","碳酸鈉製程-碳酸鈉使用",""),"") -> 碳酸鈉製程-碳酸鈉使用 | AB6: =IF($P6<>"",IF($P6="製程 (P)","碳化物鈉製程-碳化矽製造",""),"") -> 碳化物鈉製程-碳化矽製造 | AC6: =IF($P6<>"",IF($P6="製程 (P)","碳化物鈉製程-碳化鈣製造",""),"") -> 碳化物鈉製程-碳化鈣製造 | AD6: =IF($P6<>"",IF($P6="製程 (P)","碳化物鈉製程-碳化鈣使用",""),"") -> 碳化物鈉製程-碳化鈣使用 | AE6: =IF($P6<>"",IF($P6="製程 (P)","碳酸製程",""),"") -> 碳酸製程 | AF6: =IF($P6<>"",IF($P6="製程 (P)","已二酸製程",""),"") -> 已二酸製程 | AG6: =IF($P6<>"",IF($P6="製程 (P)","二氟一氯甲烷",""),"") -> 二氟一氯甲烷 | AH6: =IF($P6<>"",IF($P6="製程 (P)","乙炔-焊接維修製程",""),"") -> 乙炔-焊接維修製程 | AI6: =IF($P6<>"",IF($P6="製程 (P)","濕式排煙脫硫-石灰石製程",""),"") -> 濕式排煙脫硫-石灰石製程 | AJ6: =IF($P6<>"",IF($P6="製程 (P)","其他",""),"") -> 其他 | AL6: v | AS6: 否 | AU6: =IF(AL6<>"",AL$3,"") -> CO2 | AV6: =IF(AM6<>"",AM$3,"") | AW6: =IF(AN6<>"",AN$3,"") | AX6: =IF(AO6<>"",AO$3,"") | AY6: =IF(AP6<>"",AP$3,"") | AZ6: =IF(AQ6<>"",AQ$3,"") | BA6: =IF(AR6<>"",AR$3,"") | BB6: =IF(AL6<>"","a","") -> a | BC6: =IF(AM6<>"","b","") | BD6: =IF(AN6<>"","c","") | BE6: =IF(AO6<>"","d","") | BF6: =IF(AP6<>"","e","") | BG6: =IF(AQ6<>"","f","") | BH6: =IF(AR6<>"","g","") | BI6: =BB6&BC6&BD6&BE6&BF6&BG6&BH6 -> a | BJ6: =IF(BI6="","",VLOOKUP($BI6,$BM$2:$BP$57,2,0)) -> CO2 | BK6: =IF(BI6="","",VLOOKUP($BI6,$BM$2:$BP$57,3,0)) -> 0 | BL6: =IF(BI6="","",VLOOKUP($BI6,$BM$2:$BP$57,4,0)) -> 0 | BM6: e | BN6: PFCS
A7: M01 | B7: 350001 | C7: =IF(B7<>"",VLOOKUP(B7,附表五!$B$2:$C$1024,2,0),"") -> 鍋爐發電程序 | D7: E212 | E7: 0010 | F7: =IF(E7<>"",VLOOKUP(E7,附表六!$B$2:$C$325,2,0),"") -> 燃油鍋爐 | G7: 1.原燃物料 | H7: 170019 | I7: =IF(H7<>"",VLOOKUP(H7,附表七!$B:$C,2,0),"") -> ４～６號重油 | J7: 否 | K7: 範疇1 | L7: =IF(K7<>"",IF($K7="範疇2","外購電力","固定 (E)"),"") -> 固定 (E) | M7: =IF(K7<>"",IF($K7="範疇2","外購蒸汽","製程 (P)"),"") -> 製程 (P) | N7: =IF(K7<>"",IF($K7="範疇2","","移動 (T)"),"") -> 移動 (T) | O7: =IF(K7<>"",IF($K7="範疇2","","逸散 (F)"),"") -> 逸散 (F) | P7: 固定 (E) | Q7: =IF($P7<>"",IF($P7="外購電力","併網",IF($P7="製程 (P)","水泥製程",IF($P7="逸散 (F)","廢棄物排放源",""))),"") | R7: =IF($P7<>"",IF($P7="外購電力","離網",IF($P7="製程 (P)","鋼鐵製程-使用造渣劑",IF($P7="逸散 (F)","廢水排放源",""))),"") | S7: =IF($P7<>"",IF($P7="製程 (P)","鋼鐵製程-使用添加劑",IF($P7="逸散 (F)","廢棄污泥排放源","")),"") | T7: =IF($P7<>"",IF($P7="製程 (P)","鋼鐵製程-金屬進料",IF($P7="逸散 (F)","溶劑、噴霧劑及冷媒排放源","")),"") | U7: =IF($P7<>"",IF($P7="製程 (P)","鋼鐵製程-外售含碳產品(已知CO2排放係數",IF($P7="逸散 (F)","VOCs未經燃燒且含CH4","")),"") | V7: =IF($P7<>"",IF($P7="製程 (P)","鋼鐵製程-使用添加劑(預焙陽極炭塊與煤碳電極",IF($P7="逸散 (F)","已知VOCs濃度","")),"") | W7: =IF($P7<>"",IF($P7="製程 (P)","鋼鐵製程--外售含碳產品(已知含碳率)",IF($P7="逸散 (F)","未知VOCs濃度已知CO2排放係數","")),"") | X7: =IF($P7<>"",IF($P7="製程 (P)","半導體光電製程",IF($P7="逸散 (F)","化糞池排放源","")),"") | Y7: =IF($P7<>"",IF($P7="製程 (P)","石灰製程",IF($P7="逸散 (F)","其他","")),"") | Z7: =IF($P7<>"",IF($P7="製程 (P)","碳酸鈉製程-碳酸鈉製造",""),"") | AA7: =IF($P7<>"",IF($P7="製程 (P)","碳酸鈉製程-碳酸鈉使用",""),"") | AB7: =IF($P7<>"",IF($P7="製程 (P)","碳化物鈉製程-碳化矽製造",""),"") | AC7: =IF($P7<>"",IF($P7="製程 (P)","碳化物鈉製程-碳化鈣製造",""),"") | AD7: =IF($P7<>"",IF($P7="製程 (P)","碳化物鈉製程-碳化鈣使用",""),"") | AE7: =IF($P7<>"",IF($P7="製程 (P)","碳酸製程",""),"") | AF7: =IF($P7<>"",IF($P7="製程 (P)","已二酸製程",""),"") | AG7: =IF($P7<>"",IF($P7="製程 (P)","二氟一氯甲烷",""),"") | AH7: =IF($P7<>"",IF($P7="製程 (P)","乙炔-焊接維修製程",""),"") | AI7: =IF($P7<>"",IF($P7="製程 (P)","濕式排煙脫硫-石灰石製程",""),"") | AJ7: =IF($P7<>"",IF($P7="製程 (P)","其他",""),"") | AL7: v | AM7: v | AN7: v | AS7: 否 | AU7: =IF(AL7<>"",AL$3,"") -> CO2 | AV7: =IF(AM7<>"",AM$3,"") -> CH4 | AW7: =IF(AN7<>"",AN$3,"") -> N2O | AX7: =IF(AO7<>"",AO$3,"") | AY7: =IF(AP7<>"",AP$3,"") | AZ7: =IF(AQ7<>"",AQ$3,"") | BA7: =IF(AR7<>"",AR$3,"") | BB7: =IF(AL7<>"","a","") -> a | BC7: =IF(AM7<>"","b","") -> b | BD7: =IF(AN7<>"","c","") -> c | BE7: =IF(AO7<>"","d","") | BF7: =IF(AP7<>"","e","") | BG7: =IF(AQ7<>"","f","") | BH7: =IF(AR7<>"","g","") | BI7: =BB7&BC7&BD7&BE7&BF7&BG7&BH7 -> abc | BJ7: =IF(BI7="","",VLOOKUP($BI7,$BM$2:$BP$57,2,0)) -> CO2 | BK7: =IF(BI7="","",VLOOKUP($BI7,$BM$2:$BP$57,3,0)) -> CH4 | BL7: =IF(BI7="","",VLOOKUP($BI7,$BM$2:$BP$57,4,0)) -> N2O | BM7: f | BN7: SF6
A8: M02 | B8: 350001 | C8: =IF(B8<>"",VLOOKUP(B8,附表五!$B$2:$C$1024,2,0),"") -> 鍋爐發電程序 | D8: E213 | E8: 0020 | F8: =IF(E8<>"",VLOOKUP(E8,附表六!$B$2:$C$325,2,0),"") -> 燃氣鍋爐 | G8: 1.原燃物料 | H8: 050002 | I8: =IF(H8<>"",VLOOKUP(H8,附表七!$B:$C,2,0),"") -> 天然氣 | J8: 否 | K8: 範疇1 | L8: =IF(K8<>"",IF($K8="範疇2","外購電力","固定 (E)"),"") -> 固定 (E) | M8: =IF(K8<>"",IF($K8="範疇2","外購蒸汽","製程 (P)"),"") -> 製程 (P) | N8: =IF(K8<>"",IF($K8="範疇2","","移動 (T)"),"") -> 移動 (T) | O8: =IF(K8<>"",IF($K8="範疇2","","逸散 (F)"),"") -> 逸散 (F) | P8: 固定 (E) | Q8: =IF($P8<>"",IF($P8="外購電力","併網",IF($P8="製程 (P)","水泥製程",IF($P8="逸散 (F)","廢棄物排放源",""))),"") | R8: =IF($P8<>"",IF($P8="外購電力","離網",IF($P8="製程 (P)","鋼鐵製程-使用造渣劑",IF($P8="逸散 (F)","廢水排放源",""))),"") | S8: =IF($P8<>"",IF($P8="製程 (P)","鋼鐵製程-使用添加劑",IF($P8="逸散 (F)","廢棄污泥排放源","")),"") | T8: =IF($P8<>"",IF($P8="製程 (P)","鋼鐵製程-金屬進料",IF($P8="逸散 (F)","溶劑、噴霧劑及冷媒排放源","")),"") | U8: =IF($P8<>"",IF($P8="製程 (P)","鋼鐵製程-外售含碳產品(已知CO2排放係數",IF($P8="逸散 (F)","VOCs未經燃燒且含CH4","")),"") | V8: =IF($P8<>"",IF($P8="製程 (P)","鋼鐵製程-使用添加劑(預焙陽極炭塊與煤碳電極",IF($P8="逸散 (F)","已知VOCs濃度","")),"") | W8: =IF($P8<>"",IF($P8="製程 (P)","鋼鐵製程--外售含碳產品(已知含碳率)",IF($P8="逸散 (F)","未知VOCs濃度已知CO2排放係數","")),"") | X8: =IF($P8<>"",IF($P8="製程 (P)","半導體光電製程",IF($P8="逸散 (F)","化糞池排放源","")),"") | Y8: =IF($P8<>"",IF($P8="製程 (P)","石灰製程",IF($P8="逸散 (F)","其他","")),"") | Z8: =IF($P8<>"",IF($P8="製程 (P)","碳酸鈉製程-碳酸鈉製造",""),"") | AA8: =IF($P8<>"",IF($P8="製程 (P)","碳酸鈉製程-碳酸鈉使用",""),"") | AB8: =IF($P8<>"",IF($P8="製程 (P)","碳化物鈉製程-碳化矽製造",""),"") | AC8: =IF($P8<>"",IF($P8="製程 (P)","碳化物鈉製程-碳化鈣製造",""),"") | AD8: =IF($P8<>"",IF($P8="製程 (P)","碳化物鈉製程-碳化鈣使用",""),"") | AE8: =IF($P8<>"",IF($P8="製程 (P)","碳酸製程",""),"") | AF8: =IF($P8<>"",IF($P8="製程 (P)","已二酸製程",""),"") | AG8: =IF($P8<>"",IF($P8="製程 (P)","二氟一氯甲烷",""),"") | AH8: =IF($P8<>"",IF($P8="製程 (P)","乙炔-焊接維修製程",""),"") | AI8: =IF($P8<>"",IF($P8="製程 (P)","濕式排煙脫硫-石灰石製程",""),"") | AJ8: =IF($P8<>"",IF($P8="製程 (P)","其他",""),"") | AL8: v | AM8: v | AN8: v | AS8: 否 | AU8: =IF(AL8<>"",AL$3,"") -> CO2 | AV8: =IF(AM8<>"",AM$3,"") -> CH4 | AW8: =IF(AN8<>"",AN$3,"") -> N2O | AX8: =IF(AO8<>"",AO$3,"") | AY8: =IF(AP8<>"",AP$3,"") | AZ8: =IF(AQ8<>"",AQ$3,"") | BA8: =IF(AR8<>"",AR$3,"") | BB8: =IF(AL8<>"","a","") -> a | BC8: =IF(AM8<>"","b","") -> b | BD8: =IF(AN8<>"","c","") -> c | BE8: =IF(AO8<>"","d","") | BF8: =IF(AP8<>"","e","") | BG8: =IF(AQ8<>"","f","") | BH8: =IF(AR8<>"","g","") | BI8: =BB8&BC8&BD8&BE8&BF8&BG8&BH8 -> abc | BJ8: =IF(BI8="","",VLOOKUP($BI8,$BM$2:$BP$57,2,0)) -> CO2 | BK8: =IF(BI8="","",VLOOKUP($BI8,$BM$2:$BP$57,3,0)) -> CH4 | BL8: =IF(BI8="","",VLOOKUP($BI8,$BM$2:$BP$57,4,0)) -> N2O | BM8: g | BN8: NF3
A9: G04 | B9: G20900 | C9: =IF(B9<>"",VLOOKUP(B9,附表五!$B$2:$C$1024,2,0),"") -> 交通運輸活動 | D9: GV01 | E9: 0200 | F9: =IF(E9<>"",VLOOKUP(E9,附表六!$B$2:$C$325,2,0),"") -> 汽油引擎 | G9: 1.原燃物料 | H9: 170001 | I9: =IF(H9<>"",VLOOKUP(H9,附表七!$B:$C,2,0),"") -> 車用汽油 | J9: 否 | K9: 範疇1 | L9: =IF(K9<>"",IF($K9="範疇2","外購電力","固定 (E)"),"") -> 固定 (E) | M9: =IF(K9<>"",IF($K9="範疇2","外購蒸汽","製程 (P)"),"") -> 製程 (P) | N9: =IF(K9<>"",IF($K9="範疇2","","移動 (T)"),"") -> 移動 (T) | O9: =IF(K9<>"",IF($K9="範疇2","","逸散 (F)"),"") -> 逸散 (F) | P9: 移動 (T) | Q9: =IF($P9<>"",IF($P9="外購電力","併網",IF($P9="製程 (P)","水泥製程",IF($P9="逸散 (F)","廢棄物排放源",""))),"") | R9: =IF($P9<>"",IF($P9="外購電力","離網",IF($P9="製程 (P)","鋼鐵製程-使用造渣劑",IF($P9="逸散 (F)","廢水排放源",""))),"") | S9: =IF($P9<>"",IF($P9="製程 (P)","鋼鐵製程-使用添加劑",IF($P9="逸散 (F)","廢棄污泥排放源","")),"") | T9: =IF($P9<>"",IF($P9="製程 (P)","鋼鐵製程-金屬進料",IF($P9="逸散 (F)","溶劑、噴霧劑及冷媒排放源","")),"") | U9: =IF($P9<>"",IF($P9="製程 (P)","鋼鐵製程-外售含碳產品(已知CO2排放係數",IF($P9="逸散 (F)","VOCs未經燃燒且含CH4","")),"") | V9: =IF($P9<>"",IF($P9="製程 (P)","鋼鐵製程-使用添加劑(預焙陽極炭塊與煤碳電極",IF($P9="逸散 (F)","已知VOCs濃度","")),"") | W9: =IF($P9<>"",IF($P9="製程 (P)","鋼鐵製程--外售含碳產品(已知含碳率)",IF($P9="逸散 (F)","未知VOCs濃度已知CO2排放係數","")),"") | X9: =IF($P9<>"",IF($P9="製程 (P)","半導體光電製程",IF($P9="逸散 (F)","化糞池排放源","")),"") | Y9: =IF($P9<>"",IF($P9="製程 (P)","石灰製程",IF($P9="逸散 (F)","其他","")),"") | Z9: =IF($P9<>"",IF($P9="製程 (P)","碳酸鈉製程-碳酸鈉製造",""),"") | AA9: =IF($P9<>"",IF($P9="製程 (P)","碳酸鈉製程-碳酸鈉使用",""),"") | AB9: =IF($P9<>"",IF($P9="製程 (P)","碳化物鈉製程-碳化矽製造",""),"") | AC9: =IF($P9<>"",IF($P9="製程 (P)","碳化物鈉製程-碳化鈣製造",""),"") | AD9: =IF($P9<>"",IF($P9="製程 (P)","碳化物鈉製程-碳化鈣使用",""),"") | AE9: =IF($P9<>"",IF($P9="製程 (P)","碳酸製程",""),"") | AF9: =IF($P9<>"",IF($P9="製程 (P)","已二酸製程",""),"") | AG9: =IF($P9<>"",IF($P9="製程 (P)","二氟一氯甲烷",""),"") | AH9: =IF($P9<>"",IF($P9="製程 (P)","乙炔-焊接維修製程",""),"") | AI9: =IF($P9<>"",IF($P9="製程 (P)","濕式排煙脫硫-石灰石製程",""),"") | AJ9: =IF($P9<>"",IF($P9="製程 (P)","其他",""),"") | AL9: v | AM9: v | AN9: v | AS9: 否 | AU9: =IF(AL9<>"",AL$3,"") -> CO2 | AV9: =IF(AM9<>"",AM$3,"") -> CH4 | AW9: =IF(AN9<>"",AN$3,"") -> N2O | AX9: =IF(AO9<>"",AO$3,"") | AY9: =IF(AP9<>"",AP$3,"") | AZ9: =IF(AQ9<>"",AQ$3,"") | BA9: =IF(AR9<>"",AR$3,"") | BB9: =IF(AL9<>"","a","") -> a | BC9: =IF(AM9<>"","b","") -> b | BD9: =IF(AN9<>"","c","") -> c | BE9: =IF(AO9<>"","d","") | BF9: =IF(AP9<>"","e","") | BG9: =IF(AQ9<>"","f","") | BH9: =IF(AR9<>"","g","") | BI9: =BB9&BC9&BD9&BE9&BF9&BG9&BH9 -> abc | BJ9: =IF(BI9="","",VLOOKUP($BI9,$BM$2:$BP$57,2,0)) -> CO2 | BK9: =IF(BI9="","",VLOOKUP($BI9,$BM$2:$BP$57,3,0)) -> CH4 | BL9: =IF(BI9="","",VLOOKUP($BI9,$BM$2:$BP$57,4,0)) -> N2O | BM9: ab | BN9: CO2 | BO9: CH4
A10: G04 | B10: G20900 | C10: =IF(B10<>"",VLOOKUP(B10,附表五!$B$2:$C$1024,2,0),"") -> 交通運輸活動 | D10: GV02 | E10: 0200 | F10: =IF(E10<>"",VLOOKUP(E10,附表六!$B$2:$C$325,2,0),"") -> 汽油引擎 | G10: 1.原燃物料 | H10: 170001 | I10: =IF(H10<>"",VLOOKUP(H10,附表七!$B:$C,2,0),"") -> 車用汽油 | J10: 否 | K10: 範疇1 | L10: =IF(K10<>"",IF($K10="範疇2","外購電力","固定 (E)"),"") -> 固定 (E) | M10: =IF(K10<>"",IF($K10="範疇2","外購蒸汽","製程 (P)"),"") -> 製程 (P) | N10: =IF(K10<>"",IF($K10="範疇2","","移動 (T)"),"") -> 移動 (T) | O10: =IF(K10<>"",IF($K10="範疇2","","逸散 (F)"),"") -> 逸散 (F) | P10: 移動 (T) | Q10: =IF($P10<>"",IF($P10="外購電力","併網",IF($P10="製程 (P)","水泥製程",IF($P10="逸散 (F)","廢棄物排放源",""))),"") | R10: =IF($P10<>"",IF($P10="外購電力","離網",IF($P10="製程 (P)","鋼鐵製程-使用造渣劑",IF($P10="逸散 (F)","廢水排放源",""))),"") | S10: =IF($P10<>"",IF($P10="製程 (P)","鋼鐵製程-使用添加劑",IF($P10="逸散 (F)","廢棄污泥排放源","")),"") | T10: =IF($P10<>"",IF($P10="製程 (P)","鋼鐵製程-金屬進料",IF($P10="逸散 (F)","溶劑、噴霧劑及冷媒排放源","")),"") | U10: =IF($P10<>"",IF($P10="製程 (P)","鋼鐵製程-外售含碳產品(已知CO2排放係數",IF($P10="逸散 (F)","VOCs未經燃燒且含CH4","")),"") | V10: =IF($P10<>"",IF($P10="製程 (P)","鋼鐵製程-使用添加劑(預焙陽極炭塊與煤碳電極",IF($P10="逸散 (F)","已知VOCs濃度","")),"") | W10: =IF($P10<>"",IF($P10="製程 (P)","鋼鐵製程--外售含碳產品(已知含碳率)",IF($P10="逸散 (F)","未知VOCs濃度已知CO2排放係數","")),"") | X10: =IF($P10<>"",IF($P10="製程 (P)","半導體光電製程",IF($P10="逸散 (F)","化糞池排放源","")),"") | Y10: =IF($P10<>"",IF($P10="製程 (P)","石灰製程",IF($P10="逸散 (F)","其他","")),"") | Z10: =IF($P10<>"",IF($P10="製程 (P)","碳酸鈉製程-碳酸鈉製造",""),"") | AA10: =IF($P10<>"",IF($P10="製程 (P)","碳酸鈉製程-碳酸鈉使用",""),"") | AB10: =IF($P10<>"",IF($P10="製程 (P)","碳化物鈉製程-碳化矽製造",""),"") | AC10: =IF($P10<>"",IF($P10="製程 (P)","碳化物鈉製程-碳化鈣製造",""),"") | AD10: =IF($P10<>"",IF($P10="製程 (P)","碳化物鈉製程-碳化鈣使用",""),"") | AE10: =IF($P10<>"",IF($P10="製程 (P)","碳酸製程",""),"") | AF10: =IF($P10<>"",IF($P10="製程 (P)","已二酸製程",""),"") | AG10: =IF($P10<>"",IF($P10="製程 (P)","二氟一氯甲烷",""),"") | AH10: =IF($P10<>"",IF($P10="製程 (P)","乙炔-焊接維修製程",""),"") | AI10: =IF($P10<>"",IF($P10="製程 (P)","濕式排煙脫硫-石灰石製程",""),"") | AJ10: =IF($P10<>"",IF($P10="製程 (P)","其他",""),"") | AL10: v | AM10: v | AN10: v | AS10: 否 | AU10: =IF(AL10<>"",AL$3,"") -> CO2 | AV10: =IF(AM10<>"",AM$3,"") -> CH4 | AW10: =IF(AN10<>"",AN$3,"") -> N2O | AX10: =IF(AO10<>"",AO$3,"") | AY10: =IF(AP10<>"",AP$3,"") | AZ10: =IF(AQ10<>"",AQ$3,"") | BA10: =IF(AR10<>"",AR$3,"") | BB10: =IF(AL10<>"","a","") -> a | BC10: =IF(AM10<>"","b","") -> b | BD10: =IF(AN10<>"","c","") -> c | BE10: =IF(AO10<>"","d","") | BF10: =IF(AP10<>"","e","") | BG10: =IF(AQ10<>"","f","") | BH10: =IF(AR10<>"","g","") | BI10: =BB10&BC10&BD10&BE10&BF10&BG10&BH10 -> abc | BJ10: =IF(BI10="","",VLOOKUP($BI10,$BM$2:$BP$57,2,0)) -> CO2 | BK10: =IF(BI10="","",VLOOKUP($BI10,$BM$2:$BP$57,3,0)) -> CH4 | BL10: =IF(BI10="","",VLOOKUP($BI10,$BM$2:$BP$57,4,0)) -> N2O | BM10: ac | BN10: CO2 | BO10: N2O
A11: G03 | B11: G20901 | C11: =IF(B11<>"",VLOOKUP(B11,附表五!$B$2:$C$1024,2,0),"") -> 消防活動 | D11: GF01 | E11: 9798 | F11: =IF(E11<>"",VLOOKUP(E11,附表六!$B$2:$C$325,2,0),"") -> 消防設施 | G11: 1.原燃物料 | H11: 180014 | I11: =IF(H11<>"",VLOOKUP(H11,附表七!$B:$C,2,0),"") -> 二氧化碳 | J11: 否 | K11: 範疇1 | L11: =IF(K11<>"",IF($K11="範疇2","外購電力","固定 (E)"),"") -> 固定 (E) | M11: =IF(K11<>"",IF($K11="範疇2","外購蒸汽","製程 (P)"),"") -> 製程 (P) | N11: =IF(K11<>"",IF($K11="範疇2","","移動 (T)"),"") -> 移動 (T) | O11: =IF(K11<>"",IF($K11="範疇2","","逸散 (F)"),"") -> 逸散 (F) | P11: 逸散 (F) | Q11: =IF($P11<>"",IF($P11="外購電力","併網",IF($P11="製程 (P)","水泥製程",IF($P11="逸散 (F)","廢棄物排放源",""))),"") -> 廢棄物排放源 | R11: =IF($P11<>"",IF($P11="外購電力","離網",IF($P11="製程 (P)","鋼鐵製程-使用造渣劑",IF($P11="逸散 (F)","廢水排放源",""))),"") -> 廢水排放源 | S11: =IF($P11<>"",IF($P11="製程 (P)","鋼鐵製程-使用添加劑",IF($P11="逸散 (F)","廢棄污泥排放源","")),"") -> 廢棄污泥排放源 | T11: =IF($P11<>"",IF($P11="製程 (P)","鋼鐵製程-金屬進料",IF($P11="逸散 (F)","溶劑、噴霧劑及冷媒排放源","")),"") -> 溶劑、噴霧劑及冷媒排放源 | U11: =IF($P11<>"",IF($P11="製程 (P)","鋼鐵製程-外售含碳產品(已知CO2排放係數",IF($P11="逸散 (F)","VOCs未經燃燒且含CH4","")),"") -> VOCs未經燃燒且含CH4 | V11: =IF($P11<>"",IF($P11="製程 (P)","鋼鐵製程-使用添加劑(預焙陽極炭塊與煤碳電極",IF($P11="逸散 (F)","已知VOCs濃度","")),"") -> 已知VOCs濃度 | W11: =IF($P11<>"",IF($P11="製程 (P)","鋼鐵製程--外售含碳產品(已知含碳率)",IF($P11="逸散 (F)","未知VOCs濃度已知CO2排放係數","")),"") -> 未知VOCs濃度已知CO2排放係數 | X11: =IF($P11<>"",IF($P11="製程 (P)","半導體光電製程",IF($P11="逸散 (F)","化糞池排放源","")),"") -> 化糞池排放源 | Y11: =IF($P11<>"",IF($P11="製程 (P)","石灰製程",IF($P11="逸散 (F)","其他","")),"") -> 其他 | Z11: =IF($P11<>"",IF($P11="製程 (P)","碳酸鈉製程-碳酸鈉製造",""),"") | AA11: =IF($P11<>"",IF($P11="製程 (P)","碳酸鈉製程-碳酸鈉使用",""),"") | AB11: =IF($P11<>"",IF($P11="製程 (P)","碳化物鈉製程-碳化矽製造",""),"") | AC11: =IF($P11<>"",IF($P11="製程 (P)","碳化物鈉製程-碳化鈣製造",""),"") | AD11: =IF($P11<>"",IF($P11="製程 (P)","碳化物鈉製程-碳化鈣使用",""),"") | AE11: =IF($P11<>"",IF($P11="製程 (P)","碳酸製程",""),"") | AF11: =IF($P11<>"",IF($P11="製程 (P)","已二酸製程",""),"") | AG11: =IF($P11<>"",IF($P11="製程 (P)","二氟一氯甲烷",""),"") | AH11: =IF($P11<>"",IF($P11="製程 (P)","乙炔-焊接維修製程",""),"") | AI11: =IF($P11<>"",IF($P11="製程 (P)","濕式排煙脫硫-石灰石製程",""),"") | AJ11: =IF($P11<>"",IF($P11="製程 (P)","其他",""),"") | AL11: v | AS11: 否 | AU11: =IF(AL11<>"",AL$3,"") -> CO2 | AV11: =IF(AM11<>"",AM$3,"") | AW11: =IF(AN11<>"",AN$3,"") | AX11: =IF(AO11<>"",AO$3,"") | AY11: =IF(AP11<>"",AP$3,"") | AZ11: =IF(AQ11<>"",AQ$3,"") | BA11: =IF(AR11<>"",AR$3,"") | BB11: =IF(AL11<>"","a","") -> a | BC11: =IF(AM11<>"","b","") | BD11: =IF(AN11<>"","c","") | BE11: =IF(AO11<>"","d","") | BF11: =IF(AP11<>"","e","") | BG11: =IF(AQ11<>"","f","") | BH11: =IF(AR11<>"","g","") | BI11: =BB11&BC11&BD11&BE11&BF11&BG11&BH11 -> a | BJ11: =IF(BI11="","",VLOOKUP($BI11,$BM$2:$BP$57,2,0)) -> CO2 | BK11: =IF(BI11="","",VLOOKUP($BI11,$BM$2:$BP$57,3,0)) -> 0 | BL11: =IF(BI11="","",VLOOKUP($BI11,$BM$2:$BP$57,4,0)) -> 0 | BM11: ad | BN11: CO2 | BO11: HFCS
A12: G05 | B12: 370009 | C12: =IF(B12<>"",VLOOKUP(B12,附表五!$B$2:$C$1024,2,0),"") -> 其他廢水處理程序 | D12: GF01 | E12: 9795 | F12: =IF(E12<>"",VLOOKUP(E12,附表六!$B$2:$C$325,2,0),"") -> 化糞池 | G12: 1.原燃物料 | H12: GG3805 | I12: =IF(H12<>"",VLOOKUP(H12,附表七!$B:$C,2,0),"") -> 廢水處理(BOD) | J12: 否 | K12: 範疇1 | L12: =IF(K12<>"",IF($K12="範疇2","外購電力","固定 (E)"),"") -> 固定 (E) | M12: =IF(K12<>"",IF($K12="範疇2","外購蒸汽","製程 (P)"),"") -> 製程 (P) | N12: =IF(K12<>"",IF($K12="範疇2","","移動 (T)"),"") -> 移動 (T) | O12: =IF(K12<>"",IF($K12="範疇2","","逸散 (F)"),"") -> 逸散 (F) | P12: 逸散 (F) | Q12: =IF($P12<>"",IF($P12="外購電力","併網",IF($P12="製程 (P)","水泥製程",IF($P12="逸散 (F)","廢棄物排放源",""))),"") -> 廢棄物排放源 | R12: =IF($P12<>"",IF($P12="外購電力","離網",IF($P12="製程 (P)","鋼鐵製程-使用造渣劑",IF($P12="逸散 (F)","廢水排放源",""))),"") -> 廢水排放源 | S12: =IF($P12<>"",IF($P12="製程 (P)","鋼鐵製程-使用添加劑",IF($P12="逸散 (F)","廢棄污泥排放源","")),"") -> 廢棄污泥排放源 | T12: =IF($P12<>"",IF($P12="製程 (P)","鋼鐵製程-金屬進料",IF($P12="逸散 (F)","溶劑、噴霧劑及冷媒排放源","")),"") -> 溶劑、噴霧劑及冷媒排放源 | U12: =IF($P12<>"",IF($P12="製程 (P)","鋼鐵製程-外售含碳產品(已知CO2排放係數",IF($P12="逸散 (F)","VOCs未經燃燒且含CH4","")),"") -> VOCs未經燃燒且含CH4 | V12: =IF($P12<>"",IF($P12="製程 (P)","鋼鐵製程-使用添加劑(預焙陽極炭塊與煤碳電極",IF($P12="逸散 (F)","已知VOCs濃度","")),"") -> 已知VOCs濃度 | W12: =IF($P12<>"",IF($P12="製程 (P)","鋼鐵製程--外售含碳產品(已知含碳率)",IF($P12="逸散 (F)","未知VOCs濃度已知CO2排放係數","")),"") -> 未知VOCs濃度已知CO2排放係數 | X12: =IF($P12<>"",IF($P12="製程 (P)","半導體光電製程",IF($P12="逸散 (F)","化糞池排放源","")),"") -> 化糞池排放源 | Y12: =IF($P12<>"",IF($P12="製程 (P)","石灰製程",IF($P12="逸散 (F)","其他","")),"") -> 其他 | Z12: =IF($P12<>"",IF($P12="製程 (P)","碳酸鈉製程-碳酸鈉製造",""),"") | AA12: =IF($P12<>"",IF($P12="製程 (P)","碳酸鈉製程-碳酸鈉使用",""),"") | AB12: =IF($P12<>"",IF($P12="製程 (P)","碳化物鈉製程-碳化矽製造",""),"") | AC12: =IF($P12<>"",IF($P12="製程 (P)","碳化物鈉製程-碳化鈣製造",""),"") | AD12: =IF($P12<>"",IF($P12="製程 (P)","碳化物鈉製程-碳化鈣使用",""),"") | AE12: =IF($P12<>"",IF($P12="製程 (P)","碳酸製程",""),"") | AF12: =IF($P12<>"",IF($P12="製程 (P)","已二酸製程",""),"") | AG12: =IF($P12<>"",IF($P12="製程 (P)","二氟一氯甲烷",""),"") | AH12: =IF($P12<>"",IF($P12="製程 (P)","乙炔-焊接維修製程",""),"") | AI12: =IF($P12<>"",IF($P12="製程 (P)","濕式排煙脫硫-石灰石製程",""),"") | AJ12: =IF($P12<>"",IF($P12="製程 (P)","其他",""),"") | AM12: v | AS12: 否 | AU12: =IF(AL12<>"",AL$3,"") | AV12: =IF(AM12<>"",AM$3,"") -> CH4 | AW12: =IF(AN12<>"",AN$3,"") | AX12: =IF(AO12<>"",AO$3,"") | AY12: =IF(AP12<>"",AP$3,"") | AZ12: =IF(AQ12<>"",AQ$3,"") | BA12: =IF(AR12<>"",AR$3,"") | BB12: =IF(AL12<>"","a","") | BC12: =IF(AM12<>"","b","") -> b | BD12: =IF(AN12<>"","c","") | BE12: =IF(AO12<>"","d","") | BF12: =IF(AP12<>"","e","") | BG12: =IF(AQ12<>"","f","") | BH12: =IF(AR12<>"","g","") | BI12: =BB12&BC12&BD12&BE12&BF12&BG12&BH12 -> b | BJ12: =IF(BI12="","",VLOOKUP($BI12,$BM$2:$BP$57,2,0)) -> CH4 | BK12: =IF(BI12="","",VLOOKUP($BI12,$BM$2:$BP$57,3,0)) -> 0 | BL12: =IF(BI12="","",VLOOKUP($BI12,$BM$2:$BP$57,4,0)) -> 0 | BM12: ae | BN12: CO2 | BO12: PFCS
A13: G06 | B13: 000999 | C13: =IF(B13<>"",VLOOKUP(B13,附表五!$B$2:$C$1024,2,0),"") -> 其他未分類製程 | D13: GP01 | E13: 9999 | F13: =IF(E13<>"",VLOOKUP(E13,附表六!$B$2:$C$325,2,0),"") -> 其他未歸類設施 | G13: 1.原燃物料 | H13: 350099 | I13: =IF(H13<>"",VLOOKUP(H13,附表七!$B:$C,2,0),"") -> 其他電力 | J13: 否 | K13: 範疇2 | L13: =IF(K13<>"",IF($K13="範疇2","外購電力","固定 (E)"),"") -> 外購電力 | M13: =IF(K13<>"",IF($K13="範疇2","外購蒸汽","製程 (P)"),"") -> 外購蒸汽 | N13: =IF(K13<>"",IF($K13="範疇2","","移動 (T)"),"") | O13: =IF(K13<>"",IF($K13="範疇2","","逸散 (F)"),"") | P13: 外購電力 | Q13: =IF($P13<>"",IF($P13="外購電力","併網",IF($P13="製程 (P)","水泥製程",IF($P13="逸散 (F)","廢棄物排放源",""))),"") -> 併網 | R13: =IF($P13<>"",IF($P13="外購電力","離網",IF($P13="製程 (P)","鋼鐵製程-使用造渣劑",IF($P13="逸散 (F)","廢水排放源",""))),"") -> 離網 | S13: =IF($P13<>"",IF($P13="製程 (P)","鋼鐵製程-使用添加劑",IF($P13="逸散 (F)","廢棄污泥排放源","")),"") | T13: =IF($P13<>"",IF($P13="製程 (P)","鋼鐵製程-金屬進料",IF($P13="逸散 (F)","溶劑、噴霧劑及冷媒排放源","")),"") | U13: =IF($P13<>"",IF($P13="製程 (P)","鋼鐵製程-外售含碳產品(已知CO2排放係數",IF($P13="逸散 (F)","VOCs未經燃燒且含CH4","")),"") | V13: =IF($P13<>"",IF($P13="製程 (P)","鋼鐵製程-使用添加劑(預焙陽極炭塊與煤碳電極",IF($P13="逸散 (F)","已知VOCs濃度","")),"") | W13: =IF($P13<>"",IF($P13="製程 (P)","鋼鐵製程--外售含碳產品(已知含碳率)",IF($P13="逸散 (F)","未知VOCs濃度已知CO2排放係數","")),"") | X13: =IF($P13<>"",IF($P13="製程 (P)","半導體光電製程",IF($P13="逸散 (F)","化糞池排放源","")),"") | Y13: =IF($P13<>"",IF($P13="製程 (P)","石灰製程",IF($P13="逸散 (F)","其他","")),"") | Z13: =IF($P13<>"",IF($P13="製程 (P)","碳酸鈉製程-碳酸鈉製造",""),"") | AA13: =IF($P13<>"",IF($P13="製程 (P)","碳酸鈉製程-碳酸鈉使用",""),"") | AB13: =IF($P13<>"",IF($P13="製程 (P)","碳化物鈉製程-碳化矽製造",""),"") | AC13: =IF($P13<>"",IF($P13="製程 (P)","碳化物鈉製程-碳化鈣製造",""),"") | AD13: =IF($P13<>"",IF($P13="製程 (P)","碳化物鈉製程-碳化鈣使用",""),"") | AE13: =IF($P13<>"",IF($P13="製程 (P)","碳酸製程",""),"") | AF13: =IF($P13<>"",IF($P13="製程 (P)","已二酸製程",""),"") | AG13: =IF($P13<>"",IF($P13="製程 (P)","二氟一氯甲烷",""),"") | AH13: =IF($P13<>"",IF($P13="製程 (P)","乙炔-焊接維修製程",""),"") | AI13: =IF($P13<>"",IF($P13="製程 (P)","濕式排煙脫硫-石灰石製程",""),"") | AJ13: =IF($P13<>"",IF($P13="製程 (P)","其他",""),"") | AK13: 併網 | AL13: v | AS13: 否 | AU13: =IF(AL13<>"",AL$3,"") -> CO2 | AV13: =IF(AM13<>"",AM$3,"") | AW13: =IF(AN13<>"",AN$3,"") | AX13: =IF(AO13<>"",AO$3,"") | AY13: =IF(AP13<>"",AP$3,"") | AZ13: =IF(AQ13<>"",AQ$3,"") | BA13: =IF(AR13<>"",AR$3,"") | BB13: =IF(AL13<>"","a","") -> a | BC13: =IF(AM13<>"","b","") | BD13: =IF(AN13<>"","c","") | BE13: =IF(AO13<>"","d","") | BF13: =IF(AP13<>"","e","") | BG13: =IF(AQ13<>"","f","") | BH13: =IF(AR13<>"","g","") | BI13: =BB13&BC13&BD13&BE13&BF13&BG13&BH13 -> a | BJ13: =IF(BI13="","",VLOOKUP($BI13,$BM$2:$BP$57,2,0)) -> CO2 | BK13: =IF(BI13="","",VLOOKUP($BI13,$BM$2:$BP$57,3,0)) -> 0 | BL13: =IF(BI13="","",VLOOKUP($BI13,$BM$2:$BP$57,4,0)) -> 0 | BM13: af | BN13: CO2 | BO13: SF6
A14: G06 | B14: 000999 | C14: =IF(B14<>"",VLOOKUP(B14,附表五!$B$2:$C$1024,2,0),"") -> 其他未分類製程 | D14: GP02 | E14: 9999 | F14: =IF(E14<>"",VLOOKUP(E14,附表六!$B$2:$C$325,2,0),"") -> 其他未歸類設施 | G14: 1.原燃物料 | H14: GG3502 | I14: =IF(H14<>"",VLOOKUP(H14,附表七!$B:$C,2,0),"") -> REC登載電力使用-電證合一 | J14: 否 | K14: 範疇2 | L14: =IF(K14<>"",IF($K14="範疇2","外購電力","固定 (E)"),"") -> 外購電力 | M14: =IF(K14<>"",IF($K14="範疇2","外購蒸汽","製程 (P)"),"") -> 外購蒸汽 | N14: =IF(K14<>"",IF($K14="範疇2","","移動 (T)"),"") | O14: =IF(K14<>"",IF($K14="範疇2","","逸散 (F)"),"") | P14: 外購電力 | Q14: =IF($P14<>"",IF($P14="外購電力","併網",IF($P14="製程 (P)","水泥製程",IF($P14="逸散 (F)","廢棄物排放源",""))),"") -> 併網 | R14: =IF($P14<>"",IF($P14="外購電力","離網",IF($P14="製程 (P)","鋼鐵製程-使用造渣劑",IF($P14="逸散 (F)","廢水排放源",""))),"") -> 離網 | S14: =IF($P14<>"",IF($P14="製程 (P)","鋼鐵製程-使用添加劑",IF($P14="逸散 (F)","廢棄污泥排放源","")),"") | T14: =IF($P14<>"",IF($P14="製程 (P)","鋼鐵製程-金屬進料",IF($P14="逸散 (F)","溶劑、噴霧劑及冷媒排放源","")),"") | U14: =IF($P14<>"",IF($P14="製程 (P)","鋼鐵製程-外售含碳產品(已知CO2排放係數",IF($P14="逸散 (F)","VOCs未經燃燒且含CH4","")),"") | V14: =IF($P14<>"",IF($P14="製程 (P)","鋼鐵製程-使用添加劑(預焙陽極炭塊與煤碳電極",IF($P14="逸散 (F)","已知VOCs濃度","")),"") | W14: =IF($P14<>"",IF($P14="製程 (P)","鋼鐵製程--外售含碳產品(已知含碳率)",IF($P14="逸散 (F)","未知VOCs濃度已知CO2排放係數","")),"") | X14: =IF($P14<>"",IF($P14="製程 (P)","半導體光電製程",IF($P14="逸散 (F)","化糞池排放源","")),"") | Y14: =IF($P14<>"",IF($P14="製程 (P)","石灰製程",IF($P14="逸散 (F)","其他","")),"") | Z14: =IF($P14<>"",IF($P14="製程 (P)","碳酸鈉製程-碳酸鈉製造",""),"") | AA14: =IF($P14<>"",IF($P14="製程 (P)","碳酸鈉製程-碳酸鈉使用",""),"") | AB14: =IF($P14<>"",IF($P14="製程 (P)","碳化物鈉製程-碳化矽製造",""),"") | AC14: =IF($P14<>"",IF($P14="製程 (P)","碳化物鈉製程-碳化鈣製造",""),"") | AD14: =IF($P14<>"",IF($P14="製程 (P)","碳化物鈉製程-碳化鈣使用",""),"") | AE14: =IF($P14<>"",IF($P14="製程 (P)","碳酸製程",""),"") | AF14: =IF($P14<>"",IF($P14="製程 (P)","已二酸製程",""),"") | AG14: =IF($P14<>"",IF($P14="製程 (P)","二氟一氯甲烷",""),"") | AH14: =IF($P14<>"",IF($P14="製程 (P)","乙炔-焊接維修製程",""),"") | AI14: =IF($P14<>"",IF($P14="製程 (P)","濕式排煙脫硫-石灰石製程",""),"") | AJ14: =IF($P14<>"",IF($P14="製程 (P)","其他",""),"") | AK14: 併網 | AL14: v | AS14: 否 | AU14: =IF(AL14<>"",AL$3,"") -> CO2 | AV14: =IF(AM14<>"",AM$3,"") | AW14: =IF(AN14<>"",AN$3,"") | AX14: =IF(AO14<>"",AO$3,"") | AY14: =IF(AP14<>"",AP$3,"") | AZ14: =IF(AQ14<>"",AQ$3,"") | BA14: =IF(AR14<>"",AR$3,"") | BB14: =IF(AL14<>"","a","") -> a | BC14: =IF(AM14<>"","b","") | BD14: =IF(AN14<>"","c","") | BE14: =IF(AO14<>"","d","") | BF14: =IF(AP14<>"","e","") | BG14: =IF(AQ14<>"","f","") | BH14: =IF(AR14<>"","g","") | BI14: =BB14&BC14&BD14&BE14&BF14&BG14&BH14 -> a | BJ14: =IF(BI14="","",VLOOKUP($BI14,$BM$2:$BP$57,2,0)) -> CO2 | BK14: =IF(BI14="","",VLOOKUP($BI14,$BM$2:$BP$57,3,0)) -> 0 | BL14: =IF(BI14="","",VLOOKUP($BI14,$BM$2:$BP$57,4,0)) -> 0 | BM14: ag | BN14: CO2 | BO14: NF3
C15: =IF(B15<>"",VLOOKUP(B15,附表五!$B$2:$C$1024,2,0),"") | F15: =IF(E15<>"",VLOOKUP(E15,附表六!$B$2:$C$325,2,0),"") | I15: =IF(H15<>"",VLOOKUP(H15,附表七!$B:$C,2,0),"") | L15: =IF(K15<>"",IF($K15="範疇2","外購電力","固定 (E)"),"") | M15: =IF(K15<>"",IF($K15="範疇2","外購蒸汽","製程 (P)"),"") | N15: =IF(K15<>"",IF($K15="範疇2","","移動 (T)"),"") | O15: =IF(K15<>"",IF($K15="範疇2","","逸散 (F)"),"") | Q15: =IF($P15<>"",IF($P15="外購電力","併網",IF($P15="製程 (P)","水泥製程",IF($P15="逸散 (F)","廢棄物排放源",""))),"") | R15: =IF($P15<>"",IF($P15="外購電力","離網",IF($P15="製程 (P)","鋼鐵製程-使用造渣劑",IF($P15="逸散 (F)","廢水排放源",""))),"") | S15: =IF($P15<>"",IF($P15="製程 (P)","鋼鐵製程-使用添加劑",IF($P15="逸散 (F)","廢棄污泥排放源","")),"") | T15: =IF($P15<>"",IF($P15="製程 (P)","鋼鐵製程-金屬進料",IF($P15="逸散 (F)","溶劑、噴霧劑及冷媒排放源","")),"") | U15: =IF($P15<>"",IF($P15="製程 (P)","鋼鐵製程-外售含碳產品(已知CO2排放係數",IF($P15="逸散 (F)","VOCs未經燃燒且含CH4","")),"") | V15: =IF($P15<>"",IF($P15="製程 (P)","鋼鐵製程-使用添加劑(預焙陽極炭塊與煤碳電極",IF($P15="逸散 (F)","已知VOCs濃度","")),"") | W15: =IF($P15<>"",IF($P15="製程 (P)","鋼鐵製程--外售含碳產品(已知含碳率)",IF($P15="逸散 (F)","未知VOCs濃度已知CO2排放係數","")),"") | X15: =IF($P15<>"",IF($P15="製程 (P)","半導體光電製程",IF($P15="逸散 (F)","化糞池排放源","")),"") | Y15: =IF($P15<>"",IF($P15="製程 (P)","石灰製程",IF($P15="逸散 (F)","其他","")),"") | Z15: =IF($P15<>"",IF($P15="製程 (P)","碳酸鈉製程-碳酸鈉製造",""),"") | AA15: =IF($P15<>"",IF($P15="製程 (P)","碳酸鈉製程-碳酸鈉使用",""),"") | AB15: =IF($P15<>"",IF($P15="製程 (P)","碳化物鈉製程-碳化矽製造",""),"") | AC15: =IF($P15<>"",IF($P15="製程 (P)","碳化物鈉製程-碳化鈣製造",""),"") | AD15: =IF($P15<>"",IF($P15="製程 (P)","碳化物鈉製程-碳化鈣使用",""),"") | AE15: =IF($P15<>"",IF($P15="製程 (P)","碳酸製程",""),"") | AF15: =IF($P15<>"",IF($P15="製程 (P)","已二酸製程",""),"") | AG15: =IF($P15<>"",IF($P15="製程 (P)","二氟一氯甲烷",""),"") | AH15: =IF($P15<>"",IF($P15="製程 (P)","乙炔-焊接維修製程",""),"") | AI15: =IF($P15<>"",IF($P15="製程 (P)","濕式排煙脫硫-石灰石製程",""),"") | AJ15: =IF($P15<>"",IF($P15="製程 (P)","其他",""),"") | AU15: =IF(AL15<>"",AL$3,"") | AV15: =IF(AM15<>"",AM$3,"") | AW15: =IF(AN15<>"",AN$3,"") | AX15: =IF(AO15<>"",AO$3,"") | AY15: =IF(AP15<>"",AP$3,"") | AZ15: =IF(AQ15<>"",AQ$3,"") | BA15: =IF(AR15<>"",AR$3,"") | BB15: =IF(AL15<>"","a","") | BC15: =IF(AM15<>"","b","") | BD15: =IF(AN15<>"","c","") | BE15: =IF(AO15<>"","d","") | BF15: =IF(AP15<>"","e","") | BG15: =IF(AQ15<>"","f","") | BH15: =IF(AR15<>"","g","") | BI15: =BB15&BC15&BD15&BE15&BF15&BG15&BH15 | BJ15: =IF(BI15="","",VLOOKUP($BI15,$BM$2:$BP$57,2,0)) | BK15: =IF(BI15="","",VLOOKUP($BI15,$BM$2:$BP$57,3,0)) | BL15: =IF(BI15="","",VLOOKUP($BI15,$BM$2:$BP$57,4,0)) | BM15: bf | BN15: CH4 | BO15: SF6
C16: =IF(B16<>"",VLOOKUP(B16,附表五!$B$2:$C$1024,2,0),"") | F16: =IF(E16<>"",VLOOKUP(E16,附表六!$B$2:$C$325,2,0),"") | I16: =IF(H16<>"",VLOOKUP(H16,附表七!$B:$C,2,0),"") | L16: =IF(K16<>"",IF($K16="範疇2","外購電力","固定 (E)"),"") | M16: =IF(K16<>"",IF($K16="範疇2","外購蒸汽","製程 (P)"),"") | N16: =IF(K16<>"",IF($K16="範疇2","","移動 (T)"),"") | O16: =IF(K16<>"",IF($K16="範疇2","","逸散 (F)"),"") | Q16: =IF($P16<>"",IF($P16="外購電力","併網",IF($P16="製程 (P)","水泥製程",IF($P16="逸散 (F)","廢棄物排放源",""))),"") | R16: =IF($P16<>"",IF($P16="外購電力","離網",IF($P16="製程 (P)","鋼鐵製程-使用造渣劑",IF($P16="逸散 (F)","廢水排放源",""))),"") | S16: =IF($P16<>"",IF($P16="製程 (P)","鋼鐵製程-使用添加劑",IF($P16="逸散 (F)","廢棄污泥排放源","")),"") | T16: =IF($P16<>"",IF($P16="製程 (P)","鋼鐵製程-金屬進料",IF($P16="逸散 (F)","溶劑、噴霧劑及冷媒排放源","")),"") | U16: =IF($P16<>"",IF($P16="製程 (P)","鋼鐵製程-外售含碳產品(已知CO2排放係數",IF($P16="逸散 (F)","VOCs未經燃燒且含CH4","")),"") | V16: =IF($P16<>"",IF($P16="製程 (P)","鋼鐵製程-使用添加劑(預焙陽極炭塊與煤碳電極",IF($P16="逸散 (F)","已知VOCs濃度","")),"") | W16: =IF($P16<>"",IF($P16="製程 (P)","鋼鐵製程--外售含碳產品(已知含碳率)",IF($P16="逸散 (F)","未知VOCs濃度已知CO2排放係數","")),"") | X16: =IF($P16<>"",IF($P16="製程 (P)","半導體光電製程",IF($P16="逸散 (F)","化糞池排放源","")),"") | Y16: =IF($P16<>"",IF($P16="製程 (P)","石灰製程",IF($P16="逸散 (F)","其他","")),"") | Z16: =IF($P16<>"",IF($P16="製程 (P)","碳酸鈉製程-碳酸鈉製造",""),"") | AA16: =IF($P16<>"",IF($P16="製程 (P)","碳酸鈉製程-碳酸鈉使用",""),"") | AB16: =IF($P16<>"",IF($P16="製程 (P)","碳化物鈉製程-碳化矽製造",""),"") | AC16: =IF($P16<>"",IF($P16="製程 (P)","碳化物鈉製程-碳化鈣製造",""),"") | AD16: =IF($P16<>"",IF($P16="製程 (P)","碳化物鈉製程-碳化鈣使用",""),"") | AE16: =IF($P16<>"",IF($P16="製程 (P)","碳酸製程",""),"") | AF16: =IF($P16<>"",IF($P16="製程 (P)","已二酸製程",""),"") | AG16: =IF($P16<>"",IF($P16="製程 (P)","二氟一氯甲烷",""),"") | AH16: =IF($P16<>"",IF($P16="製程 (P)","乙炔-焊接維修製程",""),"") | AI16: =IF($P16<>"",IF($P16="製程 (P)","濕式排煙脫硫-石灰石製程",""),"") | AJ16: =IF($P16<>"",IF($P16="製程 (P)","其他",""),"") | AU16: =IF(AL16<>"",AL$3,"") | AV16: =IF(AM16<>"",AM$3,"") | AW16: =IF(AN16<>"",AN$3,"") | AX16: =IF(AO16<>"",AO$3,"") | AY16: =IF(AP16<>"",AP$3,"") | AZ16: =IF(AQ16<>"",AQ$3,"") | BA16: =IF(AR16<>"",AR$3,"") | BB16: =IF(AL16<>"","a","") | BC16: =IF(AM16<>"","b","") | BD16: =IF(AN16<>"","c","") | BE16: =IF(AO16<>"","d","") | BF16: =IF(AP16<>"","e","") | BG16: =IF(AQ16<>"","f","") | BH16: =IF(AR16<>"","g","") | BI16: =BB16&BC16&BD16&BE16&BF16&BG16&BH16 | BJ16: =IF(BI16="","",VLOOKUP($BI16,$BM$2:$BP$57,2,0)) | BK16: =IF(BI16="","",VLOOKUP($BI16,$BM$2:$BP$57,3,0)) | BL16: =IF(BI16="","",VLOOKUP($BI16,$BM$2:$BP$57,4,0)) | BM16: bg | BN16: CH4 | BO16: NF3
C17: =IF(B17<>"",VLOOKUP(B17,附表五!$B$2:$C$1024,2,0),"") | F17: =IF(E17<>"",VLOOKUP(E17,附表六!$B$2:$C$325,2,0),"") | I17: =IF(H17<>"",VLOOKUP(H17,附表七!$B:$C,2,0),"") | L17: =IF(K17<>"",IF($K17="範疇2","外購電力","固定 (E)"),"") | M17: =IF(K17<>"",IF($K17="範疇2","外購蒸汽","製程 (P)"),"") | N17: =IF(K17<>"",IF($K17="範疇2","","移動 (T)"),"") | O17: =IF(K17<>"",IF($K17="範疇2","","逸散 (F)"),"") | Q17: =IF($P17<>"",IF($P17="外購電力","併網",IF($P17="製程 (P)","水泥製程",IF($P17="逸散 (F)","廢棄物排放源",""))),"") | R17: =IF($P17<>"",IF($P17="外購電力","離網",IF($P17="製程 (P)","鋼鐵製程-使用造渣劑",IF($P17="逸散 (F)","廢水排放源",""))),"") | S17: =IF($P17<>"",IF($P17="製程 (P)","鋼鐵製程-使用添加劑",IF($P17="逸散 (F)","廢棄污泥排放源","")),"") | T17: =IF($P17<>"",IF($P17="製程 (P)","鋼鐵製程-金屬進料",IF($P17="逸散 (F)","溶劑、噴霧劑及冷媒排放源","")),"") | U17: =IF($P17<>"",IF($P17="製程 (P)","鋼鐵製程-外售含碳產品(已知CO2排放係數",IF($P17="逸散 (F)","VOCs未經燃燒且含CH4","")),"") | V17: =IF($P17<>"",IF($P17="製程 (P)","鋼鐵製程-使用添加劑(預焙陽極炭塊與煤碳電極",IF($P17="逸散 (F)","已知VOCs濃度","")),"") | W17: =IF($P17<>"",IF($P17="製程 (P)","鋼鐵製程--外售含碳產品(已知含碳率)",IF($P17="逸散 (F)","未知VOCs濃度已知CO2排放係數","")),"") | X17: =IF($P17<>"",IF($P17="製程 (P)","半導體光電製程",IF($P17="逸散 (F)","化糞池排放源","")),"") | Y17: =IF($P17<>"",IF($P17="製程 (P)","石灰製程",IF($P17="逸散 (F)","其他","")),"") | Z17: =IF($P17<>"",IF($P17="製程 (P)","碳酸鈉製程-碳酸鈉製造",""),"") | AA17: =IF($P17<>"",IF($P17="製程 (P)","碳酸鈉製程-碳酸鈉使用",""),"") | AB17: =IF($P17<>"",IF($P17="製程 (P)","碳化物鈉製程-碳化矽製造",""),"") | AC17: =IF($P17<>"",IF($P17="製程 (P)","碳化物鈉製程-碳化鈣製造",""),"") | AD17: =IF($P17<>"",IF($P17="製程 (P)","碳化物鈉製程-碳化鈣使用",""),"") | AE17: =IF($P17<>"",IF($P17="製程 (P)","碳酸製程",""),"") | AF17: =IF($P17<>"",IF($P17="製程 (P)","已二酸製程",""),"") | AG17: =IF($P17<>"",IF($P17="製程 (P)","二氟一氯甲烷",""),"") | AH17: =IF($P17<>"",IF($P17="製程 (P)","乙炔-焊接維修製程",""),"") | AI17: =IF($P17<>"",IF($P17="製程 (P)","濕式排煙脫硫-石灰石製程",""),"") | AJ17: =IF($P17<>"",IF($P17="製程 (P)","其他",""),"") | AU17: =IF(AL17<>"",AL$3,"") | AV17: =IF(AM17<>"",AM$3,"") | AW17: =IF(AN17<>"",AN$3,"") | AX17: =IF(AO17<>"",AO$3,"") | AY17: =IF(AP17<>"",AP$3,"") | AZ17: =IF(AQ17<>"",AQ$3,"") | BA17: =IF(AR17<>"",AR$3,"") | BB17: =IF(AL17<>"","a","") | BC17: =IF(AM17<>"","b","") | BD17: =IF(AN17<>"","c","") | BE17: =IF(AO17<>"","d","") | BF17: =IF(AP17<>"","e","") | BG17: =IF(AQ17<>"","f","") | BH17: =IF(AR17<>"","g","") | BI17: =BB17&BC17&BD17&BE17&BF17&BG17&BH17 | BJ17: =IF(BI17="","",VLOOKUP($BI17,$BM$2:$BP$57,2,0)) | BK17: =IF(BI17="","",VLOOKUP($BI17,$BM$2:$BP$57,3,0)) | BL17: =IF(BI17="","",VLOOKUP($BI17,$BM$2:$BP$57,4,0)) | BM17: cd | BN17: N2O | BO17: HFCS
C18: =IF(B18<>"",VLOOKUP(B18,附表五!$B$2:$C$1024,2,0),"") | F18: =IF(E18<>"",VLOOKUP(E18,附表六!$B$2:$C$325,2,0),"") | I18: =IF(H18<>"",VLOOKUP(H18,附表七!$B:$C,2,0),"") | L18: =IF(K18<>"",IF($K18="範疇2","外購電力","固定 (E)"),"") | M18: =IF(K18<>"",IF($K18="範疇2","外購蒸汽","製程 (P)"),"") | N18: =IF(K18<>"",IF($K18="範疇2","","移動 (T)"),"") | O18: =IF(K18<>"",IF($K18="範疇2","","逸散 (F)"),"") | Q18: =IF($P18<>"",IF($P18="外購電力","併網",IF($P18="製程 (P)","水泥製程",IF($P18="逸散 (F)","廢棄物排放源",""))),"") | R18: =IF($P18<>"",IF($P18="外購電力","離網",IF($P18="製程 (P)","鋼鐵製程-使用造渣劑",IF($P18="逸散 (F)","廢水排放源",""))),"") | S18: =IF($P18<>"",IF($P18="製程 (P)","鋼鐵製程-使用添加劑",IF($P18="逸散 (F)","廢棄污泥排放源","")),"") | T18: =IF($P18<>"",IF($P18="製程 (P)","鋼鐵製程-金屬進料",IF($P18="逸散 (F)","溶劑、噴霧劑及冷媒排放源","")),"") | U18: =IF($P18<>"",IF($P18="製程 (P)","鋼鐵製程-外售含碳產品(已知CO2排放係數",IF($P18="逸散 (F)","VOCs未經燃燒且含CH4","")),"") | V18: =IF($P18<>"",IF($P18="製程 (P)","鋼鐵製程-使用添加劑(預焙陽極炭塊與煤碳電極",IF($P18="逸散 (F)","已知VOCs濃度","")),"") | W18: =IF($P18<>"",IF($P18="製程 (P)","鋼鐵製程--外售含碳產品(已知含碳率)",IF($P18="逸散 (F)","未知VOCs濃度已知CO2排放係數","")),"") | X18: =IF($P18<>"",IF($P18="製程 (P)","半導體光電製程",IF($P18="逸散 (F)","化糞池排放源","")),"") | Y18: =IF($P18<>"",IF($P18="製程 (P)","石灰製程",IF($P18="逸散 (F)","其他","")),"") | Z18: =IF($P18<>"",IF($P18="製程 (P)","碳酸鈉製程-碳酸鈉製造",""),"") | AA18: =IF($P18<>"",IF($P18="製程 (P)","碳酸鈉製程-碳酸鈉使用",""),"") | AB18: =IF($P18<>"",IF($P18="製程 (P)","碳化物鈉製程-碳化矽製造",""),"") | AC18: =IF($P18<>"",IF($P18="製程 (P)","碳化物鈉製程-碳化鈣製造",""),"") | AD18: =IF($P18<>"",IF($P18="製程 (P)","碳化物鈉製程-碳化鈣使用",""),"") | AE18: =IF($P18<>"",IF($P18="製程 (P)","碳酸製程",""),"") | AF18: =IF($P18<>"",IF($P18="製程 (P)","已二酸製程",""),"") | AG18: =IF($P18<>"",IF($P18="製程 (P)","二氟一氯甲烷",""),"") | AH18: =IF($P18<>"",IF($P18="製程 (P)","乙炔-焊接維修製程",""),"") | AI18: =IF($P18<>"",IF($P18="製程 (P)","濕式排煙脫硫-石灰石製程",""),"") | AJ18: =IF($P18<>"",IF($P18="製程 (P)","其他",""),"") | AU18: =IF(AL18<>"",AL$3,"") | AV18: =IF(AM18<>"",AM$3,"") | AW18: =IF(AN18<>"",AN$3,"") | AX18: =IF(AO18<>"",AO$3,"") | AY18: =IF(AP18<>"",AP$3,"") | AZ18: =IF(AQ18<>"",AQ$3,"") | BA18: =IF(AR18<>"",AR$3,"") | BB18: =IF(AL18<>"","a","") | BC18: =IF(AM18<>"","b","") | BD18: =IF(AN18<>"","c","") | BE18: =IF(AO18<>"","d","") | BF18: =IF(AP18<>"","e","") | BG18: =IF(AQ18<>"","f","") | BH18: =IF(AR18<>"","g","") | BI18: =BB18&BC18&BD18&BE18&BF18&BG18&BH18 | BJ18: =IF(BI18="","",VLOOKUP($BI18,$BM$2:$BP$57,2,0)) | BK18: =IF(BI18="","",VLOOKUP($BI18,$BM$2:$BP$57,3,0)) | BL18: =IF(BI18="","",VLOOKUP($BI18,$BM$2:$BP$57,4,0)) | BM18: ce | BN18: N2O | BO18: PFCS
C19: =IF(B19<>"",VLOOKUP(B19,附表五!$B$2:$C$1024,2,0),"") | F19: =IF(E19<>"",VLOOKUP(E19,附表六!$B$2:$C$325,2,0),"") | I19: =IF(H19<>"",VLOOKUP(H19,附表七!$B:$C,2,0),"") | L19: =IF(K19<>"",IF($K19="範疇2","外購電力","固定 (E)"),"") | M19: =IF(K19<>"",IF($K19="範疇2","外購蒸汽","製程 (P)"),"") | N19: =IF(K19<>"",IF($K19="範疇2","","移動 (T)"),"") | O19: =IF(K19<>"",IF($K19="範疇2","","逸散 (F)"),"") | Q19: =IF($P19<>"",IF($P19="外購電力","併網",IF($P19="製程 (P)","水泥製程",IF($P19="逸散 (F)","廢棄物排放源",""))),"") | R19: =IF($P19<>"",IF($P19="外購電力","離網",IF($P19="製程 (P)","鋼鐵製程-使用造渣劑",IF($P19="逸散 (F)","廢水排放源",""))),"") | S19: =IF($P19<>"",IF($P19="製程 (P)","鋼鐵製程-使用添加劑",IF($P19="逸散 (F)","廢棄污泥排放源","")),"") | T19: =IF($P19<>"",IF($P19="製程 (P)","鋼鐵製程-金屬進料",IF($P19="逸散 (F)","溶劑、噴霧劑及冷媒排放源","")),"") | U19: =IF($P19<>"",IF($P19="製程 (P)","鋼鐵製程-外售含碳產品(已知CO2排放係數",IF($P19="逸散 (F)","VOCs未經燃燒且含CH4","")),"") | V19: =IF($P19<>"",IF($P19="製程 (P)","鋼鐵製程-使用添加劑(預焙陽極炭塊與煤碳電極",IF($P19="逸散 (F)","已知VOCs濃度","")),"") | W19: =IF($P19<>"",IF($P19="製程 (P)","鋼鐵製程--外售含碳產品(已知含碳率)",IF($P19="逸散 (F)","未知VOCs濃度已知CO2排放係數","")),"") | X19: =IF($P19<>"",IF($P19="製程 (P)","半導體光電製程",IF($P19="逸散 (F)","化糞池排放源","")),"") | Y19: =IF($P19<>"",IF($P19="製程 (P)","石灰製程",IF($P19="逸散 (F)","其他","")),"") | Z19: =IF($P19<>"",IF($P19="製程 (P)","碳酸鈉製程-碳酸鈉製造",""),"") | AA19: =IF($P19<>"",IF($P19="製程 (P)","碳酸鈉製程-碳酸鈉使用",""),"") | AB19: =IF($P19<>"",IF($P19="製程 (P)","碳化物鈉製程-碳化矽製造",""),"") | AC19: =IF($P19<>"",IF($P19="製程 (P)","碳化物鈉製程-碳化鈣製造",""),"") | AD19: =IF($P19<>"",IF($P19="製程 (P)","碳化物鈉製程-碳化鈣使用",""),"") | AE19: =IF($P19<>"",IF($P19="製程 (P)","碳酸製程",""),"") | AF19: =IF($P19<>"",IF($P19="製程 (P)","已二酸製程",""),"") | AG19: =IF($P19<>"",IF($P19="製程 (P)","二氟一氯甲烷",""),"") | AH19: =IF($P19<>"",IF($P19="製程 (P)","乙炔-焊接維修製程",""),"") | AI19: =IF($P19<>"",IF($P19="製程 (P)","濕式排煙脫硫-石灰石製程",""),"") | AJ19: =IF($P19<>"",IF($P19="製程 (P)","其他",""),"") | AU19: =IF(AL19<>"",AL$3,"") | AV19: =IF(AM19<>"",AM$3,"") | AW19: =IF(AN19<>"",AN$3,"") | AX19: =IF(AO19<>"",AO$3,"") | AY19: =IF(AP19<>"",AP$3,"") | AZ19: =IF(AQ19<>"",AQ$3,"") | BA19: =IF(AR19<>"",AR$3,"") | BB19: =IF(AL19<>"","a","") | BC19: =IF(AM19<>"","b","") | BD19: =IF(AN19<>"","c","") | BE19: =IF(AO19<>"","d","") | BF19: =IF(AP19<>"","e","") | BG19: =IF(AQ19<>"","f","") | BH19: =IF(AR19<>"","g","") | BI19: =BB19&BC19&BD19&BE19&BF19&BG19&BH19 | BJ19: =IF(BI19="","",VLOOKUP($BI19,$BM$2:$BP$57,2,0)) | BK19: =IF(BI19="","",VLOOKUP($BI19,$BM$2:$BP$57,3,0)) | BL19: =IF(BI19="","",VLOOKUP($BI19,$BM$2:$BP$57,4,0)) | BM19: cf | BN19: N2O | BO19: SF6
C20: =IF(B20<>"",VLOOKUP(B20,附表五!$B$2:$C$1024,2,0),"") | F20: =IF(E20<>"",VLOOKUP(E20,附表六!$B$2:$C$325,2,0),"") | I20: =IF(H20<>"",VLOOKUP(H20,附表七!$B:$C,2,0),"") | L20: =IF(K20<>"",IF($K20="範疇2","外購電力","固定 (E)"),"") | M20: =IF(K20<>"",IF($K20="範疇2","外購蒸汽","製程 (P)"),"") | N20: =IF(K20<>"",IF($K20="範疇2","","移動 (T)"),"") | O20: =IF(K20<>"",IF($K20="範疇2","","逸散 (F)"),"") | Q20: =IF($P20<>"",IF($P20="外購電力","併網",IF($P20="製程 (P)","水泥製程",IF($P20="逸散 (F)","廢棄物排放源",""))),"") | R20: =IF($P20<>"",IF($P20="外購電力","離網",IF($P20="製程 (P)","鋼鐵製程-使用造渣劑",IF($P20="逸散 (F)","廢水排放源",""))),"") | S20: =IF($P20<>"",IF($P20="製程 (P)","鋼鐵製程-使用添加劑",IF($P20="逸散 (F)","廢棄污泥排放源","")),"") | T20: =IF($P20<>"",IF($P20="製程 (P)","鋼鐵製程-金屬進料",IF($P20="逸散 (F)","溶劑、噴霧劑及冷媒排放源","")),"") | U20: =IF($P20<>"",IF($P20="製程 (P)","鋼鐵製程-外售含碳產品(已知CO2排放係數",IF($P20="逸散 (F)","VOCs未經燃燒且含CH4","")),"") | V20: =IF($P20<>"",IF($P20="製程 (P)","鋼鐵製程-使用添加劑(預焙陽極炭塊與煤碳電極",IF($P20="逸散 (F)","已知VOCs濃度","")),"") | W20: =IF($P20<>"",IF($P20="製程 (P)","鋼鐵製程--外售含碳產品(已知含碳率)",IF($P20="逸散 (F)","未知VOCs濃度已知CO2排放係數","")),"") | X20: =IF($P20<>"",IF($P20="製程 (P)","半導體光電製程",IF($P20="逸散 (F)","化糞池排放源","")),"") | Y20: =IF($P20<>"",IF($P20="製程 (P)","石灰製程",IF($P20="逸散 (F)","其他","")),"") | Z20: =IF($P20<>"",IF($P20="製程 (P)","碳酸鈉製程-碳酸鈉製造",""),"") | AA20: =IF($P20<>"",IF($P20="製程 (P)","碳酸鈉製程-碳酸鈉使用",""),"") | AB20: =IF($P20<>"",IF($P20="製程 (P)","碳化物鈉製程-碳化矽製造",""),"") | AC20: =IF($P20<>"",IF($P20="製程 (P)","碳化物鈉製程-碳化鈣製造",""),"") | AD20: =IF($P20<>"",IF($P20="製程 (P)","碳化物鈉製程-碳化鈣使用",""),"") | AE20: =IF($P20<>"",IF($P20="製程 (P)","碳酸製程",""),"") | AF20: =IF($P20<>"",IF($P20="製程 (P)","已二酸製程",""),"") | AG20: =IF($P20<>"",IF($P20="製程 (P)","二氟一氯甲烷",""),"") | AH20: =IF($P20<>"",IF($P20="製程 (P)","乙炔-焊接維修製程",""),"") | AI20: =IF($P20<>"",IF($P20="製程 (P)","濕式排煙脫硫-石灰石製程",""),"") | AJ20: =IF($P20<>"",IF($P20="製程 (P)","其他",""),"") | AU20: =IF(AL20<>"",AL$3,"") | AV20: =IF(AM20<>"",AM$3,"") | AW20: =IF(AN20<>"",AN$3,"") | AX20: =IF(AO20<>"",AO$3,"") | AY20: =IF(AP20<>"",AP$3,"") | AZ20: =IF(AQ20<>"",AQ$3,"") | BA20: =IF(AR20<>"",AR$3,"") | BB20: =IF(AL20<>"","a","") | BC20: =IF(AM20<>"","b","") | BD20: =IF(AN20<>"","c","") | BE20: =IF(AO20<>"","d","") | BF20: =IF(AP20<>"","e","") | BG20: =IF(AQ20<>"","f","") | BH20: =IF(AR20<>"","g","") | BI20: =BB20&BC20&BD20&BE20&BF20&BG20&BH20 | BJ20: =IF(BI20="","",VLOOKUP($BI20,$BM$2:$BP$57,2,0)) | BK20: =IF(BI20="","",VLOOKUP($BI20,$BM$2:$BP$57,3,0)) | BL20: =IF(BI20="","",VLOOKUP($BI20,$BM$2:$BP$57,4,0)) | BM20: cg | BN20: N2O | BO20: NF3
C21: =IF(B21<>"",VLOOKUP(B21,附表五!$B$2:$C$1024,2,0),"") | F21: =IF(E21<>"",VLOOKUP(E21,附表六!$B$2:$C$325,2,0),"") | I21: =IF(H21<>"",VLOOKUP(H21,附表七!$B:$C,2,0),"") | L21: =IF(K21<>"",IF($K21="範疇2","外購電力","固定 (E)"),"") | M21: =IF(K21<>"",IF($K21="範疇2","外購蒸汽","製程 (P)"),"") | N21: =IF(K21<>"",IF($K21="範疇2","","移動 (T)"),"") | O21: =IF(K21<>"",IF($K21="範疇2","","逸散 (F)"),"") | Q21: =IF($P21<>"",IF($P21="外購電力","併網",IF($P21="製程 (P)","水泥製程",IF($P21="逸散 (F)","廢棄物排放源",""))),"") | R21: =IF($P21<>"",IF($P21="外購電力","離網",IF($P21="製程 (P)","鋼鐵製程-使用造渣劑",IF($P21="逸散 (F)","廢水排放源",""))),"") | S21: =IF($P21<>"",IF($P21="製程 (P)","鋼鐵製程-使用添加劑",IF($P21="逸散 (F)","廢棄污泥排放源","")),"") | T21: =IF($P21<>"",IF($P21="製程 (P)","鋼鐵製程-金屬進料",IF($P21="逸散 (F)","溶劑、噴霧劑及冷媒排放源","")),"") | U21: =IF($P21<>"",IF($P21="製程 (P)","鋼鐵製程-外售含碳產品(已知CO2排放係數",IF($P21="逸散 (F)","VOCs未經燃燒且含CH4","")),"") | V21: =IF($P21<>"",IF($P21="製程 (P)","鋼鐵製程-使用添加劑(預焙陽極炭塊與煤碳電極",IF($P21="逸散 (F)","已知VOCs濃度","")),"") | W21: =IF($P21<>"",IF($P21="製程 (P)","鋼鐵製程--外售含碳產品(已知含碳率)",IF($P21="逸散 (F)","未知VOCs濃度已知CO2排放係數","")),"") | X21: =IF($P21<>"",IF($P21="製程 (P)","半導體光電製程",IF($P21="逸散 (F)","化糞池排放源","")),"") | Y21: =IF($P21<>"",IF($P21="製程 (P)","石灰製程",IF($P21="逸散 (F)","其他","")),"") | Z21: =IF($P21<>"",IF($P21="製程 (P)","碳酸鈉製程-碳酸鈉製造",""),"") | AA21: =IF($P21<>"",IF($P21="製程 (P)","碳酸鈉製程-碳酸鈉使用",""),"") | AB21: =IF($P21<>"",IF($P21="製程 (P)","碳化物鈉製程-碳化矽製造",""),"") | AC21: =IF($P21<>"",IF($P21="製程 (P)","碳化物鈉製程-碳化鈣製造",""),"") | AD21: =IF($P21<>"",IF($P21="製程 (P)","碳化物鈉製程-碳化鈣使用",""),"") | AE21: =IF($P21<>"",IF($P21="製程 (P)","碳酸製程",""),"") | AF21: =IF($P21<>"",IF($P21="製程 (P)","已二酸製程",""),"") | AG21: =IF($P21<>"",IF($P21="製程 (P)","二氟一氯甲烷",""),"") | AH21: =IF($P21<>"",IF($P21="製程 (P)","乙炔-焊接維修製程",""),"") | AI21: =IF($P21<>"",IF($P21="製程 (P)","濕式排煙脫硫-石灰石製程",""),"") | AJ21: =IF($P21<>"",IF($P21="製程 (P)","其他",""),"") | AU21: =IF(AL21<>"",AL$3,"") | AV21: =IF(AM21<>"",AM$3,"") | AW21: =IF(AN21<>"",AN$3,"") | AX21: =IF(AO21<>"",AO$3,"") | AY21: =IF(AP21<>"",AP$3,"") | AZ21: =IF(AQ21<>"",AQ$3,"") | BA21: =IF(AR21<>"",AR$3,"") | BB21: =IF(AL21<>"","a","") | BC21: =IF(AM21<>"","b","") | BD21: =IF(AN21<>"","c","") | BE21: =IF(AO21<>"","d","") | BF21: =IF(AP21<>"","e","") | BG21: =IF(AQ21<>"","f","") | BH21: =IF(AR21<>"","g","") | BI21: =BB21&BC21&BD21&BE21&BF21&BG21&BH21 | BJ21: =IF(BI21="","",VLOOKUP($BI21,$BM$2:$BP$57,2,0)) | BK21: =IF(BI21="","",VLOOKUP($BI21,$BM$2:$BP$57,3,0)) | BL21: =IF(BI21="","",VLOOKUP($BI21,$BM$2:$BP$57,4,0)) | BM21: de | BN21: HFCS | BO21: PFCS
C22: =IF(B22<>"",VLOOKUP(B22,附表五!$B$2:$C$1024,2,0),"") | F22: =IF(E22<>"",VLOOKUP(E22,附表六!$B$2:$C$325,2,0),"") | I22: =IF(H22<>"",VLOOKUP(H22,附表七!$B:$C,2,0),"") | L22: =IF(K22<>"",IF($K22="範疇2","外購電力","固定 (E)"),"") | M22: =IF(K22<>"",IF($K22="範疇2","外購蒸汽","製程 (P)"),"") | N22: =IF(K22<>"",IF($K22="範疇2","","移動 (T)"),"") | O22: =IF(K22<>"",IF($K22="範疇2","","逸散 (F)"),"") | Q22: =IF($P22<>"",IF($P22="外購電力","併網",IF($P22="製程 (P)","水泥製程",IF($P22="逸散 (F)","廢棄物排放源",""))),"") | R22: =IF($P22<>"",IF($P22="外購電力","離網",IF($P22="製程 (P)","鋼鐵製程-使用造渣劑",IF($P22="逸散 (F)","廢水排放源",""))),"") | S22: =IF($P22<>"",IF($P22="製程 (P)","鋼鐵製程-使用添加劑",IF($P22="逸散 (F)","廢棄污泥排放源","")),"") | T22: =IF($P22<>"",IF($P22="製程 (P)","鋼鐵製程-金屬進料",IF($P22="逸散 (F)","溶劑、噴霧劑及冷媒排放源","")),"") | U22: =IF($P22<>"",IF($P22="製程 (P)","鋼鐵製程-外售含碳產品(已知CO2排放係數",IF($P22="逸散 (F)","VOCs未經燃燒且含CH4","")),"") | V22: =IF($P22<>"",IF($P22="製程 (P)","鋼鐵製程-使用添加劑(預焙陽極炭塊與煤碳電極",IF($P22="逸散 (F)","已知VOCs濃度","")),"") | W22: =IF($P22<>"",IF($P22="製程 (P)","鋼鐵製程--外售含碳產品(已知含碳率)",IF($P22="逸散 (F)","未知VOCs濃度已知CO2排放係數","")),"") | X22: =IF($P22<>"",IF($P22="製程 (P)","半導體光電製程",IF($P22="逸散 (F)","化糞池排放源","")),"") | Y22: =IF($P22<>"",IF($P22="製程 (P)","石灰製程",IF($P22="逸散 (F)","其他","")),"") | Z22: =IF($P22<>"",IF($P22="製程 (P)","碳酸鈉製程-碳酸鈉製造",""),"") | AA22: =IF($P22<>"",IF($P22="製程 (P)","碳酸鈉製程-碳酸鈉使用",""),"") | AB22: =IF($P22<>"",IF($P22="製程 (P)","碳化物鈉製程-碳化矽製造",""),"") | AC22: =IF($P22<>"",IF($P22="製程 (P)","碳化物鈉製程-碳化鈣製造",""),"") | AD22: =IF($P22<>"",IF($P22="製程 (P)","碳化物鈉製程-碳化鈣使用",""),"") | AE22: =IF($P22<>"",IF($P22="製程 (P)","碳酸製程",""),"") | AF22: =IF($P22<>"",IF($P22="製程 (P)","已二酸製程",""),"") | AG22: =IF($P22<>"",IF($P22="製程 (P)","二氟一氯甲烷",""),"") | AH22: =IF($P22<>"",IF($P22="製程 (P)","乙炔-焊接維修製程",""),"") | AI22: =IF($P22<>"",IF($P22="製程 (P)","濕式排煙脫硫-石灰石製程",""),"") | AJ22: =IF($P22<>"",IF($P22="製程 (P)","其他",""),"") | AU22: =IF(AL22<>"",AL$3,"") | AV22: =IF(AM22<>"",AM$3,"") | AW22: =IF(AN22<>"",AN$3,"") | AX22: =IF(AO22<>"",AO$3,"") | AY22: =IF(AP22<>"",AP$3,"") | AZ22: =IF(AQ22<>"",AQ$3,"") | BA22: =IF(AR22<>"",AR$3,"") | BB22: =IF(AL22<>"","a","") | BC22: =IF(AM22<>"","b","") | BD22: =IF(AN22<>"","c","") | BE22: =IF(AO22<>"","d","") | BF22: =IF(AP22<>"","e","") | BG22: =IF(AQ22<>"","f","") | BH22: =IF(AR22<>"","g","") | BI22: =BB22&BC22&BD22&BE22&BF22&BG22&BH22 | BJ22: =IF(BI22="","",VLOOKUP($BI22,$BM$2:$BP$57,2,0)) | BK22: =IF(BI22="","",VLOOKUP($BI22,$BM$2:$BP$57,3,0)) | BL22: =IF(BI22="","",VLOOKUP($BI22,$BM$2:$BP$57,4,0)) | BM22: df | BN22: HFCS | BO22: SF6
C23: =IF(B23<>"",VLOOKUP(B23,附表五!$B$2:$C$1024,2,0),"") | F23: =IF(E23<>"",VLOOKUP(E23,附表六!$B$2:$C$325,2,0),"") | I23: =IF(H23<>"",VLOOKUP(H23,附表七!$B:$C,2,0),"") | L23: =IF(K23<>"",IF($K23="範疇2","外購電力","固定 (E)"),"") | M23: =IF(K23<>"",IF($K23="範疇2","外購蒸汽","製程 (P)"),"") | N23: =IF(K23<>"",IF($K23="範疇2","","移動 (T)"),"") | O23: =IF(K23<>"",IF($K23="範疇2","","逸散 (F)"),"") | Q23: =IF($P23<>"",IF($P23="外購電力","併網",IF($P23="製程 (P)","水泥製程",IF($P23="逸散 (F)","廢棄物排放源",""))),"") | R23: =IF($P23<>"",IF($P23="外購電力","離網",IF($P23="製程 (P)","鋼鐵製程-使用造渣劑",IF($P23="逸散 (F)","廢水排放源",""))),"") | S23: =IF($P23<>"",IF($P23="製程 (P)","鋼鐵製程-使用添加劑",IF($P23="逸散 (F)","廢棄污泥排放源","")),"") | T23: =IF($P23<>"",IF($P23="製程 (P)","鋼鐵製程-金屬進料",IF($P23="逸散 (F)","溶劑、噴霧劑及冷媒排放源","")),"") | U23: =IF($P23<>"",IF($P23="製程 (P)","鋼鐵製程-外售含碳產品(已知CO2排放係數",IF($P23="逸散 (F)","VOCs未經燃燒且含CH4","")),"") | V23: =IF($P23<>"",IF($P23="製程 (P)","鋼鐵製程-使用添加劑(預焙陽極炭塊與煤碳電極",IF($P23="逸散 (F)","已知VOCs濃度","")),"") | W23: =IF($P23<>"",IF($P23="製程 (P)","鋼鐵製程--外售含碳產品(已知含碳率)",IF($P23="逸散 (F)","未知VOCs濃度已知CO2排放係數","")),"") | X23: =IF($P23<>"",IF($P23="製程 (P)","半導體光電製程",IF($P23="逸散 (F)","化糞池排放源","")),"") | Y23: =IF($P23<>"",IF($P23="製程 (P)","石灰製程",IF($P23="逸散 (F)","其他","")),"") | Z23: =IF($P23<>"",IF($P23="製程 (P)","碳酸鈉製程-碳酸鈉製造",""),"") | AA23: =IF($P23<>"",IF($P23="製程 (P)","碳酸鈉製程-碳酸鈉使用",""),"") | AB23: =IF($P23<>"",IF($P23="製程 (P)","碳化物鈉製程-碳化矽製造",""),"") | AC23: =IF($P23<>"",IF($P23="製程 (P)","碳化物鈉製程-碳化鈣製造",""),"") | AD23: =IF($P23<>"",IF($P23="製程 (P)","碳化物鈉製程-碳化鈣使用",""),"") | AE23: =IF($P23<>"",IF($P23="製程 (P)","碳酸製程",""),"") | AF23: =IF($P23<>"",IF($P23="製程 (P)","已二酸製程",""),"") | AG23: =IF($P23<>"",IF($P23="製程 (P)","二氟一氯甲烷",""),"") | AH23: =IF($P23<>"",IF($P23="製程 (P)","乙炔-焊接維修製程",""),"") | AI23: =IF($P23<>"",IF($P23="製程 (P)","濕式排煙脫硫-石灰石製程",""),"") | AJ23: =IF($P23<>"",IF($P23="製程 (P)","其他",""),"") | AU23: =IF(AL23<>"",AL$3,"") | AV23: =IF(AM23<>"",AM$3,"") | AW23: =IF(AN23<>"",AN$3,"") | AX23: =IF(AO23<>"",AO$3,"") | AY23: =IF(AP23<>"",AP$3,"") | AZ23: =IF(AQ23<>"",AQ$3,"") | BA23: =IF(AR23<>"",AR$3,"") | BB23: =IF(AL23<>"","a","") | BC23: =IF(AM23<>"","b","") | BD23: =IF(AN23<>"","c","") | BE23: =IF(AO23<>"","d","") | BF23: =IF(AP23<>"","e","") | BG23: =IF(AQ23<>"","f","") | BH23: =IF(AR23<>"","g","") | BI23: =BB23&BC23&BD23&BE23&BF23&BG23&BH23 | BJ23: =IF(BI23="","",VLOOKUP($BI23,$BM$2:$BP$57,2,0)) | BK23: =IF(BI23="","",VLOOKUP($BI23,$BM$2:$BP$57,3,0)) | BL23: =IF(BI23="","",VLOOKUP($BI23,$BM$2:$BP$57,4,0)) | BM23: dg | BN23: HFCS | BO23: NF3
