Workbook
Name 士林區: 附表三!$C$11
Name 大同區: 附表三!$C$5
Name 大安區: 附表三!$C$8
Name 中山區: 附表三!$C$6
Name 中正區: 附表三!$C$4
Name 仁愛區: 附表三!$C$17
Name 內湖區: 附表三!$C$13
Name 文山區: 附表三!$C$15
Name 北投區: 附表三!$C$12
Name 台中縣: [1]表單連結!#REF!
Name 台中縣: [1]表單連結!#REF!
Name 台中縣: [1]表單連結!#REF!
Name 台中縣: [1]表單連結!#REF!
Name 台中縣: [1]表單連結!#REF!
Name 台中縣: [1]表單連結!#REF!
Name 台北縣: [1]表單連結!#REF!
Name 台北縣: [1]表單連結!#REF!
Name 台北縣: [1]表單連結!#REF!
Name 台北縣: [1]表單連結!#REF!
Name 台北縣: [1]表單連結!#REF!
Name 台北縣: [1]表單連結!#REF!
Name 台南縣: [1]表單連結!#REF!
Name 台南縣: [1]表單連結!#REF!
Name 台南縣: [1]表單連結!#REF!
Name 台南縣: [1]表單連結!#REF!
Name 台南縣: [1]表單連結!#REF!
Name 台南縣: [1]表單連結!#REF!
Name 宜蘭縣: 附表三!$A$55:$A$67
Name 松山區: 附表三!$C$7
Name 花蓮縣: 附表三!$A$371:$A$383
Name 金門縣: 附表三!$A$385:$A$390
Name 信義區: 附表三!$C$10
Name 南投縣: 附表三!$A$177:$A$189
Name 南海諸島: 附表三!$A$310:$A$311
Name 南港區: 附表三!$C$14
Name 屏東縣: 附表三!$A$320:$A$352
Name 苗栗縣: 附表三!$A$101:$A$118
Name 原燃物料: [1]表三!$I$4:$I$194
Name 原燃物料代碼及名稱: [1]表三!#REF!
Name 原燃物料代碼及名稱: [1]表三!#REF!
Name 原燃物料代碼及名稱: [1]表三!#REF!
Name 原燃物料代碼及名稱: [1]表三!#REF!
Name 原燃物料代碼及名稱: [1]表三!#REF!
Name 原燃物料代碼及名稱: [1]表三!#REF!
Name 原燃物料編號_名稱: [1]表三!#REF!
Name 原燃物料編號_名稱: [1]表三!#REF!
Name 原燃物料編號_名稱: [1]表三!#REF!
Name 原燃物料編號_名稱: [1]表三!#REF!
Name 桃園市: 附表三!$A$87:$A$99
Name 高雄市: 附表三!$A$271:$A$308
Name 高雄縣: [1]表單連結!#REF!
Name 高雄縣: [1]表單連結!#REF!
Name 高雄縣: [1]表單連結!#REF!
Name 高雄縣: [1]表單連結!#REF!
Name 高雄縣: [1]表單連結!#REF!
Name 高雄縣: [1]表單連結!#REF!
Name 基隆市: 附表三!$A$17:$A$23
Name 強度行業: [2]清單!$A$76:$A$79
Name 排放型式: [2]清單!$A$65:$E$65,[2]清單!$A$66:$B$66,[2]清單!$A$67:$E$67
Name 排放強度產品: !#REF!

Sheet 表單說明
A1: 表單編號 | B1: 表單名稱 | C1: 填寫準則 | D1: 適用對象 | E1: 簡介 | F1: 表單為新增或修改 | G1: 2016.01改版內容說明 | H1: 2017.01改版內容說明 | I1: 2020.01改版內容說明
A2: 表一 | B2: 事業基本資料 | C2: ◎ | D2: 適用管理辦法與溫室氣體相關方案者及自願登錄盤查資訊者 | E2: 內容涵蓋盤查年度、基本資料、盤查及查證資訊、門檻值設定等(適用於2015年(含)之後之溫室氣體盤查作業) | F2: - | G2: 增加第2類行業別及盤查及查證資訊，其中盤查及查證資訊包含登錄原因、盤查依據規範、是否完成第三者查證、門檻值設定等。 | H2: 新增盤查表單版次(欄位O1)，排放源應依據修改次數進行調整。 合格查驗機構家數調整。 | I2: 修正盤查年度為108年之後
A3: 表二 | B3: 邊界設定 | C3: ◎ | E3: 內容涵蓋場址外涵蓋區域、場址內扣除區域、設定方法等 | F3: - | G3: 包含場址外涵蓋區域、場址內扣除區域、邊界設定方法。 | H3: - | I3: -
A4: 表三 | B4: 排放源鑑別 | C4: ◎ | E4: 內容涵蓋組織邊界設定及排放源鑑別資料 | F4: - | G4: 將原表單之排放型式與範疇二型式整合為單一欄位(排放型式)，該欄位可依範疇別變換其排放型式選項；修正製程或逸散類別之欄位選項，調整與登錄平台設定一致。 新增溫室氣體種類NF3。 | H4: 新增範疇二外購電力之類別，排放源應選擇為離網電力或併網電力。(AK欄位) | I4: -
A5: 表四 | B5: 活動數據 | C5: ◎ | E5: 內容涵蓋設備排放源活動數據數值及來源等相關資料填寫 | F5: - | G5: 增加活動數據分配比率之欄位。 活動數據種類（R欄位）文字調整與系統一致。 | H5: 新增電力/蒸汽供應商名稱欄位(L欄位)，倘排放源使用之電力為離網電力，則排放源應完整說明電力/蒸氣供應商之名稱。 | I5: -
A6: 表五 | B6: 定量盤查 | C6: ◎ | E6: 內容涵蓋設備排放源排放係數、來源、GWP值及排放量計算等資訊 | F6: - | G6: 增加係數類型之欄位，選項內容與登錄平台設定一致；並依有效位數之運算邏輯將排放量與排放當量之小數位數由2位修改為4位。 102年(含102年)之係數，以轉換為係數管理表6.0.1版次。 104年(含104年)之係數，以轉換為係數管理表6.0.2版次。 | H6: 溫暖化潛勢採用IPCC 第四次評估報告(2007)之數值。(U、AF、AQ欄位) | I6: -
A7: 表六 | B7: 數據品質管理 | C7: ◎ | E7: 提供自廠品質管理等及管控作業，主要利用活動數據、排放係數及儀器校正等項目進行數據品質分級管理評估 | F7: - | G7: 由於單一排放源之各類溫室氣體排放係數來源出處應相同，因此刪除以各類溫室氣體排放係數分列其數據品質，僅保留單一排放源排放係數之數據品質欄位。 G欄位，活動數據種類等級評分修改，財務會計推估之評分修改為3 | H7: - | I7: -
A8: 表七 | B8: 不確定性定量評估 | C8: ◎ | E8: 提供不確定性定量評估作業表單，主要利用活動數據及排放係數之不確定性數值，進行清冊不確定性量化評估 | F8: - | G8: O、P、W、X、AE、AF欄位鎖定位數至小數點後3位。 | H8: - | I8: -
A9: 表八 | B9: 溫室氣體排放量彙總 | C9: ◎ | E9: 包括填寫整廠電力資訊及展現各類溫室氣體排放量、數據品質及不確定性評估結果 | F9: - | G9: 因應溫室氣體排放量盤查登錄管理辦法規定將排放總量之小數位數由2位修改為3位。 另其餘溫室氣體排放量統計顯示至小數點後4位。 | H9: 彙整表六，修正進行不確定性量化分析之排放量占比之公式。(G27、H27、G29欄位) | I9: -
A10: 表九 | B10: 全廠電力、蒸汽供需情況 | C10: ◎ | E10: 填寫全廠電力及蒸汽生產及供應情況 | F10: - | G10: - | H10: 新增表單 | I10: -
A11: 附表一 | B11: 溫室氣體排放係數管理表 | C11: △ | E11: 適用盤查年度為2009年(含)後之對象，提供IPCC 2006年燃料燃燒CO2原始係數與95%信賴區間不確性%及能源局熱值 | F11: 修改(2020.01) | G11: 綜合各版次(6.0.1版與6.0.2版)之排放係數管理表 | H11: - | I11: 排放係數管理表更新為6.0.4版
A12: 附表二 | B12: GWP表 | C12: △ | E12: 溫暖化潛勢值(GWP)，包括IPCC之1995年、2001年、2007、2013年等年度。 | F12: - | G12: 新增AR5之GWP值 H2欄位修正為IPCC第五次評估報告(2013) | H12: - | I12: 新增氟化物
A13: 附表三 | B13: 郵遞區號 | C13: △ | E13: 國內地政資訊 | F13: - | H13: - | I13: -
A14: 附表四 | B14: 行業別分類表 | C14: △ | E14: 行業別之代碼與所對應名稱 | F14: - | G14: 調整為與登錄平台之內容設定一致 | H14: - | I14: -
A15: 附表五 | B15: 製程分類 | C15: △ | E15: 製程之代碼與所對應名稱 | F15: - | G15: 調整為與登錄平台之內容設定一致 | H15: - | I15: -
A16: 附表六 | B16: 設備分類表 | C16: △ | E16: 設備之代碼與所對應名稱 | F16: - | G16: 調整為與登錄平台之內容設定一致 | H16: - | I16: -
A17: 附表七 | B17: 原燃物料或產品分類表 | C17: △ | E17: 原燃物料或產品之代碼與所對應名稱 | F17: - | G17: 調整為與登錄平台之內容設定一致 新增GG3501認購綠電代碼 | H17: - | I17: 新增氟化物、電證合一代碼
A18: 註1：◎→必填；△→僅供參酌
A19: 註2：本盤查申報作業表單僅供單一管制編號進行溫室氣體盤查清冊資訊蒐集。
A20: 註3：工作表皆已設置保護程式，保護密碼為1234。
A21: 註4：＊為非必要填寫欄位。
A22: 註5：於盤查表單表中橘色欄位會提供下拉式選擇；灰色欄位會自動帶出資訊。

Sheet 表一
A1: 一、事業基本資料 | E1: 盤查日期： | G1: 民國109年01月01日 | O1: 盤查表單版次： | Q1: V1
A2: 盤查 年度 | C2: 基本資料 | Y2: 盤查及查證資訊 | AC2: 門檻值設定 | AF2: 備註
C3: 管制 編號 | D3: 事業名稱 | E3: 統一 編號 | F3: 工廠 登記證 編號 | G3: 縣 市 別 | H3: 鄉 鎮 別 | I3: 郵遞 區號3 | J3: 里 別* | K3: 鄰 別* | L3: 地址 | M3: 員工 人數* | N3: 負責人 姓名 | O3: 事業電子信箱(忘記密碼寄發信箱) | P3: 聯絡人資訊 | U3: 行業分類4 | Y3: 登錄 原因 | Z3: 盤查 依據 規範 | AA3: 是否經第三者查證 | AB3: 查驗 機構 名稱 | AC3: 顯著性門檻 | AD3: 實質性門檻 | AE3: 排除門檻
P4: 姓名 | Q4: 電話 | R4: 電子 信箱 | S4: 傳真* | T4: 手機 | U4: 行業代碼1 | V4: 行業名稱1 | W4: 行業代碼* | X4: 行業名稱2
A5: 民國 | B5: 109 | C5: A1234567 | D5: 環科工程顧問股份有限公司台北廠 | E5: 27718879 | G5: 臺北市 | H5: 大安區 | I5: =VLOOKUP(G5&H5,附表三!$B$4:$C$395,2,) -> 106 | L5: 忠孝東路四段280號 | M5: 100 | N5: 吳先生 | O5: 123abc@estc.tw | P5: 王小明 | Q5: (02)2775-3919#331 | U5: 2413 | V5: =VLOOKUP(U5,附表四!$B$2:$C$558,2,) -> 鋼鐵軋延及擠型業 | X5: =IFERROR(VLOOKUP(W5,附表四!$B$2:$C$558,2,),"") | Y5: 依法申報 | Z5: ISO / CNS 14064-1 | AA5: 是 | AB5: 立恩威國際驗證股份有限公司(DNV GL) | AC5: 0.03 | AD5: 0.05 | AE5: 0.005
A6: 填表說明
A7: 1. | B7: 白色底色欄位表示由使用者自行填寫之欄位；灰色底色欄位表示由表單自動產生之欄位（已設定公式）；橘色底色欄位為下拉式選項，由使用者選擇代入。
A8: 2. | B8: "*" 表非必填欄位。
A9: 3. | B9: 行業別代碼為4位數字，如為0500 石油及天然氣礦業，行業別代碼及其所對應名稱請參閱附表四。
A19: 連結設定
A20: 年度 | B20: 登錄原因 | C20: 盤查依據規範 | D20: 查驗機構
A21: 108 | B21: 自願性登錄 | C21: 溫室氣體排放量盤查登錄管理辦法/溫室氣體盤查登錄作業指引 | D21: 艾法諾國際股份有限公司(AFNOR)
A22: 109 | B22: 環評承諾 | C22: ISO / CNS 14064-1 | D22: 香港商英國標準協會太平洋有限公司台灣分公司(Bsi)
A23: 110 | B23: 依法登錄 | C23: 溫室氣體盤查議定書-企業會計與報告標準 | D23: 台灣衛理國際品保驗證股份有限公司(BV)
A24: 111 | B24: 其他 | C24: 溫室氣體排放量盤查登錄管理辦法/溫室氣體盤查登錄作業指引與ISO / CNS 14064-1 | D24: 立恩威國際驗證股份有限公司(DNV GL)
A25: 112 | C25: 溫室氣體排放量盤查登錄管理辦法/溫室氣體盤查登錄作業指引與溫室氣體盤查議定書-企業會計與報告標準 | D25: 英商勞氏檢驗股份有限公司台灣分公司(LRQA)
A26: 113 | C26: ISO / CNS 14064-1與溫室氣體盤查議定書-企業會計與報告標準 | D26: 台灣檢驗科技股份有限公司(SGS)
A27: 114 | C27: 溫室氣體排放量盤查登錄管理辦法/溫室氣體盤查登錄作業指引、ISO / CNS 14064-1與溫室氣體盤查議定書-企業會計與報告標準 | D27: 台灣德國萊因技術監護顧問股份有限公司(TÜV-Rh)
A28: 115 | D28: 無
A29: 116
A30: 117
A31: 118
A32: 119
A33: 120

Sheet 表二
A1: 二、邊界設定 | C1: 盤查日期： | E1: =表一!G1 -> 民國109年01月01日 | H1: =表一!O1 -> 盤查表單版次： | I1: =表一!Q1 -> V1
A2: (一) | B2: 場址外涵蓋區域* | C2: 餐廳
C3: 宿舍
C4: 宿舍
A5: (二) | B5: 場址內扣除區域*
A6: (三) | B6: 設定方法 | C6: 營運控制法
A7: 填表說明
A8: 1. | B8: 白色底色欄位表示由使用者自行填寫之欄位；灰色底色欄位表示由表單自動產生之欄位（已設定公式）；橘色底色欄位為下拉式選項，由使用者選擇代入。
A9: 2. | B9: "*" 表非必填欄位。

Sheet 表三
A1: 三、排放源鑑別 | D1: 盤查日期： | F1: =表一!G1 -> 民國109年01月01日 | G1: =表一!O1 -> 盤查表單版次： | I1: =表一!Q1 -> V1
A2: 製程 | D2: 設備 | G2: 原燃物料或產品 | K2: 排放源資料 | AL2: 可能產生溫室氣體種類12 | AS2: 是否屬汽電共生設備 | AT2: 備註* | BM2: a | BN2: CO2
A3: 編號3 | B3: 代碼4 | C3: 名稱 | D3: 編號5 | E3: 代碼6 | F3: 名稱 | G3: 類別7 | H3: 代碼8 | I3: 名稱 | J3: 是否屬生質能源 | K3: 範疇別9 | L3: 排放型式下拉式選單項目 | P3: 排放型式10 | Q3: 製程或逸散類別下拉式選單項目 | AK3: 製程/逸散/外購電力類別11 | AL3: CO2 | AM3: CH4 | AN3: N2O | AO3: HFCS | AP3: PFCS | AQ3: SF6 | AR3: NF3 | BM3: b | BN3: CH4
A4: G01 | B4: 000999 | C4: =IF(B4<>"",VLOOKUP(B4,附表五!$B$2:$C$1024,2,0),"") -> 其他未分類製程 | D4: GM01 | E4: 0201 | F4: =IF(E4<>"",VLOOKUP(E4,附表六!$B$2:$C$325,2,0),"") -> 柴油引擎 | G4: 1.原燃物料 | H4: 170006 | I4: =IF(H4<>"",VLOOKUP(H4,附表七!$B:$C,2,0),"") -> 柴油 | J4: 否 | K4: 範疇1 | L4: =IF(K4<>"",IF($K4="範疇2","外購電力","固定 (E)"),"") -> 固定 (E) | M4: =IF(K4<>"",IF($K4="範疇2","外購蒸汽","製程 (P)"),"") -> 製程 (P) | N4: =IF(K4<>"",IF($K4="範疇2","","移動 (T)"),"") -> 移動 (T) | O4: =IF(K4<>"",IF($K4="範疇2","","逸散 (F)"),"") -> 逸散 (F) | P4: 固定 (E) | Q4: =IF($P4<>"",IF($P4="外購電力","併網",IF($P4="製程 (P)","水泥製程",IF($P4="逸散 (F)","廢棄物排放源",""))),"") | R4: =IF($P4<>"",IF($P4="外購電力","離網",IF($P4="製程 (P)","鋼鐵製程-使用造渣劑",IF($P4="逸散 (F)","廢水排放源",""))),"") | S4: =IF($P4<>"",IF($P4="製程 (P)","鋼鐵製程-使用添加劑",IF($P4="逸散 (F)","廢棄污泥排放源","")),"") | T4: =IF($P4<>"",IF($P4="製程 (P)","鋼鐵製程-金屬進料",IF($P4="逸散 (F)","溶劑、噴霧劑及冷媒排放源","")),"") | U4: =IF($P4<>"",IF($P4="製程 (P)","鋼鐵製程-外售含碳產品(已知CO2排放係數",IF($P4="逸散 (F)","VOCs未經燃燒且含CH4","")),"") | V4: =IF($P4<>"",IF($P4="製程 (P)","鋼鐵製程-使用添加劑(預焙陽極炭塊與煤碳電極",IF($P4="逸散 (F)","已知VOCs濃度","")),"") | W4: =IF($P4<>"",IF($P4="製程 (P)","鋼鐵製程--外售含碳產品(已知含碳率)",IF($P4="逸散 (F)","未知VOCs濃度已知CO2排放係數","")),"") | X4: =IF($P4<>"",IF($P4="製程 (P)","半導體光電製程",IF($P4="逸散 (F)","化糞池排放源","")),"") | Y4: =IF($P4<>"",IF($P4="製程 (P)","石灰製程",IF($P4="逸散 (F)","其他","")),"") | Z4: =IF($P4<>"",IF($P4="製程 (P)","碳酸鈉製程-碳酸鈉製造",""),"") | AA4: =IF($P4<>"",IF($P4="製程 (P)","碳酸鈉製程-碳酸鈉使用",""),"") | AB4: =IF($P4<>"",IF($P4="製程 (P)","碳化物鈉製程-碳化矽製造",""),"") | AC4: =IF($P4<>"",IF($P4="製程 (P)","碳化物鈉製程-碳化鈣製造",""),"") | AD4: =IF($P4<>"",IF($P4="製程 (P)","碳化物鈉製程-碳化鈣使用",""),"") | AE4: =IF($P4<>"",IF($P4="製程 (P)","碳酸製程",""),"") | AF4: =IF($P4<>"",IF($P4="製程 (P)","已二酸製程",""),"") | AG4: =IF($P4<>"",IF($P4="製程 (P)","二氟一氯甲烷",""),"") | AH4: =IF($P4<>"",IF($P4="製程 (P)","乙炔-焊接維修製程",""),"") | AI4: =IF($P4<>"",IF($P4="製程 (P)","濕式排煙脫硫-石灰石製程",""),"") | AJ4: =IF($P4<>"",IF($P4="製程 (P)","其他",""),"") | AL4: v | AM4: v | AN4: v | AS4: 否 | AU4: =IF(AL4<>"",AL$3,"") -> CO2 | AV4: =IF(AM4<>"",AM$3,"") -> CH4 | AW4: =IF(AN4<>"",AN$3,"") -> N2O | AX4: =IF(AO4<>"",AO$3,"") | AY4: =IF(AP4<>"",AP$3,"") | AZ4: =IF(AQ4<>"",AQ$3,"") | BA4: =IF(AR4<>"",AR$3,"") | BB4: =IF(AL4<>"","a","") -> a | BC4: =IF(AM4<>"","b","") -> b | BD4: =IF(AN4<>"","c","") -> c | BE4: =IF(AO4<>"","d","") | BF4: =IF(AP4<>"","e","") | BG4: =IF(AQ4<>"","f","") | BH4: =IF(AR4<>"","g","") | BI4: =BB4&BC4&BD4&BE4&BF4&BG4&BH4 -> abc | BJ4: =IF(BI4="","",VLOOKUP($BI4,$BM$2:$BP$57,2,0)) -> CO2 | BK4: =IF(BI4="","",VLOOKUP($BI4,$BM$2:$BP$57,3,0)) -> CH4 | BL4: =IF(BI4="","",VLOOKUP($BI4,$BM$2:$BP$57,4,0)) -> N2O | BM4: c | BN4: N2O
A5: G02 | B5: 000999 | C5: =IF(B5<>"",VLOOKUP(B5,附表五!$B$2:$C$1024,2,0),"") -> 其他未分類製程 | D5: GM02 | E5: 0200 | F5: =IF(E5<>"",VLOOKUP(E5,附表六!$B$2:$C$325,2,0),"") -> 汽油引擎 | G5: 1.原燃物料 | H5: 170099 | I5: =IF(H5<>"",VLOOKUP(H5,附表七!$B:$C,2,0),"") -> 其他汽油 | J5: 否 | K5: 範疇1 | L5: =IF(K5<>"",IF($K5="範疇2","外購電力","固定 (E)"),"") -> 固定 (E) | M5: =IF(K5<>"",IF($K5="範疇2","外購蒸汽","製程 (P)"),"") -> 製程 (P) | N5: =IF(K5<>"",IF($K5="範疇2","","移動 (T)"),"") -> 移動 (T) | O5: =IF(K5<>"",IF($K5="範疇2","","逸散 (F)"),"") -> 逸散 (F) | P5: 固定 (E) | Q5: =IF($P5<>"",IF($P5="外購電力","併網",IF($P5="製程 (P)","水泥製程",IF($P5="逸散 (F)","廢棄物排放源",""))),"") | R5: =IF($P5<>"",IF($P5="外購電力","離網",IF($P5="製程 (P)","鋼鐵製程-使用造渣劑",IF($P5="逸散 (F)","廢水排放源",""))),"") | S5: =IF($P5<>"",IF($P5="製程 (P)","鋼鐵製程-使用添加劑",IF($P5="逸散 (F)","廢棄污泥排放源","")),"") | T5: =IF($P5<>"",IF($P5="製程 (P)","鋼鐵製程-金屬進料",IF($P5="逸散 (F)","溶劑、噴霧劑及冷媒排放源","")),"") | U5: =IF($P5<>"",IF($P5="製程 (P)","鋼鐵製程-外售含碳產品(已知CO2排放係數",IF($P5="逸散 (F)","VOCs未經燃燒且含CH4","")),"") | V5: =IF($P5<>"",IF($P5="製程 (P)","鋼鐵製程-使用添加劑(預焙陽極炭塊與煤碳電極",IF($P5="逸散 (F)","已知VOCs濃度","")),"") | W5: =IF($P5<>"",IF($P5="製程 (P)","鋼鐵製程--外售含碳產品(已知含碳率)",IF($P5="逸散 (F)","未知VOCs濃度已知CO2排放係數","")),"") | X5: =IF($P5<>"",IF($P5="製程 (P)","半導體光電製程",IF($P5="逸散 (F)","化糞池排放源","")),"") | Y5: =IF($P5<>"",IF($P5="製程 (P)","石灰製程",IF($P5="逸散 (F)","其他","")),"") | Z5: =IF($P5<>"",IF($P5="製程 (P)","碳酸鈉製程-碳酸鈉製造",""),"") | AA5: =IF($P5<>"",IF($P5="製程 (P)","碳酸鈉製程-碳酸鈉使用",""),"") | AB5: =IF($P5<>"",IF($P5="製程 (P)","碳化物鈉製程-碳化矽製造",""),"") | AC5: =IF($P5<>"",IF($P5="製程 (P)","碳化物鈉製程-碳化鈣製造",""),"") | AD5: =IF($P5<>"",IF($P5="製程 (P)","碳化物鈉製程-碳化鈣使用",""),"") | AE5: =IF($P5<>"",IF($P5="製程 (P)","碳酸製程",""),"") | AF5: =IF($P5<>"",IF($P5="製程 (P)","已二酸製程",""),"") | AG5: =IF($P5<>"",IF($P5="製程 (P)","二氟一氯甲烷",""),"") | AH5: =IF($P5<>"",IF($P5="製程 (P)","乙炔-焊接維修製程",""),"") | AI5: =IF($P5<>"",IF($P5="製程 (P)","濕式排煙脫硫-石灰石製程",""),"") | AJ5: =IF($P5<>"",IF($P5="製程 (P)","其他",""),"") | AL5: v | AM5: v | AN5: v | AS5: 否 | AU5: =IF(AL5<>"",AL$3,"") -> CO2 | AV5: =IF(AM5<>"",AM$3,"") -> CH4 | AW5: =IF(AN5<>"",AN$3,"") -> N2O | AX5: =IF(AO5<>"",AO$3,"") | AY5: =IF(AP5<>"",AP$3,"") | AZ5: =IF(AQ5<>"",AQ$3,"") | BA5: =IF(AR5<>"",AR$3,"") | BB5: =IF(AL5<>"","a","") -> a | BC5: =IF(AM5<>"","b","") -> b | BD5: =IF(AN5<>"","c","") -> c | BE5: =IF(AO5<>"","d","") | BF5: =IF(AP5<>"","e","") | BG5: =IF(AQ5<>"","f","") | BH5: =IF(AR5<>"","g","") | BI5: =BB5&BC5&BD5&BE5&BF5&BG5&BH5 -> abc | BJ5: =IF(BI5="","",VLOOKUP($BI5,$BM$2:$BP$57,2,0)) -> CO2 | BK5: =IF(BI5="","",VLOOKUP($BI5,$BM$2:$BP$57,3,0)) -> CH4 | BL5: =IF(BI5="","",VLOOKUP($BI5,$BM$2:$BP$57,4,0)) -> N2O | BM5: d | BN5: HFCS
A6: G03 | B6: G20902 | C6: =IF(B6<>"",VLOOKUP(B6,附表五!$B$2:$C$1024,2,0),"") -> 維修保養程序 | D6: GM03 | E6: 6099 | F6: =IF(E6<>"",VLOOKUP(E6,附表六!$B$2:$C$325,2,0),"") -> 其他切割設施 | G6: 1.原燃物料 | H6: 180191 | I6: =IF(H6<>"",VLOOKUP(H6,附表七!$B:$C,2,0),"") -> 乙炔 | J6: 否 | K6: 範疇1 | L6: =IF(K6<>"",IF($K6="範疇2","外購電力","固定 (E)"),"") -> 固定 (E) | M6: =IF(K6<>"",IF($K6="範疇2","外購蒸汽","製程 (P)"),"") -> 製程 (P) | N6: =IF(K6<>"",IF($K6="範疇2","","移動 (T)"),"") -> 移動 (T) | O6: =IF(K6<>"",IF($K6="範疇2","","逸散 (F)"),"") -> 逸散 (F) | P6: 製程 (P) | Q6: =IF($P6<>"",IF($P6="外購電力","併網",IF($P6="製程 (P)","水泥製程",IF($P6="逸散 (F)","廢棄物排放源",""))),"") -> 水泥製程 | R6: =IF($P6<>"",IF($P6="外購電力","離網",IF($P6="製程 (P)","鋼鐵製程-使用造渣劑",IF($P6="逸散 (F)","廢水排放源",""))),"") -> 鋼鐵製程-使用造渣劑 | S6: =IF($P6<>"",IF($P6="製程 (P)","鋼鐵製程-使用添加劑",IF($P6="逸散 (F)","廢棄污泥排放源","")),"") -> 鋼鐵製程-使用添加劑 | T6: =IF($P6<>"",IF($P6="製程 (P)","鋼鐵製程-金屬進料",IF($P6="逸散 (F)","溶劑、噴霧劑及冷媒排放源","")),"") -> 鋼鐵製程-金屬進料 | U6: =IF($P6<>"",IF($P6="製程 (P)","鋼鐵製程-外售含碳產品(已知CO2排放係數",IF($P6="逸散 (F)","VOCs未經燃燒且含CH4","")),"") -> 鋼鐵製程-外售含碳產品(已知CO2排放係數 | V6: =IF($P6<>"",IF($P6="製程 (P)","鋼鐵製程-使用添加劑(預焙陽極炭塊與煤碳電極",IF($P6="逸散 (F)","已知VOCs濃度","")),"") -> 鋼鐵製程-使用添加劑(預焙陽極炭塊與煤碳電極 | W6: =IF($P6<>"",IF($P6="製程 (P)","鋼鐵製程--外售含碳產品(已知含碳率)",IF($P6="逸散 (F)","未知VOCs濃度已知CO2排放係數","")),"") -> 鋼鐵製程--外售含碳產品(已知含碳率) | X6: =IF($P6<>"",IF($P6="製程 (P)","半導體光電製程",IF($P6="逸散 (F)","化糞池排放源","")),"") -> 半導體光電製程 | Y6: =IF($P6<>"",IF($P6="製程 (P)","石灰製程",IF($P6="逸散 (F)","其他","")),"") -> 石灰製程 | Z6: =IF($P6<>"",IF($P6="製程 (P)","碳酸鈉製程-碳酸鈉製造",""),"") -> 碳酸鈉製程-碳酸鈉製造 | AA6: =IF($P6<>"",IF($P6="製程 (P)","碳酸鈉製程-碳酸鈉使用",""),"") -> 碳酸鈉製程-碳酸鈉使用 | AB6: =IF($P6<>"",IF($P6="製程 (P)","碳化物鈉製程-碳化矽製造",""),"") -> 碳化物鈉製程-碳化矽製造 | AC6: =IF($P6<>"",IF($P6="製程 (P)","碳化物鈉製程-碳化鈣製造",""),"") -> 碳化物鈉製程-碳化鈣製造 | AD6: =IF($P6<>"",IF($P6="製程 (P)","碳化物鈉製程-碳化鈣使用",""),"") -> 碳化物鈉製程-碳化鈣使用 | AE6: =IF($P6<>"",IF($P6="製程 (P)","碳酸製程",""),"") -> 碳酸製程 | AF6: =IF($P6<>"",IF($P6="製程 (P)","已二酸製程",""),"") -> 已二酸製程 | AG6: =IF($P6<>"",IF($P6="製程 (P)","二氟一氯甲烷",""),"") -> 二氟一氯甲烷 | AH6: =IF($P6<>"",IF($P6="製程 (P)","乙炔-焊接維修製程",""),"") -> 乙炔-焊接維修製程 | AI6: =IF($P6<>"",IF($P6="製程 (P)","濕式排煙脫硫-石灰石製程",""),"") -> 濕式排煙脫硫-石灰石製程 | AJ6: =IF($P6<>"",IF($P6="製程 (P)","其他",""),"") -> 其他 | AL6: v | AS6: 否 | AU6: =IF(AL6<>"",AL$3,"") -> CO2 | AV6: =IF(AM6<>"",AM$3,"") | AW6: =IF(AN6<>"",AN$3,"") | AX6: =IF(AO6<>"",AO$3,"") | AY6: =IF(AP6<>"",AP$3,"") | AZ6: =IF(AQ6<>"",AQ$3,"") | BA6: =IF(AR6<>"",AR$3,"") | BB6: =IF(AL6<>"","a","") -> a | BC6: =IF(AM6<>"","b","") | BD6: =IF(AN6<>"","c","") | BE6: =IF(AO6<>"","d","") | BF6: =IF(AP6<>"","e","") | BG6: =IF(AQ6<>"","f","") | BH6: =IF(AR6<>"","g","") | BI6: =BB6&BC6&BD6&BE6&BF6&BG6&BH6 -> a | BJ6: =IF(BI6="","",VLOOKUP($BI6,$BM$2:$BP$57,2,0)) -> CO2 | BK6: =IF(BI6="","",VLOOKUP($BI6,$BM$2:$BP$57,3,0)) -> 0 | BL6: =IF(BI6="","",VLOOKUP($BI6,$BM$2:$BP$57,4,0)) -> 0 | BM6: e | BN6: PFCS
A7: M01 | B7: 350001 | C7: =IF(B7<>"",VLOOKUP(B7,附表五!$B$2:$C$1024,2,0),"") -> 鍋爐發電程序 | D7: E212 | E7: 0010 | F7: =IF(E7<>"",VLOOKUP(E7,附表六!$B$2:$C$325,2,0),"") -> 燃油鍋爐 | G7: 1.原燃物料 | H7: 170019 | I7: =IF(H7<>"",VLOOKUP(H7,附表七!$B:$C,2,0),"") -> ４～６號重油 | J7: 否 | K7: 範疇1 | L7: =IF(K7<>"",IF($K7="範疇2","外購電力","固定 (E)"),"") -> 固定 (E) | M7: =IF(K7<>"",IF($K7="範疇2","外購蒸汽","製程 (P)"),"") -> 製程 (P) | N7: =IF(K7<>"",IF($K7="範疇2","","移動 (T)"),"") -> 移動 (T) | O7: =IF(K7<>"",IF($K7="範疇2","","逸散 (F)"),"") -> 逸散 (F) | P7: 固定 (E) | Q7: =IF($P7<>"",IF($P7="外購電力","併網",IF($P7="製程 (P)","水泥製程",IF($P7="逸散 (F)","廢棄物排放源",""))),"") | R7: =IF($P7<>"",IF($P7="外購電力","離網",IF($P7="製程 (P)","鋼鐵製程-使用造渣劑",IF($P7="逸散 (F)","廢水排放源",""))),"") | S7: =IF($P7<>"",IF($P7="製程 (P)","鋼鐵製程-使用添加劑",IF($P7="逸散 (F)","廢棄污泥排放源","")),"") | T7: =IF($P7<>"",IF($P7="製程 (P)","鋼鐵製程-金屬進料",IF($P7="逸散 (F)","溶劑、噴霧劑及冷媒排放源","")),"") | U7: =IF($P7<>"",IF($P7="製程 (P)","鋼鐵製程-外售含碳產品(已知CO2排放係數",IF($P7="逸散 (F)","VOCs未經燃燒且含CH4","")),"") | V7: =IF($P7<>"",IF($P7="製程 (P)","鋼鐵製程-使用添加劑(預焙陽極炭塊與煤碳電極",IF($P7="逸散 (F)","已知VOCs濃度","")),"") | W7: =IF($P7<>"",IF($P7="製程 (P)","鋼鐵製程--外售含碳產品(已知含碳率)",IF($P7="逸散 (F)","未知VOCs濃度已知CO2排放係數","")),"") | X7: =IF($P7<>"",IF($P7="製程 (P)","半導體光電製程",IF($P7="逸散 (F)","化糞池排放源","")),"") | Y7: =IF($P7<>"",IF($P7="製程 (P)","石灰製程",IF($P7="逸散 (F)","其他","")),"") | Z7: =IF($P7<>"",IF($P7="製程 (P)","碳酸鈉製程-碳酸鈉製造",""),"") | AA7: =IF($P7<>"",IF($P7="製程 (P)","碳酸鈉製程-碳酸鈉使用",""),"") | AB7: =IF($P7<>"",IF($P7="製程 (P)","碳化物鈉製程-碳化矽製造",""),"") | AC7: =IF($P7<>"",IF($P7="製程 (P)","碳化物鈉製程-碳化鈣製造",""),"") | AD7: =IF($P7<>"",IF($P7="製程 (P)","碳化物鈉製程-碳化鈣使用",""),"") | AE7: =IF($P7<>"",IF($P7="製程 (P)","碳酸製程",""),"") | AF7: =IF($P7<>"",IF($P7="製程 (P)","已二酸製程",""),"") | AG7: =IF($P7<>"",IF($P7="製程 (P)","二氟一氯甲烷",""),"") | AH7: =IF($P7<>"",IF($P7="製程 (P)","乙炔-焊接維修製程",""),"") | AI7: =IF($P7<>"",IF($P7="製程 (P)","濕式排煙脫硫-石灰石製程",""),"") | AJ7: =IF($P7<>"",IF($P7="製程 (P)","其他",""),"") | AL7: v | AM7: v | AN7: v | AS7: 否 | AU7: =IF(AL7<>"",AL$3,"") -> CO2 | AV7: =IF(AM7<>"",AM$3,"") -> CH4 | AW7: =IF(AN7<>"",AN$3,"") -> N2O | AX7: =IF(AO7<>"",AO$3,"") | AY7: =IF(AP7<>"",AP$3,"") | AZ7: =IF(AQ7<>"",AQ$3,"") | BA7: =IF(AR7<>"",AR$3,"") | BB7: =IF(AL7<>"","a","") -> a | BC7: =IF(AM7<>"","b","") -> b | BD7: =IF(AN7<>"","c","") -> c | BE7: =IF(AO7<>"","d","") | BF7: =IF(AP7<>"","e","") | BG7: =IF(AQ7<>"","f","") | BH7: =IF(AR7<>"","g","") | BI7: =BB7&BC7&BD7&BE7&BF7&BG7&BH7 -> abc | BJ7: =IF(BI7="","",VLOOKUP($BI7,$BM$2:$BP$57,2,0)) -> CO2 | BK7: =IF(BI7="","",VLOOKUP($BI7,$BM$2:$BP$57,3,0)) -> CH4 | BL7: =IF(BI7="","",VLOOKUP($BI7,$BM$2:$BP$57,4,0)) -> N2O | BM7: f | BN7: SF6
A8: M02 | B8: 350001 | C8: =IF(B8<>"",VLOOKUP(B8,附表五!$B$2:$C$1024,2,0),"") -> 鍋爐發電程序 | D8: E213 | E8: 0020 | F8: =IF(E8<>"",VLOOKUP(E8,附表六!$B$2:$C$325,2,0),"") -> 燃氣鍋爐 | G8: 1.原燃物料 | H8: 050002 | I8: =IF(H8<>"",VLOOKUP(H8,附表七!$B:$C,2,0),"") -> 天然氣 | J8: 否 | K8: 範疇1 | L8: =IF(K8<>"",IF($K8="範疇2","外購電力","固定 (E)"),"") -> 固定 (E) | M8: =IF(K8<>"",IF($K8="範疇2","外購蒸汽","製程 (P)"),"") -> 製程 (P) | N8: =IF(K8<>"",IF($K8="範疇2","","移動 (T)"),"") -> 移動 (T) | O8: =IF(K8<>"",IF($K8="範疇2","","逸散 (F)"),"") -> 逸散 (F) | P8: 固定 (E) | Q8: =IF($P8<>"",IF($P8="外購電力","併網",IF($P8="製程 (P)","水泥製程",IF($P8="逸散 (F)","廢棄物排放源",""))),"") | R8: =IF($P8<>"",IF($P8="外購電力","離網",IF($P8="製程 (P)","鋼鐵製程-使用造渣劑",IF($P8="逸散 (F)","廢水排放源",""))),"") | S8: =IF($P8<>"",IF($P8="製程 (P)","鋼鐵製程-使用添加劑",IF($P8="逸散 (F)","廢棄污泥排放源","")),"") | T8: =IF($P8<>"",IF($P8="製程 (P)","鋼鐵製程-金屬進料",IF($P8="逸散 (F)","溶劑、噴霧劑及冷媒排放源","")),"") | U8: =IF($P8<>"",IF($P8="製程 (P)","鋼鐵製程-外售含碳產品(已知CO2排放係數",IF($P8="逸散 (F)","VOCs未經燃燒且含CH4","")),"") | V8: =IF($P8<>"",IF($P8="製程 (P)","鋼鐵製程-使用添加劑(預焙陽極炭塊與煤碳電極",IF($P8="逸散 (F)","已知VOCs濃度","")),"") | W8: =IF($P8<>"",IF($P8="製程 (P)","鋼鐵製程--外售含碳產品(已知含碳率)",IF($P8="逸散 (F)","未知VOCs濃度已知CO2排放係數","")),"") | X8: =IF($P8<>"",IF($P8="製程 (P)","半導體光電製程",IF($P8="逸散 (F)","化糞池排放源","")),"") | Y8: =IF($P8<>"",IF($P8="製程 (P)","石灰製程",IF($P8="逸散 (F)","其他","")),"") | Z8: =IF($P8<>"",IF($P8="製程 (P)","碳酸鈉製程-碳酸鈉製造",""),"") | AA8: =IF($P8<>"",IF($P8="製程 (P)","碳酸鈉製程-碳酸鈉使用",""),"") | AB8: =IF($P8<>"",IF($P8="製程 (P)","碳化物鈉製程-碳化矽製造",""),"") | AC8: =IF($P8<>"",IF($P8="製程 (P)","碳化物鈉製程-碳化鈣製造",""),"") | AD8: =IF($P8<>"",IF($P8="製程 (P)","碳化物鈉製程-碳化鈣使用",""),"") | AE8: =IF($P8<>"",IF($P8="製程 (P)","碳酸製程",""),"") | AF8: =IF($P8<>"",IF($P8="製程 (P)","已二酸製程",""),"") | AG8: =IF($P8<>"",IF($P8="製程 (P)","二氟一氯甲烷",""),"") | AH8: =IF($P8<>"",IF($P8="製程 (P)","乙炔-焊接維修製程",""),"") | AI8: =IF($P8<>"",IF($P8="製程 (P)","濕式排煙脫硫-石灰石製程",""),"") | AJ8: =IF($P8<>"",IF($P8="製程 (P)","其他",""),"") | AL8: v | AM8: v | AN8: v | AS8: 否 | AU8: =IF(AL8<>"",AL$3,"") -> CO2 | AV8: =IF(AM8<>"",AM$3,"") -> CH4 | AW8: =IF(AN8<>"",AN$3,"") -> N2O | AX8: =IF(AO8<>"",AO$3,"") | AY8: =IF(AP8<>"",AP$3,"") | AZ8: =IF(AQ8<>"",AQ$3,"") | BA8: =IF(AR8<>"",AR$3,"") | BB8: =IF(AL8<>"","a","") -> a | BC8: =IF(AM8<>"","b","") -> b | BD8: =IF(AN8<>"","c","") -> c | BE8: =IF(AO8<>"","d","") | BF8: =IF(AP8<>"","e","") | BG8: =IF(AQ8<>"","f","") | BH8: =IF(AR8<>"","g","") | BI8: =BB8&BC8&BD8&BE8&BF8&BG8&BH8 -> abc | BJ8: =IF(BI8="","",VLOOKUP($BI8,$BM$2:$BP$57,2,0)) -> CO2 | BK8: =IF(BI8="","",VLOOKUP($BI8,$BM$2:$BP$57,3,0)) -> CH4 | BL8: =IF(BI8="","",VLOOKUP($BI8,$BM$2:$BP$57,4,0)) -> N2O | BM8: g | BN8: NF3
A9: G04 | B9: G20900 | C9: =IF(B9<>"",VLOOKUP(B9,附表五!$B$2:$C$1024,2,0),"") -> 交通運輸活動 | D9: GV01 | E9: 0200 | F9: =IF(E9<>"",VLOOKUP(E9,附表六!$B$2:$C$325,2,0),"") -> 汽油引擎 | G9: 1.原燃物料 | H9: 170001 | I9: =IF(H9<>"",VLOOKUP(H9,附表七!$B:$C,2,0),"") -> 車用汽油 | J9: 否 | K9: 範疇1 | L9: =IF(K9<>"",IF($K9="範疇2","外購電力","固定 (E)"),"") -> 固定 (E) | M9: =IF(K9<>"",IF($K9="範疇2","外購蒸汽","製程 (P)"),"") -> 製程 (P) | N9: =IF(K9<>"",IF($K9="範疇2","","移動 (T)"),"") -> 移動 (T) | O9: =IF(K9<>"",IF($K9="範疇2","","逸散 (F)"),"") -> 逸散 (F) | P9: 移動 (T) | Q9: =IF($P9<>"",IF($P9="外購電力","併網",IF($P9="製程 (P)","水泥製程",IF($P9="逸散 (F)","廢棄物排放源",""))),"") | R9: =IF($P9<>"",IF($P9="外購電力","離網",IF($P9="製程 (P)","鋼鐵製程-使用造渣劑",IF($P9="逸散 (F)","廢水排放源",""))),"") | S9: =IF($P9<>"",IF($P9="製程 (P)","鋼鐵製程-使用添加劑",IF($P9="逸散 (F)","廢棄污泥排放源","")),"") | T9: =IF($P9<>"",IF($P9="製程 (P)","鋼鐵製程-金屬進料",IF($P9="逸散 (F)","溶劑、噴霧劑及冷媒排放源","")),"") | U9: =IF($P9<>"",IF($P9="製程 (P)","鋼鐵製程-外售含碳產品(已知CO2排放係數",IF($P9="逸散 (F)","VOCs未經燃燒且含CH4","")),"") | V9: =IF($P9<>"",IF($P9="製程 (P)","鋼鐵製程-使用添加劑(預焙陽極炭塊與煤碳電極",IF($P9="逸散 (F)","已知VOCs濃度","")),"") | W9: =IF($P9<>"",IF($P9="製程 (P)","鋼鐵製程--外售含碳產品(已知含碳率)",IF($P9="逸散 (F)","未知VOCs濃度已知CO2排放係數","")),"") | X9: =IF($P9<>"",IF($P9="製程 (P)","半導體光電製程",IF($P9="逸散 (F)","化糞池排放源","")),"") | Y9: =IF($P9<>"",IF($P9="製程 (P)","石灰製程",IF($P9="逸散 (F)","其他","")),"") | Z9: =IF($P9<>"",IF($P9="製程 (P)","碳酸鈉製程-碳酸鈉製造",""),"") | AA9: =IF($P9<>"",IF($P9="製程 (P)","碳酸鈉製程-碳酸鈉使用",""),"") | AB9: =IF($P9<>"",IF($P9="製程 (P)","碳化物鈉製程-碳化矽製造",""),"") | AC9: =IF($P9<>"",IF($P9="製程 (P)","碳化物鈉製程-碳化鈣製造",""),"") | AD9: =IF($P9<>"",IF($P9="製程 (P)","碳化物鈉製程-碳化鈣使用",""),"") | AE9: =IF($P9<>"",IF($P9="製程 (P)","碳酸製程",""),"") | AF9: =IF($P9<>"",IF($P9="製程 (P)","已二酸製程",""),"") | AG9: =IF($P9<>"",IF($P9="製程 (P)","二氟一氯甲烷",""),"") | AH9: =IF($P9<>"",IF($P9="製程 (P)","乙炔-焊接維修製程",""),"") | AI9: =IF($P9<>"",IF($P9="製程 (P)","濕式排煙脫硫-石灰石製程",""),"") | AJ9: =IF($P9<>"",IF($P9="製程 (P)","其他",""),"") | AL9: v | AM9: v | AN9: v | AS9: 否 | AU9: =IF(AL9<>"",AL$3,"") -> CO2 | AV9: =IF(AM9<>"",AM$3,"") -> CH4 | AW9: =IF(AN9<>"",AN$3,"") -> N2O | AX9: =IF(AO9<>"",AO$3,"") | AY9: =IF(AP9<>"",AP$3,"") | AZ9: =IF(AQ9<>"",AQ$3,"") | BA9: =IF(AR9<>"",AR$3,"") | BB9: =IF(AL9<>"","a","") -> a | BC9: =IF(AM9<>"","b","") -> b | BD9: =IF(AN9<>"","c","") -> c | BE9: =IF(AO9<>"","d","") | BF9: =IF(AP9<>"","e","") | BG9: =IF(AQ9<>"","f","") | BH9: =IF(AR9<>"","g","") | BI9: =BB9&BC9&BD9&BE9&BF9&BG9&BH9 -> abc | BJ9: =IF(BI9="","",VLOOKUP($BI9,$BM$2:$BP$57,2,0)) -> CO2 | BK9: =IF(BI9="","",VLOOKUP($BI9,$BM$2:$BP$57,3,0)) -> CH4 | BL9: =IF(BI9="","",VLOOKUP($BI9,$BM$2:$BP$57,4,0)) -> N2O | BM9: ab | BN9: CO2 | BO9: CH4
A10: G04 | B10: G20900 | C10: =IF(B10<>"",VLOOKUP(B10,附表五!$B$2:$C$1024,2,0),"") -> 交通運輸活動 | D10: GV02 | E10: 0200 | F10: =IF(E10<>"",VLOOKUP(E10,附表六!$B$2:$C$325,2,0),"") -> 汽油引擎 | G10: 1.原燃物料 | H10: 170001 | I10: =IF(H10<>"",VLOOKUP(H10,附表七!$B:$C,2,0),"") -> 車用汽油 | J10: 否 | K10: 範疇1 | L10: =IF(K10<>"",IF($K10="範疇2","外購電力","固定 (E)"),"") -> 固定 (E) | M10: =IF(K10<>"",IF($K10="範疇2","外購蒸汽","製程 (P)"),"") -> 製程 (P) | N10: =IF(K10<>"",IF($K10="範疇2","","移動 (T)"),"") -> 移動 (T) | O10: =IF(K10<>"",IF($K10="範疇2","","逸散 (F)"),"") -> 逸散 (F) | P10: 移動 (T) | Q10: =IF($P10<>"",IF($P10="外購電力","併網",IF($P10="製程 (P)","水泥製程",IF($P10="逸散 (F)","廢棄物排放源",""))),"") | R10: =IF($P10<>"",IF($P10="外購電力","離網",IF($P10="製程 (P)","鋼鐵製程-使用造渣劑",IF($P10="逸散 (F)","廢水排放源",""))),"") | S10: =IF($P10<>"",IF($P10="製程 (P)","鋼鐵製程-使用添加劑",IF($P10="逸散 (F)","廢棄污泥排放源","")),"") | T10: =IF($P10<>"",IF($P10="製程 (P)","鋼鐵製程-金屬進料",IF($P10="逸散 (F)","溶劑、噴霧劑及冷媒排放源","")),"") | U10: =IF($P10<>"",IF($P10="製程 (P)","鋼鐵製程-外售含碳產品(已知CO2排放係數",IF($P10="逸散 (F)","VOCs未經燃燒且含CH4","")),"") | V10: =IF($P10<>"",IF($P10="製程 (P)","鋼鐵製程-使用添加劑(預焙陽極炭塊與煤碳電極",IF($P10="逸散 (F)","已知VOCs濃度","")),"") | W10: =IF($P10<>"",IF($P10="製程 (P)","鋼鐵製程--外售含碳產品(已知含碳率)",IF($P10="逸散 (F)","未知VOCs濃度已知CO2排放係數","")),"") | X10: =IF($P10<>"",IF($P10="製程 (P)","半導體光電製程",IF($P10="逸散 (F)","化糞池排放源","")),"") | Y10: =IF($P10<>"",IF($P10="製程 (P)","石灰製程",IF($P10="逸散 (F)","其他","")),"") | Z10: =IF($P10<>"",IF($P10="製程 (P)","碳酸鈉製程-碳酸鈉製造",""),"") | AA10: =IF($P10<>"",IF($P10="製程 (P)","碳酸鈉製程-碳酸鈉使用",""),"") | AB10: =IF($P10<>"",IF($P10="製程 (P)","碳化物鈉製程-碳化矽製造",""),"") | AC10: =IF($P10<>"",IF($P10="製程 (P)","碳化物鈉製程-碳化鈣製造",""),"") | AD10: =IF($P10<>"",IF($P10="製程 (P)","碳化物鈉製程-碳化鈣使用",""),"") | AE10: =IF($P10<>"",IF($P10="製程 (P)","碳酸製程",""),"") | AF10: =IF($P10<>"",IF($P10="製程 (P)","已二酸製程",""),"") | AG10: =IF($P10<>"",IF($P10="製程 (P)","二氟一氯甲烷",""),"") | AH10: =IF($P10<>"",IF($P10="製程 (P)","乙炔-焊接維修製程",""),"") | AI10: =IF($P10<>"",IF($P10="製程 (P)","濕式排煙脫硫-石灰石製程",""),"") | AJ10: =IF($P10<>"",IF($P10="製程 (P)","其他",""),"") | AL10: v | AM10: v | AN10: v | AS10: 否 | AU10: =IF(AL10<>"",AL$3,"") -> CO2 | AV10: =IF(AM10<>"",AM$3,"") -> CH4 | AW10: =IF(AN10<>"",AN$3,"") -> N2O | AX10: =IF(AO10<>"",AO$3,"") | AY10: =IF(AP10<>"",AP$3,"") | AZ10: =IF(AQ10<>"",AQ$3,"") | BA10: =IF(AR10<>"",AR$3,"") | BB10: =IF(AL10<>"","a","") -> a | BC10: =IF(AM10<>"","b","") -> b | BD10: =IF(AN10<>"","c","") -> c | BE10: =IF(AO10<>"","d","") | BF10: =IF(AP10<>"","e","") | BG10: =IF(AQ10<>"","f","") | BH10: =IF(AR10<>"","g","") | BI10: =BB10&BC10&BD10&BE10&BF10&BG10&BH10 -> abc | BJ10: =IF(BI10="","",VLOOKUP($BI10,$BM$2:$BP$57,2,0)) -> CO2 | BK10: =IF(BI10="","",VLOOKUP($BI10,$BM$2:$BP$57,3,0)) -> CH4 | BL10: =IF(BI10="","",VLOOKUP($BI10,$BM$2:$BP$57,4,0)) -> N2O | BM10: ac | BN10: CO2 | BO10: N2O
A11: G03 | B11: G20901 | C11: =IF(B11<>"",VLOOKUP(B11,附表五!$B$2:$C$1024,2,0),"") -> 消防活動 | D11: GF01 | E11: 9798 | F11: =IF(E11<>"",VLOOKUP(E11,附表六!$B$2:$C$325,2,0),"") -> 消防設施 | G11: 1.原燃物料 | H11: 180014 | I11: =IF(H11<>"",VLOOKUP(H11,附表七!$B:$C,2,0),"") -> 二氧化碳 | J11: 否 | K11: 範疇1 | L11: =IF(K11<>"",IF($K11="範疇2","外購電力","固定 (E)"),"") -> 固定 (E) | M11: =IF(K11<>"",IF($K11="範疇2","外購蒸汽","製程 (P)"),"") -> 製程 (P) | N11: =IF(K11<>"",IF($K11="範疇2","","移動 (T)"),"") -> 移動 (T) | O11: =IF(K11<>"",IF($K11="範疇2","","逸散 (F)"),"") -> 逸散 (F) | P11: 逸散 (F) | Q11: =IF($P11<>"",IF($P11="外購電力","併網",IF($P11="製程 (P)","水泥製程",IF($P11="逸散 (F)","廢棄物排放源",""))),"") -> 廢棄物排放源 | R11: =IF($P11<>"",IF($P11="外購電力","離網",IF($P11="製程 (P)","鋼鐵製程-使用造渣劑",IF($P11="逸散 (F)","廢水排放源",""))),"") -> 廢水排放源 | S11: =IF($P11<>"",IF($P11="製程 (P)","鋼鐵製程-使用添加劑",IF($P11="逸散 (F)","廢棄污泥排放源","")),"") -> 廢棄污泥排放源 | T11: =IF($P11<>"",IF($P11="製程 (P)","鋼鐵製程-金屬進料",IF($P11="逸散 (F)","溶劑、噴霧劑及冷媒排放源","")),"") -> 溶劑、噴霧劑及冷媒排放源 | U11: =IF($P11<>"",IF($P11="製程 (P)","鋼鐵製程-外售含碳產品(已知CO2排放係數",IF($P11="逸散 (F)","VOCs未經燃燒且含CH4","")),"") -> VOCs未經燃燒且含CH4 | V11: =IF($P11<>"",IF($P11="製程 (P)","鋼鐵製程-使用添加劑(預焙陽極炭塊與煤碳電極",IF($P11="逸散 (F)","已知VOCs濃度","")),"") -> 已知VOCs濃度 | W11: =IF($P11<>"",IF($P11="製程 (P)","鋼鐵製程--外售含碳產品(已知含碳率)",IF($P11="逸散 (F)","未知VOCs濃度已知CO2排放係數","")),"") -> 未知VOCs濃度已知CO2排放係數 | X11: =IF($P11<>"",IF($P11="製程 (P)","半導體光電製程",IF($P11="逸散 (F)","化糞池排放源","")),"") -> 化糞池排放源 | Y11: =IF($P11<>"",IF($P11="製程 (P)","石灰製程",IF($P11="逸散 (F)","其他","")),"") -> 其他 | Z11: =IF($P11<>"",IF($P11="製程 (P)","碳酸鈉製程-碳酸鈉製造",""),"") | AA11: =IF($P11<>"",IF($P11="製程 (P)","碳酸鈉製程-碳酸鈉使用",""),"") | AB11: =IF($P11<>"",IF($P11="製程 (P)","碳化物鈉製程-碳化矽製造",""),"") | AC11: =IF($P11<>"",IF($P11="製程 (P)","碳化物鈉製程-碳化鈣製造",""),"") | AD11: =IF($P11<>"",IF($P11="製程 (P)","碳化物鈉製程-碳化鈣使用",""),"") | AE11: =IF($P11<>"",IF($P11="製程 (P)","碳酸製程",""),"") | AF11: =IF($P11<>"",IF($P11="製程 (P)","已二酸製程",""),"") | AG11: =IF($P11<>"",IF($P11="製程 (P)","二氟一氯甲烷",""),"") | AH11: =IF($P11<>"",IF($P11="製程 (P)","乙炔-焊接維修製程",""),"") | AI11: =IF($P11<>"",IF($P11="製程 (P)","濕式排煙脫硫-石灰石製程",""),"") | AJ11: =IF($P11<>"",IF($P11="製程 (P)","其他",""),"") | AL11: v | AS11: 否 | AU11: =IF(AL11<>"",AL$3,"") -> CO2 | AV11: =IF(AM11<>"",AM$3,"") | AW11: =IF(AN11<>"",AN$3,"") | AX11: =IF(AO11<>"",AO$3,"") | AY11: =IF(AP11<>"",AP$3,"") | AZ11: =IF(AQ11<>"",AQ$3,"") | BA11: =IF(AR11<>"",AR$3,"") | BB11: =IF(AL11<>"","a","") -> a | BC11: =IF(AM11<>"","b","") | BD11: =IF(AN11<>"","c","") | BE11: =IF(AO11<>"","d","") | BF11: =IF(AP11<>"","e","") | BG11: =IF(AQ11<>"","f","") | BH11: =IF(AR11<>"","g","") | BI11: =BB11&BC11&BD11&BE11&BF11&BG11&BH11 -> a | BJ11: =IF(BI11="","",VLOOKUP($BI11,$BM$2:$BP$57,2,0)) -> CO2 | BK11: =IF(BI11="","",VLOOKUP($BI11,$BM$2:$BP$57,3,0)) -> 0 | BL11: =IF(BI11="","",VLOOKUP($BI11,$BM$2:$BP$57,4,0)) -> 0 | BM11: ad | BN11: CO2 | BO11: HFCS
A12: G05 | B12: 370009 | C12: =IF(B12<>"",VLOOKUP(B12,附表五!$B$2:$C$1024,2,0),"") -> 其他廢水處理程序 | D12: GF01 | E12: 9795 | F12: =IF(E12<>"",VLOOKUP(E12,附表六!$B$2:$C$325,2,0),"") -> 化糞池 | G12: 1.原燃物料 | H12: GG3805 | I12: =IF(H12<>"",VLOOKUP(H12,附表七!$B:$C,2,0),"") -> 廢水處理(BOD) | J12: 否 | K12: 範疇1 | L12: =IF(K12<>"",IF($K12="範疇2","外購電力","固定 (E)"),"") -> 固定 (E) | M12: =IF(K12<>"",IF($K12="範疇2","外購蒸汽","製程 (P)"),"") -> 製程 (P) | N12: =IF(K12<>"",IF($K12="範疇2","","移動 (T)"),"") -> 移動 (T) | O12: =IF(K12<>"",IF($K12="範疇2","","逸散 (F)"),"") -> 逸散 (F) | P12: 逸散 (F) | Q12: =IF($P12<>"",IF($P12="外購電力","併網",IF($P12="製程 (P)","水泥製程",IF($P12="逸散 (F)","廢棄物排放源",""))),"") -> 廢棄物排放源 | R12: =IF($P12<>"",IF($P12="外購電力","離網",IF($P12="製程 (P)","鋼鐵製程-使用造渣劑",IF($P12="逸散 (F)","廢水排放源",""))),"") -> 廢水排放源 | S12: =IF($P12<>"",IF($P12="製程 (P)","鋼鐵製程-使用添加劑",IF($P12="逸散 (F)","廢棄污泥排放源","")),"") -> 廢棄污泥排放源 | T12: =IF($P12<>"",IF($P12="製程 (P)","鋼鐵製程-金屬進料",IF($P12="逸散 (F)","溶劑、噴霧劑及冷媒排放源","")),"") -> 溶劑、噴霧劑及冷媒排放源 | U12: =IF($P12<>"",IF($P12="製程 (P)","鋼鐵製程-外售含碳產品(已知CO2排放係數",IF($P12="逸散 (F)","VOCs未經燃燒且含CH4","")),"") -> VOCs未經燃燒且含CH4 | V12: =IF($P12<>"",IF($P12="製程 (P)","鋼鐵製程-使用添加劑(預焙陽極炭塊與煤碳電極",IF($P12="逸散 (F)","已知VOCs濃度","")),"") -> 已知VOCs濃度 | W12: =IF($P12<>"",IF($P12="製程 (P)","鋼鐵製程--外售含碳產品(已知含碳率)",IF($P12="逸散 (F)","未知VOCs濃度已知CO2排放係數","")),"") -> 未知VOCs濃度已知CO2排放係數 | X12: =IF($P12<>"",IF($P12="製程 (P)","半導體光電製程",IF($P12="逸散 (F)","化糞池排放源","")),"") -> 化糞池排放源 | Y12: =IF($P12<>"",IF($P12="製程 (P)","石灰製程",IF($P12="逸散 (F)","其他","")),"") -> 其他 | Z12: =IF($P12<>"",IF($P12="製程 (P)","碳酸鈉製程-碳酸鈉製造",""),"") | AA12: =IF($P12<>"",IF($P12="製程 (P)","碳酸鈉製程-碳酸鈉使用",""),"") | AB12: =IF($P12<>"",IF($P12="製程 (P)","碳化物鈉製程-碳化矽製造",""),"") | AC12: =IF($P12<>"",IF($P12="製程 (P)","碳化物鈉製程-碳化鈣製造",""),"") | AD12: =IF($P12<>"",IF($P12="製程 (P)","碳化物鈉製程-碳化鈣使用",""),"") | AE12: =IF($P12<>"",IF($P12="製程 (P)","碳酸製程",""),"") | AF12: =IF($P12<>"",IF($P12="製程 (P)","已二酸製程",""),"") | AG12: =IF($P12<>"",IF($P12="製程 (P)","二氟一氯甲烷",""),"") | AH12: =IF($P12<>"",IF($P12="製程 (P)","乙炔-焊接維修製程",""),"") | AI12: =IF($P12<>"",IF($P12="製程 (P)","濕式排煙脫硫-石灰石製程",""),"") | AJ12: =IF($P12<>"",IF($P12="製程 (P)","其他",""),"") | AM12: v | AS12: 否 | AU12: =IF(AL12<>"",AL$3,"") | AV12: =IF(AM12<>"",AM$3,"") -> CH4 | AW12: =IF(AN12<>"",AN$3,"") | AX12: =IF(AO12<>"",AO$3,"") | AY12: =IF(AP12<>"",AP$3,"") | AZ12: =IF(AQ12<>"",AQ$3,"") | BA12: =IF(AR12<>"",AR$3,"") | BB12: =IF(AL12<>"","a","") | BC12: =IF(AM12<>"","b","") -> b | BD12: =IF(AN12<>"","c","") | BE12: =IF(AO12<>"","d","") | BF12: =IF(AP12<>"","e","") | BG12: =IF(AQ12<>"","f","") | BH12: =IF(AR12<>"","g","") | BI12: =BB12&BC12&BD12&BE12&BF12&BG12&BH12 -> b | BJ12: =IF(BI12="","",VLOOKUP($BI12,$BM$2:$BP$57,2,0)) -> CH4 | BK12: =IF(BI12="","",VLOOKUP($BI12,$BM$2:$BP$57,3,0)) -> 0 | BL12: =IF(BI12="","",VLOOKUP($BI12,$BM$2:$BP$57,4,0)) -> 0 | BM12: ae | BN12: CO2 | BO12: PFCS
A13: G06 | B13: 000999 | C13: =IF(B13<>"",VLOOKUP(B13,附表五!$B$2:$C$1024,2,0),"") -> 其他未分類製程 | D13: GP01 | E13: 9999 | F13: =IF(E13<>"",VLOOKUP(E13,附表六!$B$2:$C$325,2,0),"") -> 其他未歸類設施 | G13: 1.原燃物料 | H13: 350099 | I13: =IF(H13<>"",VLOOKUP(H13,附表七!$B:$C,2,0),"") -> 其他電力 | J13: 否 | K13: 範疇2 | L13: =IF(K13<>"",IF($K13="範疇2","外購電力","固定 (E)"),"") -> 外購電力 | M13: =IF(K13<>"",IF($K13="範疇2","外購蒸汽","製程 (P)"),"") -> 外購蒸汽 | N13: =IF(K13<>"",IF($K13="範疇2","","移動 (T)"),"") | O13: =IF(K13<>"",IF($K13="範疇2","","逸散 (F)"),"") | P13: 外購電力 | Q13: =IF($P13<>"",IF($P13="外購電力","併網",IF($P13="製程 (P)","水泥製程",IF($P13="逸散 (F)","廢棄物排放源",""))),"") -> 併網 | R13: =IF($P13<>"",IF($P13="外購電力","離網",IF($P13="製程 (P)","鋼鐵製程-使用造渣劑",IF($P13="逸散 (F)","廢水排放源",""))),"") -> 離網 | S13: =IF($P13<>"",IF($P13="製程 (P)","鋼鐵製程-使用添加劑",IF($P13="逸散 (F)","廢棄污泥排放源","")),"") | T13: =IF($P13<>"",IF($P13="製程 (P)","鋼鐵製程-金屬進料",IF($P13="逸散 (F)","溶劑、噴霧劑及冷媒排放源","")),"") | U13: =IF($P13<>"",IF($P13="製程 (P)","鋼鐵製程-外售含碳產品(已知CO2排放係數",IF($P13="逸散 (F)","VOCs未經燃燒且含CH4","")),"") | V13: =IF($P13<>"",IF($P13="製程 (P)","鋼鐵製程-使用添加劑(預焙陽極炭塊與煤碳電極",IF($P13="逸散 (F)","已知VOCs濃度","")),"") | W13: =IF($P13<>"",IF($P13="製程 (P)","鋼鐵製程--外售含碳產品(已知含碳率)",IF($P13="逸散 (F)","未知VOCs濃度已知CO2排放係數","")),"") | X13: =IF($P13<>"",IF($P13="製程 (P)","半導體光電製程",IF($P13="逸散 (F)","化糞池排放源","")),"") | Y13: =IF($P13<>"",IF($P13="製程 (P)","石灰製程",IF($P13="逸散 (F)","其他","")),"") | Z13: =IF($P13<>"",IF($P13="製程 (P)","碳酸鈉製程-碳酸鈉製造",""),"") | AA13: =IF($P13<>"",IF($P13="製程 (P)","碳酸鈉製程-碳酸鈉使用",""),"") | AB13: =IF($P13<>"",IF($P13="製程 (P)","碳化物鈉製程-碳化矽製造",""),"") | AC13: =IF($P13<>"",IF($P13="製程 (P)","碳化物鈉製程-碳化鈣製造",""),"") | AD13: =IF($P13<>"",IF($P13="製程 (P)","碳化物鈉製程-碳化鈣使用",""),"") | AE13: =IF($P13<>"",IF($P13="製程 (P)","碳酸製程",""),"") | AF13: =IF($P13<>"",IF($P13="製程 (P)","已二酸製程",""),"") | AG13: =IF($P13<>"",IF($P13="製程 (P)","二氟一氯甲烷",""),"") | AH13: =IF($P13<>"",IF($P13="製程 (P)","乙炔-焊接維修製程",""),"") | AI13: =IF($P13<>"",IF($P13="製程 (P)","濕式排煙脫硫-石灰石製程",""),"") | AJ13: =IF($P13<>"",IF($P13="製程 (P)","其他",""),"") | AK13: 併網 | AL13: v | AS13: 否 | AU13: =IF(AL13<>"",AL$3,"") -> CO2 | AV13: =IF(AM13<>"",AM$3,"") | AW13: =IF(AN13<>"",AN$3,"") | AX13: =IF(AO13<>"",AO$3,"") | AY13: =IF(AP13<>"",AP$3,"") | AZ13: =IF(AQ13<>"",AQ$3,"") | BA13: =IF(AR13<>"",AR$3,"") | BB13: =IF(AL13<>"","a","") -> a | BC13: =IF(AM13<>"","b","") | BD13: =IF(AN13<>"","c","") | BE13: =IF(AO13<>"","d","") | BF13: =IF(AP13<>"","e","") | BG13: =IF(AQ13<>"","f","") | BH13: =IF(AR13<>"","g","") | BI13: =BB13&BC13&BD13&BE13&BF13&BG13&BH13 -> a | BJ13: =IF(BI13="","",VLOOKUP($BI13,$BM$2:$BP$57,2,0)) -> CO2 | BK13: =IF(BI13="","",VLOOKUP($BI13,$BM$2:$BP$57,3,0)) -> 0 | BL13: =IF(BI13="","",VLOOKUP($BI13,$BM$2:$BP$57,4,0)) -> 0 | BM13: af | BN13: CO2 | BO13: SF6
A14: G06 | B14: 000999 | C14: =IF(B14<>"",VLOOKUP(B14,附表五!$B$2:$C$1024,2,0),"") -> 其他未分類製程 | D14: GP02 | E14: 9999 | F14: =IF(E14<>"",VLOOKUP(E14,附表六!$B$2:$C$325,2,0),"") -> 其他未歸類設施 | G14: 1.原燃物料 | H14: GG3502 | I14: =IF(H14<>"",VLOOKUP(H14,附表七!$B:$C,2,0),"") -> REC登載電力使用-電證合一 | J14: 否 | K14: 範疇2 | L14: =IF(K14<>"",IF($K14="範疇2","外購電力","固定 (E)"),"") -> 外購電力 | M14: =IF(K14<>"",IF($K14="範疇2","外購蒸汽","製程 (P)"),"") -> 外購蒸汽 | N14: =IF(K14<>"",IF($K14="範疇2","","移動 (T)"),"") | O14: =IF(K14<>"",IF($K14="範疇2","","逸散 (F)"),"") | P14: 外購電力 | Q14: =IF($P14<>"",IF($P14="外購電力","併網",IF($P14="製程 (P)","水泥製程",IF($P14="逸散 (F)","廢棄物排放源",""))),"") -> 併網 | R14: =IF($P14<>"",IF($P14="外購電力","離網",IF($P14="製程 (P)","鋼鐵製程-使用造渣劑",IF($P14="逸散 (F)","廢水排放源",""))),"") -> 離網 | S14: =IF($P14<>"",IF($P14="製程 (P)","鋼鐵製程-使用添加劑",IF($P14="逸散 (F)","廢棄污泥排放源","")),"") | T14: =IF($P14<>"",IF($P14="製程 (P)","鋼鐵製程-金屬進料",IF($P14="逸散 (F)","溶劑、噴霧劑及冷媒排放源","")),"") | U14: =IF($P14<>"",IF($P14="製程 (P)","鋼鐵製程-外售含碳產品(已知CO2排放係數",IF($P14="逸散 (F)","VOCs未經燃燒且含CH4","")),"") | V14: =IF($P14<>"",IF($P14="製程 (P)","鋼鐵製程-使用添加劑(預焙陽極炭塊與煤碳電極",IF($P14="逸散 (F)","已知VOCs濃度","")),"") | W14: =IF($P14<>"",IF($P14="製程 (P)","鋼鐵製程--外售含碳產品(已知含碳率)",IF($P14="逸散 (F)","未知VOCs濃度已知CO2排放係數","")),"") | X14: =IF($P14<>"",IF($P14="製程 (P)","半導體光電製程",IF($P14="逸散 (F)","化糞池排放源","")),"") | Y14: =IF($P14<>"",IF($P14="製程 (P)","石灰製程",IF($P14="逸散 (F)","其他","")),"") | Z14: =IF($P14<>"",IF($P14="製程 (P)","碳酸鈉製程-碳酸鈉製造",""),"") | AA14: =IF($P14<>"",IF($P14="製程 (P)","碳酸鈉製程-碳酸鈉使用",""),"") | AB14: =IF($P14<>"",IF($P14="製程 (P)","碳化物鈉製程-碳化矽製造",""),"") | AC14: =IF($P14<>"",IF($P14="製程 (P)","碳化物鈉製程-碳化鈣製造",""),"") | AD14: =IF($P14<>"",IF($P14="製程 (P)","碳化物鈉製程-碳化鈣使用",""),"") | AE14: =IF($P14<>"",IF($P14="製程 (P)","碳酸製程",""),"") | AF14: =IF($P14<>"",IF($P14="製程 (P)","已二酸製程",""),"") | AG14: =IF($P14<>"",IF($P14="製程 (P)","二氟一氯甲烷",""),"") | AH14: =IF($P14<>"",IF($P14="製程 (P)","乙炔-焊接維修製程",""),"") | AI14: =IF($P14<>"",IF($P14="製程 (P)","濕式排煙脫硫-石灰石製程",""),"") | AJ14: =IF($P14<>"",IF($P14="製程 (P)","其他",""),"") | AK14: 併網 | AL14: v | AS14: 否 | AU14: =IF(AL14<>"",AL$3,"") -> CO2 | AV14: =IF(AM14<>"",AM$3,"") | AW14: =IF(AN14<>"",AN$3,"") | AX14: =IF(AO14<>"",AO$3,"") | AY14: =IF(AP14<>"",AP$3,"") | AZ14: =IF(AQ14<>"",AQ$3,"") | BA14: =IF(AR14<>"",AR$3,"") | BB14: =IF(AL14<>"","a","") -> a | BC14: =IF(AM14<>"","b","") | BD14: =IF(AN14<>"","c","") | BE14: =IF(AO14<>"","d","") | BF14: =IF(AP14<>"","e","") | BG14: =IF(AQ14<>"","f","") | BH14: =IF(AR14<>"","g","") | BI14: =BB14&BC14&BD14&BE14&BF14&BG14&BH14 -> a | BJ14: =IF(BI14="","",VLOOKUP($BI14,$BM$2:$BP$57,2,0)) -> CO2 | BK14: =IF(BI14="","",VLOOKUP($BI14,$BM$2:$BP$57,3,0)) -> 0 | BL14: =IF(BI14="","",VLOOKUP($BI14,$BM$2:$BP$57,4,0)) -> 0 | BM14: ag | BN14: CO2 | BO14: NF3
C15: =IF(B15<>"",VLOOKUP(B15,附表五!$B$2:$C$1024,2,0),"") | F15: =IF(E15<>"",VLOOKUP(E15,附表六!$B$2:$C$325,2,0),"") | I15: =IF(H15<>"",VLOOKUP(H15,附表七!$B:$C,2,0),"") | L15: =IF(K15<>"",IF($K15="範疇2","外購電力","固定 (E)"),"") | M15: =IF(K15<>"",IF($K15="範疇2","外購蒸汽","製程 (P)"),"") | N15: =IF(K15<>"",IF($K15="範疇2","","移動 (T)"),"") | O15: =IF(K15<>"",IF($K15="範疇2","","逸散 (F)"),"") | Q15: =IF($P15<>"",IF($P15="外購電力","併網",IF($P15="製程 (P)","水泥製程",IF($P15="逸散 (F)","廢棄物排放源",""))),"") | R15: =IF($P15<>"",IF($P15="外購電力","離網",IF($P15="製程 (P)","鋼鐵製程-使用造渣劑",IF($P15="逸散 (F)","廢水排放源",""))),"") | S15: =IF($P15<>"",IF($P15="製程 (P)","鋼鐵製程-使用添加劑",IF($P15="逸散 (F)","廢棄污泥排放源","")),"") | T15: =IF($P15<>"",IF($P15="製程 (P)","鋼鐵製程-金屬進料",IF($P15="逸散 (F)","溶劑、噴霧劑及冷媒排放源","")),"") | U15: =IF($P15<>"",IF($P15="製程 (P)","鋼鐵製程-外售含碳產品(已知CO2排放係數",IF($P15="逸散 (F)","VOCs未經燃燒且含CH4","")),"") | V15: =IF($P15<>"",IF($P15="製程 (P)","鋼鐵製程-使用添加劑(預焙陽極炭塊與煤碳電極",IF($P15="逸散 (F)","已知VOCs濃度","")),"") | W15: =IF($P15<>"",IF($P15="製程 (P)","鋼鐵製程--外售含碳產品(已知含碳率)",IF($P15="逸散 (F)","未知VOCs濃度已知CO2排放係數","")),"") | X15: =IF($P15<>"",IF($P15="製程 (P)","半導體光電製程",IF($P15="逸散 (F)","化糞池排放源","")),"") | Y15: =IF($P15<>"",IF($P15="製程 (P)","石灰製程",IF($P15="逸散 (F)","其他","")),"") | Z15: =IF($P15<>"",IF($P15="製程 (P)","碳酸鈉製程-碳酸鈉製造",""),"") | AA15: =IF($P15<>"",IF($P15="製程 (P)","碳酸鈉製程-碳酸鈉使用",""),"") | AB15: =IF($P15<>"",IF($P15="製程 (P)","碳化物鈉製程-碳化矽製造",""),"") | AC15: =IF($P15<>"",IF($P15="製程 (P)","碳化物鈉製程-碳化鈣製造",""),"") | AD15: =IF($P15<>"",IF($P15="製程 (P)","碳化物鈉製程-碳化鈣使用",""),"") | AE15: =IF($P15<>"",IF($P15="製程 (P)","碳酸製程",""),"") | AF15: =IF($P15<>"",IF($P15="製程 (P)","已二酸製程",""),"") | AG15: =IF($P15<>"",IF($P15="製程 (P)","二氟一氯甲烷",""),"") | AH15: =IF($P15<>"",IF($P15="製程 (P)","乙炔-焊接維修製程",""),"") | AI15: =IF($P15<>"",IF($P15="製程 (P)","濕式排煙脫硫-石灰石製程",""),"") | AJ15: =IF($P15<>"",IF($P15="製程 (P)","其他",""),"") | AU15: =IF(AL15<>"",AL$3,"") | AV15: =IF(AM15<>"",AM$3,"") | AW15: =IF(AN15<>"",AN$3,"") | AX15: =IF(AO15<>"",AO$3,"") | AY15: =IF(AP15<>"",AP$3,"") | AZ15: =IF(AQ15<>"",AQ$3,"") | BA15: =IF(AR15<>"",AR$3,"") | BB15: =IF(AL15<>"","a","") | BC15: =IF(AM15<>"","b","") | BD15: =IF(AN15<>"","c","") | BE15: =IF(AO15<>"","d","") | BF15: =IF(AP15<>"","e","") | BG15: =IF(AQ15<>"","f","") | BH15: =IF(AR15<>"","g","") | BI15: =BB15&BC15&BD15&BE15&BF15&BG15&BH15 | BJ15: =IF(BI15="","",VLOOKUP($BI15,$BM$2:$BP$57,2,0)) | BK15: =IF(BI15="","",VLOOKUP($BI15,$BM$2:$BP$57,3,0)) | BL15: =IF(BI15="","",VLOOKUP($BI15,$BM$2:$BP$57,4,0)) | BM15: bf | BN15: CH4 | BO15: SF6
C16: =IF(B16<>"",VLOOKUP(B16,附表五!$B$2:$C$1024,2,0),"") | F16: =IF(E16<>"",VLOOKUP(E16,附表六!$B$2:$C$325,2,0),"") | I16: =IF(H16<>"",VLOOKUP(H16,附表七!$B:$C,2,0),"") | L16: =IF(K16<>"",IF($K16="範疇2","外購電力","固定 (E)"),"") | M16: =IF(K16<>"",IF($K16="範疇2","外購蒸汽","製程 (P)"),"") | N16: =IF(K16<>"",IF($K16="範疇2","","移動 (T)"),"") | O16: =IF(K16<>"",IF($K16="範疇2","","逸散 (F)"),"") | Q16: =IF($P16<>"",IF($P16="外購電力","併網",IF($P16="製程 (P)","水泥製程",IF($P16="逸散 (F)","廢棄物排放源",""))),"") | R16: =IF($P16<>"",IF($P16="外購電力","離網",IF($P16="製程 (P)","鋼鐵製程-使用造渣劑",IF($P16="逸散 (F)","廢水排放源",""))),"") | S16: =IF($P16<>"",IF($P16="製程 (P)","鋼鐵製程-使用添加劑",IF($P16="逸散 (F)","廢棄污泥排放源","")),"") | T16: =IF($P16<>"",IF($P16="製程 (P)","鋼鐵製程-金屬進料",IF($P16="逸散 (F)","溶劑、噴霧劑及冷媒排放源","")),"") | U16: =IF($P16<>"",IF($P16="製程 (P)","鋼鐵製程-外售含碳產品(已知CO2排放係數",IF($P16="逸散 (F)","VOCs未經燃燒且含CH4","")),"") | V16: =IF($P16<>"",IF($P16="製程 (P)","鋼鐵製程-使用添加劑(預焙陽極炭塊與煤碳電極",IF($P16="逸散 (F)","已知VOCs濃度","")),"") | W16: =IF($P16<>"",IF($P16="製程 (P)","鋼鐵製程--外售含碳產品(已知含碳率)",IF($P16="逸散 (F)","未知VOCs濃度已知CO2排放係數","")),"") | X16: =IF($P16<>"",IF($P16="製程 (P)","半導體光電製程",IF($P16="逸散 (F)","化糞池排放源","")),"") | Y16: =IF($P16<>"",IF($P16="製程 (P)","石灰製程",IF($P16="逸散 (F)","其他","")),"") | Z16: =IF($P16<>"",IF($P16="製程 (P)","碳酸鈉製程-碳酸鈉製造",""),"") | AA16: =IF($P16<>"",IF($P16="製程 (P)","碳酸鈉製程-碳酸鈉使用",""),"") | AB16: =IF($P16<>"",IF($P16="製程 (P)","碳化物鈉製程-碳化矽製造",""),"") | AC16: =IF($P16<>"",IF($P16="製程 (P)","碳化物鈉製程-碳化鈣製造",""),"") | AD16: =IF($P16<>"",IF($P16="製程 (P)","碳化物鈉製程-碳化鈣使用",""),"") | AE16: =IF($P16<>"",IF($P16="製程 (P)","碳酸製程",""),"") | AF16: =IF($P16<>"",IF($P16="製程 (P)","已二酸製程",""),"") | AG16: =IF($P16<>"",IF($P16="製程 (P)","二氟一氯甲烷",""),"") | AH16: =IF($P16<>"",IF($P16="製程 (P)","乙炔-焊接維修製程",""),"") | AI16: =IF($P16<>"",IF($P16="製程 (P)","濕式排煙脫硫-石灰石製程",""),"") | AJ16: =IF($P16<>"",IF($P16="製程 (P)","其他",""),"") | AU16: =IF(AL16<>"",AL$3,"") | AV16: =IF(AM16<>"",AM$3,"") | AW16: =IF(AN16<>"",AN$3,"") | AX16: =IF(AO16<>"",AO$3,"") | AY16: =IF(AP16<>"",AP$3,"") | AZ16: =IF(AQ16<>"",AQ$3,"") | BA16: =IF(AR16<>"",AR$3,"") | BB16: =IF(AL16<>"","a","") | BC16: =IF(AM16<>"","b","") | BD16: =IF(AN16<>"","c","") | BE16: =IF(AO16<>"","d","") | BF16: =IF(AP16<>"","e","") | BG16: =IF(AQ16<>"","f","") | BH16: =IF(AR16<>"","g","") | BI16: =BB16&BC16&BD16&BE16&BF16&BG16&BH16 | BJ16: =IF(BI16="","",VLOOKUP($BI16,$BM$2:$BP$57,2,0)) | BK16: =IF(BI16="","",VLOOKUP($BI16,$BM$2:$BP$57,3,0)) | BL16: =IF(BI16="","",VLOOKUP($BI16,$BM$2:$BP$57,4,0)) | BM16: bg | BN16: CH4 | BO16: NF3
C17: =IF(B17<>"",VLOOKUP(B17,附表五!$B$2:$C$1024,2,0),"") | F17: =IF(E17<>"",VLOOKUP(E17,附表六!$B$2:$C$325,2,0),"") | I17: =IF(H17<>"",VLOOKUP(H17,附表七!$B:$C,2,0),"") | L17: =IF(K17<>"",IF($K17="範疇2","外購電力","固定 (E)"),"") | M17: =IF(K17<>"",IF($K17="範疇2","外購蒸汽","製程 (P)"),"") | N17: =IF(K17<>"",IF($K17="範疇2","","移動 (T)"),"") | O17: =IF(K17<>"",IF($K17="範疇2","","逸散 (F)"),"") | Q17: =IF($P17<>"",IF($P17="外購電力","併網",IF($P17="製程 (P)","水泥製程",IF($P17="逸散 (F)","廢棄物排放源",""))),"") | R17: =IF($P17<>"",IF($P17="外購電力","離網",IF($P17="製程 (P)","鋼鐵製程-使用造渣劑",IF($P17="逸散 (F)","廢水排放源",""))),"") | S17: =IF($P17<>"",IF($P17="製程 (P)","鋼鐵製程-使用添加劑",IF($P17="逸散 (F)","廢棄污泥排放源","")),"") | T17: =IF($P17<>"",IF($P17="製程 (P)","鋼鐵製程-金屬進料",IF($P17="逸散 (F)","溶劑、噴霧劑及冷媒排放源","")),"") | U17: =IF($P17<>"",IF($P17="製程 (P)","鋼鐵製程-外售含碳產品(已知CO2排放係數",IF($P17="逸散 (F)","VOCs未經燃燒且含CH4","")),"") | V17: =IF($P17<>"",IF($P17="製程 (P)","鋼鐵製程-使用添加劑(預焙陽極炭塊與煤碳電極",IF($P17="逸散 (F)","已知VOCs濃度","")),"") | W17: =IF($P17<>"",IF($P17="製程 (P)","鋼鐵製程--外售含碳產品(已知含碳率)",IF($P17="逸散 (F)","未知VOCs濃度已知CO2排放係數","")),"") | X17: =IF($P17<>"",IF($P17="製程 (P)","半導體光電製程",IF($P17="逸散 (F)","化糞池排放源","")),"") | Y17: =IF($P17<>"",IF($P17="製程 (P)","石灰製程",IF($P17="逸散 (F)","其他","")),"") | Z17: =IF($P17<>"",IF($P17="製程 (P)","碳酸鈉製程-碳酸鈉製造",""),"") | AA17: =IF($P17<>"",IF($P17="製程 (P)","碳酸鈉製程-碳酸鈉使用",""),"") | AB17: =IF($P17<>"",IF($P17="製程 (P)","碳化物鈉製程-碳化矽製造",""),"") | AC17: =IF($P17<>"",IF($P17="製程 (P)","碳化物鈉製程-碳化鈣製造",""),"") | AD17: =IF($P17<>"",IF($P17="製程 (P)","碳化物鈉製程-碳化鈣使用",""),"") | AE17: =IF($P17<>"",IF($P17="製程 (P)","碳酸製程",""),"") | AF17: =IF($P17<>"",IF($P17="製程 (P)","已二酸製程",""),"") | AG17: =IF($P17<>"",IF($P17="製程 (P)","二氟一氯甲烷",""),"") | AH17: =IF($P17<>"",IF($P17="製程 (P)","乙炔-焊接維修製程",""),"") | AI17: =IF($P17<>"",IF($P17="製程 (P)","濕式排煙脫硫-石灰石製程",""),"") | AJ17: =IF($P17<>"",IF($P17="製程 (P)","其他",""),"") | AU17: =IF(AL17<>"",AL$3,"") | AV17: =IF(AM17<>"",AM$3,"") | AW17: =IF(AN17<>"",AN$3,"") | AX17: =IF(AO17<>"",AO$3,"") | AY17: =IF(AP17<>"",AP$3,"") | AZ17: =IF(AQ17<>"",AQ$3,"") | BA17: =IF(AR17<>"",AR$3,"") | BB17: =IF(AL17<>"","a","") | BC17: =IF(AM17<>"","b","") | BD17: =IF(AN17<>"","c","") | BE17: =IF(AO17<>"","d","") | BF17: =IF(AP17<>"","e","") | BG17: =IF(AQ17<>"","f","") | BH17: =IF(AR17<>"","g","") | BI17: =BB17&BC17&BD17&BE17&BF17&BG17&BH17 | BJ17: =IF(BI17="","",VLOOKUP($BI17,$BM$2:$BP$57,2,0)) | BK17: =IF(BI17="","",VLOOKUP($BI17,$BM$2:$BP$57,3,0)) | BL17: =IF(BI17="","",VLOOKUP($BI17,$BM$2:$BP$57,4,0)) | BM17: cd | BN17: N2O | BO17: HFCS
C18: =IF(B18<>"",VLOOKUP(B18,附表五!$B$2:$C$1024,2,0),"") | F18: =IF(E18<>"",VLOOKUP(E18,附表六!$B$2:$C$325,2,0),"") | I18: =IF(H18<>"",VLOOKUP(H18,附表七!$B:$C,2,0),"") | L18: =IF(K18<>"",IF($K18="範疇2","外購電力","固定 (E)"),"") | M18: =IF(K18<>"",IF($K18="範疇2","外購蒸汽","製程 (P)"),"") | N18: =IF(K18<>"",IF($K18="範疇2","","移動 (T)"),"") | O18: =IF(K18<>"",IF($K18="範疇2","","逸散 (F)"),"") | Q18: =IF($P18<>"",IF($P18="外購電力","併網",IF($P18="製程 (P)","水泥製程",IF($P18="逸散 (F)","廢棄物排放源",""))),"") | R18: =IF($P18<>"",IF($P18="外購電力","離網",IF($P18="製程 (P)","鋼鐵製程-使用造渣劑",IF($P18="逸散 (F)","廢水排放源",""))),"") | S18: =IF($P18<>"",IF($P18="製程 (P)","鋼鐵製程-使用添加劑",IF($P18="逸散 (F)","廢棄污泥排放源","")),"") | T18: =IF($P18<>"",IF($P18="製程 (P)","鋼鐵製程-金屬進料",IF($P18="逸散 (F)","溶劑、噴霧劑及冷媒排放源","")),"") | U18: =IF($P18<>"",IF($P18="製程 (P)","鋼鐵製程-外售含碳產品(已知CO2排放係數",IF($P18="逸散 (F)","VOCs未經燃燒且含CH4","")),"") | V18: =IF($P18<>"",IF($P18="製程 (P)","鋼鐵製程-使用添加劑(預焙陽極炭塊與煤碳電極",IF($P18="逸散 (F)","已知VOCs濃度","")),"") | W18: =IF($P18<>"",IF($P18="製程 (P)","鋼鐵製程--外售含碳產品(已知含碳率)",IF($P18="逸散 (F)","未知VOCs濃度已知CO2排放係數","")),"") | X18: =IF($P18<>"",IF($P18="製程 (P)","半導體光電製程",IF($P18="逸散 (F)","化糞池排放源","")),"") | Y18: =IF($P18<>"",IF($P18="製程 (P)","石灰製程",IF($P18="逸散 (F)","其他","")),"") | Z18: =IF($P18<>"",IF($P18="製程 (P)","碳酸鈉製程-碳酸鈉製造",""),"") | AA18: =IF($P18<>"",IF($P18="製程 (P)","碳酸鈉製程-碳酸鈉使用",""),"") | AB18: =IF($P18<>"",IF($P18="製程 (P)","碳化物鈉製程-碳化矽製造",""),"") | AC18: =IF($P18<>"",IF($P18="製程 (P)","碳化物鈉製程-碳化鈣製造",""),"") | AD18: =IF($P18<>"",IF($P18="製程 (P)","碳化物鈉製程-碳化鈣使用",""),"") | AE18: =IF($P18<>"",IF($P18="製程 (P)","碳酸製程",""),"") | AF18: =IF($P18<>"",IF($P18="製程 (P)","已二酸製程",""),"") | AG18: =IF($P18<>"",IF($P18="製程 (P)","二氟一氯甲烷",""),"") | AH18: =IF($P18<>"",IF($P18="製程 (P)","乙炔-焊接維修製程",""),"") | AI18: =IF($P18<>"",IF($P18="製程 (P)","濕式排煙脫硫-石灰石製程",""),"") | AJ18: =IF($P18<>"",IF($P18="製程 (P)","其他",""),"") | AU18: =IF(AL18<>"",AL$3,"") | AV18: =IF(AM18<>"",AM$3,"") | AW18: =IF(AN18<>"",AN$3,"") | AX18: =IF(AO18<>"",AO$3,"") | AY18: =IF(AP18<>"",AP$3,"") | AZ18: =IF(AQ18<>"",AQ$3,"") | BA18: =IF(AR18<>"",AR$3,"") | BB18: =IF(AL18<>"","a","") | BC18: =IF(AM18<>"","b","") | BD18: =IF(AN18<>"","c","") | BE18: =IF(AO18<>"","d","") | BF18: =IF(AP18<>"","e","") | BG18: =IF(AQ18<>"","f","") | BH18: =IF(AR18<>"","g","") | BI18: =BB18&BC18&BD18&BE18&BF18&BG18&BH18 | BJ18: =IF(BI18="","",VLOOKUP($BI18,$BM$2:$BP$57,2,0)) | BK18: =IF(BI18="","",VLOOKUP($BI18,$BM$2:$BP$57,3,0)) | BL18: =IF(BI18="","",VLOOKUP($BI18,$BM$2:$BP$57,4,0)) | BM18: ce | BN18: N2O | BO18: PFCS
C19: =IF(B19<>"",VLOOKUP(B19,附表五!$B$2:$C$1024,2,0),"") | F19: =IF(E19<>"",VLOOKUP(E19,附表六!$B$2:$C$325,2,0),"") | I19: =IF(H19<>"",VLOOKUP(H19,附表七!$B:$C,2,0),"") | L19: =IF(K19<>"",IF($K19="範疇2","外購電力","固定 (E)"),"") | M19: =IF(K19<>"",IF($K19="範疇2","外購蒸汽","製程 (P)"),"") | N19: =IF(K19<>"",IF($K19="範疇2","","移動 (T)"),"") | O19: =IF(K19<>"",IF($K19="範疇2","","逸散 (F)"),"") | Q19: =IF($P19<>"",IF($P19="外購電力","併網",IF($P19="製程 (P)","水泥製程",IF($P19="逸散 (F)","廢棄物排放源",""))),"") | R19: =IF($P19<>"",IF($P19="外購電力","離網",IF($P19="製程 (P)","鋼鐵製程-使用造渣劑",IF($P19="逸散 (F)","廢水排放源",""))),"") | S19: =IF($P19<>"",IF($P19="製程 (P)","鋼鐵製程-使用添加劑",IF($P19="逸散 (F)","廢棄污泥排放源","")),"") | T19: =IF($P19<>"",IF($P19="製程 (P)","鋼鐵製程-金屬進料",IF($P19="逸散 (F)","溶劑、噴霧劑及冷媒排放源","")),"") | U19: =IF($P19<>"",IF($P19="製程 (P)","鋼鐵製程-外售含碳產品(已知CO2排放係數",IF($P19="逸散 (F)","VOCs未經燃燒且含CH4","")),"") | V19: =IF($P19<>"",IF($P19="製程 (P)","鋼鐵製程-使用添加劑(預焙陽極炭塊與煤碳電極",IF($P19="逸散 (F)","已知VOCs濃度","")),"") | W19: =IF($P19<>"",IF($P19="製程 (P)","鋼鐵製程--外售含碳產品(已知含碳率)",IF($P19="逸散 (F)","未知VOCs濃度已知CO2排放係數","")),"") | X19: =IF($P19<>"",IF($P19="製程 (P)","半導體光電製程",IF($P19="逸散 (F)","化糞池排放源","")),"") | Y19: =IF($P19<>"",IF($P19="製程 (P)","石灰製程",IF($P19="逸散 (F)","其他","")),"") | Z19: =IF($P19<>"",IF($P19="製程 (P)","碳酸鈉製程-碳酸鈉製造",""),"") | AA19: =IF($P19<>"",IF($P19="製程 (P)","碳酸鈉製程-碳酸鈉使用",""),"") | AB19: =IF($P19<>"",IF($P19="製程 (P)","碳化物鈉製程-碳化矽製造",""),"") | AC19: =IF($P19<>"",IF($P19="製程 (P)","碳化物鈉製程-碳化鈣製造",""),"") | AD19: =IF($P19<>"",IF($P19="製程 (P)","碳化物鈉製程-碳化鈣使用",""),"") | AE19: =IF($P19<>"",IF($P19="製程 (P)","碳酸製程",""),"") | AF19: =IF($P19<>"",IF($P19="製程 (P)","已二酸製程",""),"") | AG19: =IF($P19<>"",IF($P19="製程 (P)","二氟一氯甲烷",""),"") | AH19: =IF($P19<>"",IF($P19="製程 (P)","乙炔-焊接維修製程",""),"") | AI19: =IF($P19<>"",IF($P19="製程 (P)","濕式排煙脫硫-石灰石製程",""),"") | AJ19: =IF($P19<>"",IF($P19="製程 (P)","其他",""),"") | AU19: =IF(AL19<>"",AL$3,"") | AV19: =IF(AM19<>"",AM$3,"") | AW19: =IF(AN19<>"",AN$3,"") | AX19: =IF(AO19<>"",AO$3,"") | AY19: =IF(AP19<>"",AP$3,"") | AZ19: =IF(AQ19<>"",AQ$3,"") | BA19: =IF(AR19<>"",AR$3,"") | BB19: =IF(AL19<>"","a","") | BC19: =IF(AM19<>"","b","") | BD19: =IF(AN19<>"","c","") | BE19: =IF(AO19<>"","d","") | BF19: =IF(AP19<>"","e","") | BG19: =IF(AQ19<>"","f","") | BH19: =IF(AR19<>"","g","") | BI19: =BB19&BC19&BD19&BE19&BF19&BG19&BH19 | BJ19: =IF(BI19="","",VLOOKUP($BI19,$BM$2:$BP$57,2,0)) | BK19: =IF(BI19="","",VLOOKUP($BI19,$BM$2:$BP$57,3,0)) | BL19: =IF(BI19="","",VLOOKUP($BI19,$BM$2:$BP$57,4,0)) | BM19: cf | BN19: N2O | BO19: SF6
C20: =IF(B20<>"",VLOOKUP(B20,附表五!$B$2:$C$1024,2,0),"") | F20: =IF(E20<>"",VLOOKUP(E20,附表六!$B$2:$C$325,2,0),"") | I20: =IF(H20<>"",VLOOKUP(H20,附表七!$B:$C,2,0),"") | L20: =IF(K20<>"",IF($K20="範疇2","外購電力","固定 (E)"),"") | M20: =IF(K20<>"",IF($K20="範疇2","外購蒸汽","製程 (P)"),"") | N20: =IF(K20<>"",IF($K20="範疇2","","移動 (T)"),"") | O20: =IF(K20<>"",IF($K20="範疇2","","逸散 (F)"),"") | Q20: =IF($P20<>"",IF($P20="外購電力","併網",IF($P20="製程 (P)","水泥製程",IF($P20="逸散 (F)","廢棄物排放源",""))),"") | R20: =IF($P20<>"",IF($P20="外購電力","離網",IF($P20="製程 (P)","鋼鐵製程-使用造渣劑",IF($P20="逸散 (F)","廢水排放源",""))),"") | S20: =IF($P20<>"",IF($P20="製程 (P)","鋼鐵製程-使用添加劑",IF($P20="逸散 (F)","廢棄污泥排放源","")),"") | T20: =IF($P20<>"",IF($P20="製程 (P)","鋼鐵製程-金屬進料",IF($P20="逸散 (F)","溶劑、噴霧劑及冷媒排放源","")),"") | U20: =IF($P20<>"",IF($P20="製程 (P)","鋼鐵製程-外售含碳產品(已知CO2排放係數",IF($P20="逸散 (F)","VOCs未經燃燒且含CH4","")),"") | V20: =IF($P20<>"",IF($P20="製程 (P)","鋼鐵製程-使用添加劑(預焙陽極炭塊與煤碳電極",IF($P20="逸散 (F)","已知VOCs濃度","")),"") | W20: =IF($P20<>"",IF($P20="製程 (P)","鋼鐵製程--外售含碳產品(已知含碳率)",IF($P20="逸散 (F)","未知VOCs濃度已知CO2排放係數","")),"") | X20: =IF($P20<>"",IF($P20="製程 (P)","半導體光電製程",IF($P20="逸散 (F)","化糞池排放源","")),"") | Y20: =IF($P20<>"",IF($P20="製程 (P)","石灰製程",IF($P20="逸散 (F)","其他","")),"") | Z20: =IF($P20<>"",IF($P20="製程 (P)","碳酸鈉製程-碳酸鈉製造",""),"") | AA20: =IF($P20<>"",IF($P20="製程 (P)","碳酸鈉製程-碳酸鈉使用",""),"") | AB20: =IF($P20<>"",IF($P20="製程 (P)","碳化物鈉製程-碳化矽製造",""),"") | AC20: =IF($P20<>"",IF($P20="製程 (P)","碳化物鈉製程-碳化鈣製造",""),"") | AD20: =IF($P20<>"",IF($P20="製程 (P)","碳化物鈉製程-碳化鈣使用",""),"") | AE20: =IF($P20<>"",IF($P20="製程 (P)","碳酸製程",""),"") | AF20: =IF($P20<>"",IF($P20="製程 (P)","已二酸製程",""),"") | AG20: =IF($P20<>"",IF($P20="製程 (P)","二氟一氯甲烷",""),"") | AH20: =IF($P20<>"",IF($P20="製程 (P)","乙炔-焊接維修製程",""),"") | AI20: =IF($P20<>"",IF($P20="製程 (P)","濕式排煙脫硫-石灰石製程",""),"") | AJ20: =IF($P20<>"",IF($P20="製程 (P)","其他",""),"") | AU20: =IF(AL20<>"",AL$3,"") | AV20: =IF(AM20<>"",AM$3,"") | AW20: =IF(AN20<>"",AN$3,"") | AX20: =IF(AO20<>"",AO$3,"") | AY20: =IF(AP20<>"",AP$3,"") | AZ20: =IF(AQ20<>"",AQ$3,"") | BA20: =IF(AR20<>"",AR$3,"") | BB20: =IF(AL20<>"","a","") | BC20: =IF(AM20<>"","b","") | BD20: =IF(AN20<>"","c","") | BE20: =IF(AO20<>"","d","") | BF20: =IF(AP20<>"","e","") | BG20: =IF(AQ20<>"","f","") | BH20: =IF(AR20<>"","g","") | BI20: =BB20&BC20&BD20&BE20&BF20&BG20&BH20 | BJ20: =IF(BI20="","",VLOOKUP($BI20,$BM$2:$BP$57,2,0)) | BK20: =IF(BI20="","",VLOOKUP($BI20,$BM$2:$BP$57,3,0)) | BL20: =IF(BI20="","",VLOOKUP($BI20,$BM$2:$BP$57,4,0)) | BM20: cg | BN20: N2O | BO20: NF3
C21: =IF(B21<>"",VLOOKUP(B21,附表五!$B$2:$C$1024,2,0),"") | F21: =IF(E21<>"",VLOOKUP(E21,附表六!$B$2:$C$325,2,0),"") | I21: =IF(H21<>"",VLOOKUP(H21,附表七!$B:$C,2,0),"") | L21: =IF(K21<>"",IF($K21="範疇2","外購電力","固定 (E)"),"") | M21: =IF(K21<>"",IF($K21="範疇2","外購蒸汽","製程 (P)"),"") | N21: =IF(K21<>"",IF($K21="範疇2","","移動 (T)"),"") | O21: =IF(K21<>"",IF($K21="範疇2","","逸散 (F)"),"") | Q21: =IF($P21<>"",IF($P21="外購電力","併網",IF($P21="製程 (P)","水泥製程",IF($P21="逸散 (F)","廢棄物排放源",""))),"") | R21: =IF($P21<>"",IF($P21="外購電力","離網",IF($P21="製程 (P)","鋼鐵製程-使用造渣劑",IF($P21="逸散 (F)","廢水排放源",""))),"") | S21: =IF($P21<>"",IF($P21="製程 (P)","鋼鐵製程-使用添加劑",IF($P21="逸散 (F)","廢棄污泥排放源","")),"") | T21: =IF($P21<>"",IF($P21="製程 (P)","鋼鐵製程-金屬進料",IF($P21="逸散 (F)","溶劑、噴霧劑及冷媒排放源","")),"") | U21: =IF($P21<>"",IF($P21="製程 (P)","鋼鐵製程-外售含碳產品(已知CO2排放係數",IF($P21="逸散 (F)","VOCs未經燃燒且含CH4","")),"") | V21: =IF($P21<>"",IF($P21="製程 (P)","鋼鐵製程-使用添加劑(預焙陽極炭塊與煤碳電極",IF($P21="逸散 (F)","已知VOCs濃度","")),"") | W21: =IF($P21<>"",IF($P21="製程 (P)","鋼鐵製程--外售含碳產品(已知含碳率)",IF($P21="逸散 (F)","未知VOCs濃度已知CO2排放係數","")),"") | X21: =IF($P21<>"",IF($P21="製程 (P)","半導體光電製程",IF($P21="逸散 (F)","化糞池排放源","")),"") | Y21: =IF($P21<>"",IF($P21="製程 (P)","石灰製程",IF($P21="逸散 (F)","其他","")),"") | Z21: =IF($P21<>"",IF($P21="製程 (P)","碳酸鈉製程-碳酸鈉製造",""),"") | AA21: =IF($P21<>"",IF($P21="製程 (P)","碳酸鈉製程-碳酸鈉使用",""),"") | AB21: =IF($P21<>"",IF($P21="製程 (P)","碳化物鈉製程-碳化矽製造",""),"") | AC21: =IF($P21<>"",IF($P21="製程 (P)","碳化物鈉製程-碳化鈣製造",""),"") | AD21: =IF($P21<>"",IF($P21="製程 (P)","碳化物鈉製程-碳化鈣使用",""),"") | AE21: =IF($P21<>"",IF($P21="製程 (P)","碳酸製程",""),"") | AF21: =IF($P21<>"",IF($P21="製程 (P)","已二酸製程",""),"") | AG21: =IF($P21<>"",IF($P21="製程 (P)","二氟一氯甲烷",""),"") | AH21: =IF($P21<>"",IF($P21="製程 (P)","乙炔-焊接維修製程",""),"") | AI21: =IF($P21<>"",IF($P21="製程 (P)","濕式排煙脫硫-石灰石製程",""),"") | AJ21: =IF($P21<>"",IF($P21="製程 (P)","其他",""),"") | AU21: =IF(AL21<>"",AL$3,"") | AV21: =IF(AM21<>"",AM$3,"") | AW21: =IF(AN21<>"",AN$3,"") | AX21: =IF(AO21<>"",AO$3,"") | AY21: =IF(AP21<>"",AP$3,"") | AZ21: =IF(AQ21<>"",AQ$3,"") | BA21: =IF(AR21<>"",AR$3,"") | BB21: =IF(AL21<>"","a","") | BC21: =IF(AM21<>"","b","") | BD21: =IF(AN21<>"","c","") | BE21: =IF(AO21<>"","d","") | BF21: =IF(AP21<>"","e","") | BG21: =IF(AQ21<>"","f","") | BH21: =IF(AR21<>"","g","") | BI21: =BB21&BC21&BD21&BE21&BF21&BG21&BH21 | BJ21: =IF(BI21="","",VLOOKUP($BI21,$BM$2:$BP$57,2,0)) | BK21: =IF(BI21="","",VLOOKUP($BI21,$BM$2:$BP$57,3,0)) | BL21: =IF(BI21="","",VLOOKUP($BI21,$BM$2:$BP$57,4,0)) | BM21: de | BN21: HFCS | BO21: PFCS
C22: =IF(B22<>"",VLOOKUP(B22,附表五!$B$2:$C$1024,2,0),"") | F22: =IF(E22<>"",VLOOKUP(E22,附表六!$B$2:$C$325,2,0),"") | I22: =IF(H22<>"",VLOOKUP(H22,附表七!$B:$C,2,0),"") | L22: =IF(K22<>"",IF($K22="範疇2","外購電力","固定 (E)"),"") | M22: =IF(K22<>"",IF($K22="範疇2","外購蒸汽","製程 (P)"),"") | N22: =IF(K22<>"",IF($K22="範疇2","","移動 (T)"),"") | O22: =IF(K22<>"",IF($K22="範疇2","","逸散 (F)"),"") | Q22: =IF($P22<>"",IF($P22="外購電力","併網",IF($P22="製程 (P)","水泥製程",IF($P22="逸散 (F)","廢棄物排放源",""))),"") | R22: =IF($P22<>"",IF($P22="外購電力","離網",IF($P22="製程 (P)","鋼鐵製程-使用造渣劑",IF($P22="逸散 (F)","廢水排放源",""))),"") | S22: =IF($P22<>"",IF($P22="製程 (P)","鋼鐵製程-使用添加劑",IF($P22="逸散 (F)","廢棄污泥排放源","")),"") | T22: =IF($P22<>"",IF($P22="製程 (P)","鋼鐵製程-金屬進料",IF($P22="逸散 (F)","溶劑、噴霧劑及冷媒排放源","")),"") | U22: =IF($P22<>"",IF($P22="製程 (P)","鋼鐵製程-外售含碳產品(已知CO2排放係數",IF($P22="逸散 (F)","VOCs未經燃燒且含CH4","")),"") | V22: =IF($P22<>"",IF($P22="製程 (P)","鋼鐵製程-使用添加劑(預焙陽極炭塊與煤碳電極",IF($P22="逸散 (F)","已知VOCs濃度","")),"") | W22: =IF($P22<>"",IF($P22="製程 (P)","鋼鐵製程--外售含碳產品(已知含碳率)",IF($P22="逸散 (F)","未知VOCs濃度已知CO2排放係數","")),"") | X22: =IF($P22<>"",IF($P22="製程 (P)","半導體光電製程",IF($P22="逸散 (F)","化糞池排放源","")),"") | Y22: =IF($P22<>"",IF($P22="製程 (P)","石灰製程",IF($P22="逸散 (F)","其他","")),"") | Z22: =IF($P22<>"",IF($P22="製程 (P)","碳酸鈉製程-碳酸鈉製造",""),"") | AA22: =IF($P22<>"",IF($P22="製程 (P)","碳酸鈉製程-碳酸鈉使用",""),"") | AB22: =IF($P22<>"",IF($P22="製程 (P)","碳化物鈉製程-碳化矽製造",""),"") | AC22: =IF($P22<>"",IF($P22="製程 (P)","碳化物鈉製程-碳化鈣製造",""),"") | AD22: =IF($P22<>"",IF($P22="製程 (P)","碳化物鈉製程-碳化鈣使用",""),"") | AE22: =IF($P22<>"",IF($P22="製程 (P)","碳酸製程",""),"") | AF22: =IF($P22<>"",IF($P22="製程 (P)","已二酸製程",""),"") | AG22: =IF($P22<>"",IF($P22="製程 (P)","二氟一氯甲烷",""),"") | AH22: =IF($P22<>"",IF($P22="製程 (P)","乙炔-焊接維修製程",""),"") | AI22: =IF($P22<>"",IF($P22="製程 (P)","濕式排煙脫硫-石灰石製程",""),"") | AJ22: =IF($P22<>"",IF($P22="製程 (P)","其他",""),"") | AU22: =IF(AL22<>"",AL$3,"") | AV22: =IF(AM22<>"",AM$3,"") | AW22: =IF(AN22<>"",AN$3,"") | AX22: =IF(AO22<>"",AO$3,"") | AY22: =IF(AP22<>"",AP$3,"") | AZ22: =IF(AQ22<>"",AQ$3,"") | BA22: =IF(AR22<>"",AR$3,"") | BB22: =IF(AL22<>"","a","") | BC22: =IF(AM22<>"","b","") | BD22: =IF(AN22<>"","c","") | BE22: =IF(AO22<>"","d","") | BF22: =IF(AP22<>"","e","") | BG22: =IF(AQ22<>"","f","") | BH22: =IF(AR22<>"","g","") | BI22: =BB22&BC22&BD22&BE22&BF22&BG22&BH22 | BJ22: =IF(BI22="","",VLOOKUP($BI22,$BM$2:$BP$57,2,0)) | BK22: =IF(BI22="","",VLOOKUP($BI22,$BM$2:$BP$57,3,0)) | BL22: =IF(BI22="","",VLOOKUP($BI22,$BM$2:$BP$57,4,0)) | BM22: df | BN22: HFCS | BO22: SF6
C23: =IF(B23<>"",VLOOKUP(B23,附表五!$B$2:$C$1024,2,0),"") | F23: =IF(E23<>"",VLOOKUP(E23,附表六!$B$2:$C$325,2,0),"") | I23: =IF(H23<>"",VLOOKUP(H23,附表七!$B:$C,2,0),"") | L23: =IF(K23<>"",IF($K23="範疇2","外購電力","固定 (E)"),"") | M23: =IF(K23<>"",IF($K23="範疇2","外購蒸汽","製程 (P)"),"") | N23: =IF(K23<>"",IF($K23="範疇2","","移動 (T)"),"") | O23: =IF(K23<>"",IF($K23="範疇2","","逸散 (F)"),"") | Q23: =IF($P23<>"",IF($P23="外購電力","併網",IF($P23="製程 (P)","水泥製程",IF($P23="逸散 (F)","廢棄物排放源",""))),"") | R23: =IF($P23<>"",IF($P23="外購電力","離網",IF($P23="製程 (P)","鋼鐵製程-使用造渣劑",IF($P23="逸散 (F)","廢水排放源",""))),"") | S23: =IF($P23<>"",IF($P23="製程 (P)","鋼鐵製程-使用添加劑",IF($P23="逸散 (F)","廢棄污泥排放源","")),"") | T23: =IF($P23<>"",IF($P23="製程 (P)","鋼鐵製程-金屬進料",IF($P23="逸散 (F)","溶劑、噴霧劑及冷媒排放源","")),"") | U23: =IF($P23<>"",IF($P23="製程 (P)","鋼鐵製程-外售含碳產品(已知CO2排放係數",IF($P23="逸散 (F)","VOCs未經燃燒且含CH4","")),"") | V23: =IF($P23<>"",IF($P23="製程 (P)","鋼鐵製程-使用添加劑(預焙陽極炭塊與煤碳電極",IF($P23="逸散 (F)","已知VOCs濃度","")),"") | W23: =IF($P23<>"",IF($P23="製程 (P)","鋼鐵製程--外售含碳產品(已知含碳率)",IF($P23="逸散 (F)","未知VOCs濃度已知CO2排放係數","")),"") | X23: =IF($P23<>"",IF($P23="製程 (P)","半導體光電製程",IF($P23="逸散 (F)","化糞池排放源","")),"") | Y23: =IF($P23<>"",IF($P23="製程 (P)","石灰製程",IF($P23="逸散 (F)","其他","")),"") | Z23: =IF($P23<>"",IF($P23="製程 (P)","碳酸鈉製程-碳酸鈉製造",""),"") | AA23: =IF($P23<>"",IF($P23="製程 (P)","碳酸鈉製程-碳酸鈉使用",""),"") | AB23: =IF($P23<>"",IF($P23="製程 (P)","碳化物鈉製程-碳化矽製造",""),"") | AC23: =IF($P23<>"",IF($P23="製程 (P)","碳化物鈉製程-碳化鈣製造",""),"") | AD23: =IF($P23<>"",IF($P23="製程 (P)","碳化物鈉製程-碳化鈣使用",""),"") | AE23: =IF($P23<>"",IF($P23="製程 (P)","碳酸製程",""),"") | AF23: =IF($P23<>"",IF($P23="製程 (P)","已二酸製程",""),"") | AG23: =IF($P23<>"",IF($P23="製程 (P)","二氟一氯甲烷",""),"") | AH23: =IF($P23<>"",IF($P23="製程 (P)","乙炔-焊接維修製程",""),"") | AI23: =IF($P23<>"",IF($P23="製程 (P)","濕式排煙脫硫-石灰石製程",""),"") | AJ23: =IF($P23<>"",IF($P23="製程 (P)","其他",""),"") | AU23: =IF(AL23<>"",AL$3,"") | AV23: =IF(AM23<>"",AM$3,"") | AW23: =IF(AN23<>"",AN$3,"") | AX23: =IF(AO23<>"",AO$3,"") | AY23: =IF(AP23<>"",AP$3,"") | AZ23: =IF(AQ23<>"",AQ$3,"") | BA23: =IF(AR23<>"",AR$3,"") | BB23: =IF(AL23<>"","a","") | BC23: =IF(AM23<>"","b","") | BD23: =IF(AN23<>"","c","") | BE23: =IF(AO23<>"","d","") | BF23: =IF(AP23<>"","e","") | BG23: =IF(AQ23<>"","f","") | BH23: =IF(AR23<>"","g","") | BI23: =BB23&BC23&BD23&BE23&BF23&BG23&BH23 | BJ23: =IF(BI23="","",VLOOKUP($BI23,$BM$2:$BP$57,2,0)) | BK23: =IF(BI23="","",VLOOKUP($BI23,$BM$2:$BP$57,3,0)) | BL23: =IF(BI23="","",VLOOKUP($BI23,$BM$2:$BP$57,4,0)) | BM23: dg | BN23: HFCS | BO23: NF3
C24: =IF(B24<>"",VLOOKUP(B24,附表五!$B$2:$C$1024,2,0),"") | F24: =IF(E24<>"",VLOOKUP(E24,附表六!$B$2:$C$325,2,0),"") | I24: =IF(H24<>"",VLOOKUP(H24,附表七!$B:$C,2,0),"") | L24: =IF(K24<>"",IF($K24="範疇2","外購電力","固定 (E)"),"") | M24: =IF(K24<>"",IF($K24="範疇2","外購蒸汽","製程 (P)"),"") | N24: =IF(K24<>"",IF($K24="範疇2","","移動 (T)"),"") | O24: =IF(K24<>"",IF($K24="範疇2","","逸散 (F)"),"") | Q24: =IF($P24<>"",IF($P24="外購電力","併網",IF($P24="製程 (P)","水泥製程",IF($P24="逸散 (F)","廢棄物排放源",""))),"") | R24: =IF($P24<>"",IF($P24="外購電力","離網",IF($P24="製程 (P)","鋼鐵製程-使用造渣劑",IF($P24="逸散 (F)","廢水排放源",""))),"") | S24: =IF($P24<>"",IF($P24="製程 (P)","鋼鐵製程-使用添加劑",IF($P24="逸散 (F)","廢棄污泥排放源","")),"") | T24: =IF($P24<>"",IF($P24="製程 (P)","鋼鐵製程-金屬進料",IF($P24="逸散 (F)","溶劑、噴霧劑及冷媒排放源","")),"") | U24: =IF($P24<>"",IF($P24="製程 (P)","鋼鐵製程-外售含碳產品(已知CO2排放係數",IF($P24="逸散 (F)","VOCs未經燃燒且含CH4","")),"") | V24: =IF($P24<>"",IF($P24="製程 (P)","鋼鐵製程-使用添加劑(預焙陽極炭塊與煤碳電極",IF($P24="逸散 (F)","已知VOCs濃度","")),"") | W24: =IF($P24<>"",IF($P24="製程 (P)","鋼鐵製程--外售含碳產品(已知含碳率)",IF($P24="逸散 (F)","未知VOCs濃度已知CO2排放係數","")),"") | X24: =IF($P24<>"",IF($P24="製程 (P)","半導體光電製程",IF($P24="逸散 (F)","化糞池排放源","")),"") | Y24: =IF($P24<>"",IF($P24="製程 (P)","石灰製程",IF($P24="逸散 (F)","其他","")),"") | Z24: =IF($P24<>"",IF($P24="製程 (P)","碳酸鈉製程-碳酸鈉製造",""),"") | AA24: =IF($P24<>"",IF($P24="製程 (P)","碳酸鈉製程-碳酸鈉使用",""),"") | AB24: =IF($P24<>"",IF($P24="製程 (P)","碳化物鈉製程-碳化矽製造",""),"") | AC24: =IF($P24<>"",IF($P24="製程 (P)","碳化物鈉製程-碳化鈣製造",""),"") | AD24: =IF($P24<>"",IF($P24="製程 (P)","碳化物鈉製程-碳化鈣使用",""),"") | AE24: =IF($P24<>"",IF($P24="製程 (P)","碳酸製程",""),"") | AF24: =IF($P24<>"",IF($P24="製程 (P)","已二酸製程",""),"") | AG24: =IF($P24<>"",IF($P24="製程 (P)","二氟一氯甲烷",""),"") | AH24: =IF($P24<>"",IF($P24="製程 (P)","乙炔-焊接維修製程",""),"") | AI24: =IF($P24<>"",IF($P24="製程 (P)","濕式排煙脫硫-石灰石製程",""),"") | AJ24: =IF($P24<>"",IF($P24="製程 (P)","其他",""),"") | AU24: =IF(AL24<>"",AL$3,"") | AV24: =IF(AM24<>"",AM$3,"") | AW24: =IF(AN24<>"",AN$3,"") | AX24: =IF(AO24<>"",AO$3,"") | AY24: =IF(AP24<>"",AP$3,"") | AZ24: =IF(AQ24<>"",AQ$3,"") | BA24: =IF(AR24<>"",AR$3,"") | BB24: =IF(AL24<>"","a","") | BC24: =IF(AM24<>"","b","") | BD24: =IF(AN24<>"","c","") | BE24: =IF(AO24<>"","d","") | BF24: =IF(AP24<>"","e","") | BG24: =IF(AQ24<>"","f","") | BH24: =IF(AR24<>"","g","") | BI24: =BB24&BC24&BD24&BE24&BF24&BG24&BH24 | BJ24: =IF(BI24="","",VLOOKUP($BI24,$BM$2:$BP$57,2,0)) | BK24: =IF(BI24="","",VLOOKUP($BI24,$BM$2:$BP$57,3,0)) | BL24: =IF(BI24="","",VLOOKUP($BI24,$BM$2:$BP$57,4,0)) | BM24: ef | BN24: PFCS | BO24: SF6
C25: =IF(B25<>"",VLOOKUP(B25,附表五!$B$2:$C$1024,2,0),"") | F25: =IF(E25<>"",VLOOKUP(E25,附表六!$B$2:$C$325,2,0),"") | I25: =IF(H25<>"",VLOOKUP(H25,附表七!$B:$C,2,0),"") | L25: =IF(K25<>"",IF($K25="範疇2","外購電力","固定 (E)"),"") | M25: =IF(K25<>"",IF($K25="範疇2","外購蒸汽","製程 (P)"),"") | N25: =IF(K25<>"",IF($K25="範疇2","","移動 (T)"),"") | O25: =IF(K25<>"",IF($K25="範疇2","","逸散 (F)"),"") | Q25: =IF($P25<>"",IF($P25="外購電力","併網",IF($P25="製程 (P)","水泥製程",IF($P25="逸散 (F)","廢棄物排放源",""))),"") | R25: =IF($P25<>"",IF($P25="外購電力","離網",IF($P25="製程 (P)","鋼鐵製程-使用造渣劑",IF($P25="逸散 (F)","廢水排放源",""))),"") | S25: =IF($P25<>"",IF($P25="製程 (P)","鋼鐵製程-使用添加劑",IF($P25="逸散 (F)","廢棄污泥排放源","")),"") | T25: =IF($P25<>"",IF($P25="製程 (P)","鋼鐵製程-金屬進料",IF($P25="逸散 (F)","溶劑、噴霧劑及冷媒排放源","")),"") | U25: =IF($P25<>"",IF($P25="製程 (P)","鋼鐵製程-外售含碳產品(已知CO2排放係數",IF($P25="逸散 (F)","VOCs未經燃燒且含CH4","")),"") | V25: =IF($P25<>"",IF($P25="製程 (P)","鋼鐵製程-使用添加劑(預焙陽極炭塊與煤碳電極",IF($P25="逸散 (F)","已知VOCs濃度","")),"") | W25: =IF($P25<>"",IF($P25="製程 (P)","鋼鐵製程--外售含碳產品(已知含碳率)",IF($P25="逸散 (F)","未知VOCs濃度已知CO2排放係數","")),"") | X25: =IF($P25<>"",IF($P25="製程 (P)","半導體光電製程",IF($P25="逸散 (F)","化糞池排放源","")),"") | Y25: =IF($P25<>"",IF($P25="製程 (P)","石灰製程",IF($P25="逸散 (F)","其他","")),"") | Z25: =IF($P25<>"",IF($P25="製程 (P)","碳酸鈉製程-碳酸鈉製造",""),"") | AA25: =IF($P25<>"",IF($P25="製程 (P)","碳酸鈉製程-碳酸鈉使用",""),"") | AB25: =IF($P25<>"",IF($P25="製程 (P)","碳化物鈉製程-碳化矽製造",""),"") | AC25: =IF($P25<>"",IF($P25="製程 (P)","碳化物鈉製程-碳化鈣製造",""),"") | AD25: =IF($P25<>"",IF($P25="製程 (P)","碳化物鈉製程-碳化鈣使用",""),"") | AE25: =IF($P25<>"",IF($P25="製程 (P)","碳酸製程",""),"") | AF25: =IF($P25<>"",IF($P25="製程 (P)","已二酸製程",""),"") | AG25: =IF($P25<>"",IF($P25="製程 (P)","二氟一氯甲烷",""),"") | AH25: =IF($P25<>"",IF($P25="製程 (P)","乙炔-焊接維修製程",""),"") | AI25: =IF($P25<>"",IF($P25="製程 (P)","濕式排煙脫硫-石灰石製程",""),"") | AJ25: =IF($P25<>"",IF($P25="製程 (P)","其他",""),"") | AU25: =IF(AL25<>"",AL$3,"") | AV25: =IF(AM25<>"",AM$3,"") | AW25: =IF(AN25<>"",AN$3,"") | AX25: =IF(AO25<>"",AO$3,"") | AY25: =IF(AP25<>"",AP$3,"") | AZ25: =IF(AQ25<>"",AQ$3,"") | BA25: =IF(AR25<>"",AR$3,"") | BB25: =IF(AL25<>"","a","") | BC25: =IF(AM25<>"","b","") | BD25: =IF(AN25<>"","c","") | BE25: =IF(AO25<>"","d","") | BF25: =IF(AP25<>"","e","") | BG25: =IF(AQ25<>"","f","") | BH25: =IF(AR25<>"","g","") | BI25: =BB25&BC25&BD25&BE25&BF25&BG25&BH25 | BJ25: =IF(BI25="","",VLOOKUP($BI25,$BM$2:$BP$57,2,0)) | BK25: =IF(BI25="","",VLOOKUP($BI25,$BM$2:$BP$57,3,0)) | BL25: =IF(BI25="","",VLOOKUP($BI25,$BM$2:$BP$57,4,0)) | BM25: eg | BN25: PFCS | BO25: NF3
C26: =IF(B26<>"",VLOOKUP(B26,附表五!$B$2:$C$1024,2,0),"") | F26: =IF(E26<>"",VLOOKUP(E26,附表六!$B$2:$C$325,2,0),"") | I26: =IF(H26<>"",VLOOKUP(H26,附表七!$B:$C,2,0),"") | L26: =IF(K26<>"",IF($K26="範疇2","外購電力","固定 (E)"),"") | M26: =IF(K26<>"",IF($K26="範疇2","外購蒸汽","製程 (P)"),"") | N26: =IF(K26<>"",IF($K26="範疇2","","移動 (T)"),"") | O26: =IF(K26<>"",IF($K26="範疇2","","逸散 (F)"),"") | Q26: =IF($P26<>"",IF($P26="外購電力","併網",IF($P26="製程 (P)","水泥製程",IF($P26="逸散 (F)","廢棄物排放源",""))),"") | R26: =IF($P26<>"",IF($P26="外購電力","離網",IF($P26="製程 (P)","鋼鐵製程-使用造渣劑",IF($P26="逸散 (F)","廢水排放源",""))),"") | S26: =IF($P26<>"",IF($P26="製程 (P)","鋼鐵製程-使用添加劑",IF($P26="逸散 (F)","廢棄污泥排放源","")),"") | T26: =IF($P26<>"",IF($P26="製程 (P)","鋼鐵製程-金屬進料",IF($P26="逸散 (F)","溶劑、噴霧劑及冷媒排放源","")),"") | U26: =IF($P26<>"",IF($P26="製程 (P)","鋼鐵製程-外售含碳產品(已知CO2排放係數",IF($P26="逸散 (F)","VOCs未經燃燒且含CH4","")),"") | V26: =IF($P26<>"",IF($P26="製程 (P)","鋼鐵製程-使用添加劑(預焙陽極炭塊與煤碳電極",IF($P26="逸散 (F)","已知VOCs濃度","")),"") | W26: =IF($P26<>"",IF($P26="製程 (P)","鋼鐵製程--外售含碳產品(已知含碳率)",IF($P26="逸散 (F)","未知VOCs濃度已知CO2排放係數","")),"") | X26: =IF($P26<>"",IF($P26="製程 (P)","半導體光電製程",IF($P26="逸散 (F)","化糞池排放源","")),"") | Y26: =IF($P26<>"",IF($P26="製程 (P)","石灰製程",IF($P26="逸散 (F)","其他","")),"") | Z26: =IF($P26<>"",IF($P26="製程 (P)","碳酸鈉製程-碳酸鈉製造",""),"") | AA26: =IF($P26<>"",IF($P26="製程 (P)","碳酸鈉製程-碳酸鈉使用",""),"") | AB26: =IF($P26<>"",IF($P26="製程 (P)","碳化物鈉製程-碳化矽製造",""),"") | AC26: =IF($P26<>"",IF($P26="製程 (P)","碳化物鈉製程-碳化鈣製造",""),"") | AD26: =IF($P26<>"",IF($P26="製程 (P)","碳化物鈉製程-碳化鈣使用",""),"") | AE26: =IF($P26<>"",IF($P26="製程 (P)","碳酸製程",""),"") | AF26: =IF($P26<>"",IF($P26="製程 (P)","已二酸製程",""),"") | AG26: =IF($P26<>"",IF($P26="製程 (P)","二氟一氯甲烷",""),"") | AH26: =IF($P26<>"",IF($P26="製程 (P)","乙炔-焊接維修製程",""),"") | AI26: =IF($P26<>"",IF($P26="製程 (P)","濕式排煙脫硫-石灰石製程",""),"") | AJ26: =IF($P26<>"",IF($P26="製程 (P)","其他",""),"") | AU26: =IF(AL26<>"",AL$3,"") | AV26: =IF(AM26<>"",AM$3,"") | AW26: =IF(AN26<>"",AN$3,"") | AX26: =IF(AO26<>"",AO$3,"") | AY26: =IF(AP26<>"",AP$3,"") | AZ26: =IF(AQ26<>"",AQ$3,"") | BA26: =IF(AR26<>"",AR$3,"") | BB26: =IF(AL26<>"","a","") | BC26: =IF(AM26<>"","b","") | BD26: =IF(AN26<>"","c","") | BE26: =IF(AO26<>"","d","") | BF26: =IF(AP26<>"","e","") | BG26: =IF(AQ26<>"","f","") | BH26: =IF(AR26<>"","g","") | BI26: =BB26&BC26&BD26&BE26&BF26&BG26&BH26 | BJ26: =IF(BI26="","",VLOOKUP($BI26,$BM$2:$BP$57,2,0)) | BK26: =IF(BI26="","",VLOOKUP($BI26,$BM$2:$BP$57,3,0)) | BL26: =IF(BI26="","",VLOOKUP($BI26,$BM$2:$BP$57,4,0)) | BM26: fg | BN26: SF6 | BO26: NF3
C27: =IF(B27<>"",VLOOKUP(B27,附表五!$B$2:$C$1024,2,0),"") | F27: =IF(E27<>"",VLOOKUP(E27,附表六!$B$2:$C$325,2,0),"") | I27: =IF(H27<>"",VLOOKUP(H27,附表七!$B:$C,2,0),"") | L27: =IF(K27<>"",IF($K27="範疇2","外購電力","固定 (E)"),"") | M27: =IF(K27<>"",IF($K27="範疇2","外購蒸汽","製程 (P)"),"") | N27: =IF(K27<>"",IF($K27="範疇2","","移動 (T)"),"") | O27: =IF(K27<>"",IF($K27="範疇2","","逸散 (F)"),"") | Q27: =IF($P27<>"",IF($P27="外購電力","併網",IF($P27="製程 (P)","水泥製程",IF($P27="逸散 (F)","廢棄物排放源",""))),"") | R27: =IF($P27<>"",IF($P27="外購電力","離網",IF($P27="製程 (P)","鋼鐵製程-使用造渣劑",IF($P27="逸散 (F)","廢水排放源",""))),"") | S27: =IF($P27<>"",IF($P27="製程 (P)","鋼鐵製程-使用添加劑",IF($P27="逸散 (F)","廢棄污泥排放源","")),"") | T27: =IF($P27<>"",IF($P27="製程 (P)","鋼鐵製程-金屬進料",IF($P27="逸散 (F)","溶劑、噴霧劑及冷媒排放源","")),"") | U27: =IF($P27<>"",IF($P27="製程 (P)","鋼鐵製程-外售含碳產品(已知CO2排放係數",IF($P27="逸散 (F)","VOCs未經燃燒且含CH4","")),"") | V27: =IF($P27<>"",IF($P27="製程 (P)","鋼鐵製程-使用添加劑(預焙陽極炭塊與煤碳電極",IF($P27="逸散 (F)","已知VOCs濃度","")),"") | W27: =IF($P27<>"",IF($P27="製程 (P)","鋼鐵製程--外售含碳產品(已知含碳率)",IF($P27="逸散 (F)","未知VOCs濃度已知CO2排放係數","")),"") | X27: =IF($P27<>"",IF($P27="製程 (P)","半導體光電製程",IF($P27="逸散 (F)","化糞池排放源","")),"") | Y27: =IF($P27<>"",IF($P27="製程 (P)","石灰製程",IF($P27="逸散 (F)","其他","")),"") | Z27: =IF($P27<>"",IF($P27="製程 (P)","碳酸鈉製程-碳酸鈉製造",""),"") | AA27: =IF($P27<>"",IF($P27="製程 (P)","碳酸鈉製程-碳酸鈉使用",""),"") | AB27: =IF($P27<>"",IF($P27="製程 (P)","碳化物鈉製程-碳化矽製造",""),"") | AC27: =IF($P27<>"",IF($P27="製程 (P)","碳化物鈉製程-碳化鈣製造",""),"") | AD27: =IF($P27<>"",IF($P27="製程 (P)","碳化物鈉製程-碳化鈣使用",""),"") | AE27: =IF($P27<>"",IF($P27="製程 (P)","碳酸製程",""),"") | AF27: =IF($P27<>"",IF($P27="製程 (P)","已二酸製程",""),"") | AG27: =IF($P27<>"",IF($P27="製程 (P)","二氟一氯甲烷",""),"") | AH27: =IF($P27<>"",IF($P27="製程 (P)","乙炔-焊接維修製程",""),"") | AI27: =IF($P27<>"",IF($P27="製程 (P)","濕式排煙脫硫-石灰石製程",""),"") | AJ27: =IF($P27<>"",IF($P27="製程 (P)","其他",""),"") | AU27: =IF(AL27<>"",AL$3,"") | AV27: =IF(AM27<>"",AM$3,"") | AW27: =IF(AN27<>"",AN$3,"") | AX27: =IF(AO27<>"",AO$3,"") | AY27: =IF(AP27<>"",AP$3,"") | AZ27: =IF(AQ27<>"",AQ$3,"") | BA27: =IF(AR27<>"",AR$3,"") | BB27: =IF(AL27<>"","a","") | BC27: =IF(AM27<>"","b","") | BD27: =IF(AN27<>"","c","") | BE27: =IF(AO27<>"","d","") | BF27: =IF(AP27<>"","e","") | BG27: =IF(AQ27<>"","f","") | BH27: =IF(AR27<>"","g","") | BI27: =BB27&BC27&BD27&BE27&BF27&BG27&BH27 | BJ27: =IF(BI27="","",VLOOKUP($BI27,$BM$2:$BP$57,2,0)) | BK27: =IF(BI27="","",VLOOKUP($BI27,$BM$2:$BP$57,3,0)) | BL27: =IF(BI27="","",VLOOKUP($BI27,$BM$2:$BP$57,4,0)) | BM27: abc | BN27: CO2 | BO27: CH4 | BP27: N2O
C28: =IF(B28<>"",VLOOKUP(B28,附表五!$B$2:$C$1024,2,0),"") | F28: =IF(E28<>"",VLOOKUP(E28,附表六!$B$2:$C$325,2,0),"") | I28: =IF(H28<>"",VLOOKUP(H28,附表七!$B:$C,2,0),"") | L28: =IF(K28<>"",IF($K28="範疇2","外購電力","固定 (E)"),"") | M28: =IF(K28<>"",IF($K28="範疇2","外購蒸汽","製程 (P)"),"") | N28: =IF(K28<>"",IF($K28="範疇2","","移動 (T)"),"") | O28: =IF(K28<>"",IF($K28="範疇2","","逸散 (F)"),"") | Q28: =IF($P28<>"",IF($P28="外購電力","併網",IF($P28="製程 (P)","水泥製程",IF($P28="逸散 (F)","廢棄物排放源",""))),"") | R28: =IF($P28<>"",IF($P28="外購電力","離網",IF($P28="製程 (P)","鋼鐵製程-使用造渣劑",IF($P28="逸散 (F)","廢水排放源",""))),"") | S28: =IF($P28<>"",IF($P28="製程 (P)","鋼鐵製程-使用添加劑",IF($P28="逸散 (F)","廢棄污泥排放源","")),"") | T28: =IF($P28<>"",IF($P28="製程 (P)","鋼鐵製程-金屬進料",IF($P28="逸散 (F)","溶劑、噴霧劑及冷媒排放源","")),"") | U28: =IF($P28<>"",IF($P28="製程 (P)","鋼鐵製程-外售含碳產品(已知CO2排放係數",IF($P28="逸散 (F)","VOCs未經燃燒且含CH4","")),"") | V28: =IF($P28<>"",IF($P28="製程 (P)","鋼鐵製程-使用添加劑(預焙陽極炭塊與煤碳電極",IF($P28="逸散 (F)","已知VOCs濃度","")),"") | W28: =IF($P28<>"",IF($P28="製程 (P)","鋼鐵製程--外售含碳產品(已知含碳率)",IF($P28="逸散 (F)","未知VOCs濃度已知CO2排放係數","")),"") | X28: =IF($P28<>"",IF($P28="製程 (P)","半導體光電製程",IF($P28="逸散 (F)","化糞池排放源","")),"") | Y28: =IF($P28<>"",IF($P28="製程 (P)","石灰製程",IF($P28="逸散 (F)","其他","")),"") | Z28: =IF($P28<>"",IF($P28="製程 (P)","碳酸鈉製程-碳酸鈉製造",""),"") | AA28: =IF($P28<>"",IF($P28="製程 (P)","碳酸鈉製程-碳酸鈉使用",""),"") | AB28: =IF($P28<>"",IF($P28="製程 (P)","碳化物鈉製程-碳化矽製造",""),"") | AC28: =IF($P28<>"",IF($P28="製程 (P)","碳化物鈉製程-碳化鈣製造",""),"") | AD28: =IF($P28<>"",IF($P28="製程 (P)","碳化物鈉製程-碳化鈣使用",""),"") | AE28: =IF($P28<>"",IF($P28="製程 (P)","碳酸製程",""),"") | AF28: =IF($P28<>"",IF($P28="製程 (P)","已二酸製程",""),"") | AG28: =IF($P28<>"",IF($P28="製程 (P)","二氟一氯甲烷",""),"") | AH28: =IF($P28<>"",IF($P28="製程 (P)","乙炔-焊接維修製程",""),"") | AI28: =IF($P28<>"",IF($P28="製程 (P)","濕式排煙脫硫-石灰石製程",""),"") | AJ28: =IF($P28<>"",IF($P28="製程 (P)","其他",""),"") | AU28: =IF(AL28<>"",AL$3,"") | AV28: =IF(AM28<>"",AM$3,"") | AW28: =IF(AN28<>"",AN$3,"") | AX28: =IF(AO28<>"",AO$3,"") | AY28: =IF(AP28<>"",AP$3,"") | AZ28: =IF(AQ28<>"",AQ$3,"") | BA28: =IF(AR28<>"",AR$3,"") | BB28: =IF(AL28<>"","a","") | BC28: =IF(AM28<>"","b","") | BD28: =IF(AN28<>"","c","") | BE28: =IF(AO28<>"","d","") | BF28: =IF(AP28<>"","e","") | BG28: =IF(AQ28<>"","f","") | BH28: =IF(AR28<>"","g","") | BI28: =BB28&BC28&BD28&BE28&BF28&BG28&BH28 | BJ28: =IF(BI28="","",VLOOKUP($BI28,$BM$2:$BP$57,2,0)) | BK28: =IF(BI28="","",VLOOKUP($BI28,$BM$2:$BP$57,3,0)) | BL28: =IF(BI28="","",VLOOKUP($BI28,$BM$2:$BP$57,4,0)) | BM28: abd | BN28: CO2 | BO28: CH4 | BP28: HFCS
C29: =IF(B29<>"",VLOOKUP(B29,附表五!$B$2:$C$1024,2,0),"") | F29: =IF(E29<>"",VLOOKUP(E29,附表六!$B$2:$C$325,2,0),"") | I29: =IF(H29<>"",VLOOKUP(H29,附表七!$B:$C,2,0),"") | L29: =IF(K29<>"",IF($K29="範疇2","外購電力","固定 (E)"),"") | M29: =IF(K29<>"",IF($K29="範疇2","外購蒸汽","製程 (P)"),"") | N29: =IF(K29<>"",IF($K29="範疇2","","移動 (T)"),"") | O29: =IF(K29<>"",IF($K29="範疇2","","逸散 (F)"),"") | Q29: =IF($P29<>"",IF($P29="外購電力","併網",IF($P29="製程 (P)","水泥製程",IF($P29="逸散 (F)","廢棄物排放源",""))),"") | R29: =IF($P29<>"",IF($P29="外購電力","離網",IF($P29="製程 (P)","鋼鐵製程-使用造渣劑",IF($P29="逸散 (F)","廢水排放源",""))),"") | S29: =IF($P29<>"",IF($P29="製程 (P)","鋼鐵製程-使用添加劑",IF($P29="逸散 (F)","廢棄污泥排放源","")),"") | T29: =IF($P29<>"",IF($P29="製程 (P)","鋼鐵製程-金屬進料",IF($P29="逸散 (F)","溶劑、噴霧劑及冷媒排放源","")),"") | U29: =IF($P29<>"",IF($P29="製程 (P)","鋼鐵製程-外售含碳產品(已知CO2排放係數",IF($P29="逸散 (F)","VOCs未經燃燒且含CH4","")),"") | V29: =IF($P29<>"",IF($P29="製程 (P)","鋼鐵製程-使用添加劑(預焙陽極炭塊與煤碳電極",IF($P29="逸散 (F)","已知VOCs濃度","")),"") | W29: =IF($P29<>"",IF($P29="製程 (P)","鋼鐵製程--外售含碳產品(已知含碳率)",IF($P29="逸散 (F)","未知VOCs濃度已知CO2排放係數","")),"") | X29: =IF($P29<>"",IF($P29="製程 (P)","半導體光電製程",IF($P29="逸散 (F)","化糞池排放源","")),"") | Y29: =IF($P29<>"",IF($P29="製程 (P)","石灰製程",IF($P29="逸散 (F)","其他","")),"") | Z29: =IF($P29<>"",IF($P29="製程 (P)","碳酸鈉製程-碳酸鈉製造",""),"") | AA29: =IF($P29<>"",IF($P29="製程 (P)","碳酸鈉製程-碳酸鈉使用",""),"") | AB29: =IF($P29<>"",IF($P29="製程 (P)","碳化物鈉製程-碳化矽製造",""),"") | AC29: =IF($P29<>"",IF($P29="製程 (P)","碳化物鈉製程-碳化鈣製造",""),"") | AD29: =IF($P29<>"",IF($P29="製程 (P)","碳化物鈉製程-碳化鈣使用",""),"") | AE29: =IF($P29<>"",IF($P29="製程 (P)","碳酸製程",""),"") | AF29: =IF($P29<>"",IF($P29="製程 (P)","已二酸製程",""),"") | AG29: =IF($P29<>"",IF($P29="製程 (P)","二氟一氯甲烷",""),"") | AH29: =IF($P29<>"",IF($P29="製程 (P)","乙炔-焊接維修製程",""),"") | AI29: =IF($P29<>"",IF($P29="製程 (P)","濕式排煙脫硫-石灰石製程",""),"") | AJ29: =IF($P29<>"",IF($P29="製程 (P)","其他",""),"") | AU29: =IF(AL29<>"",AL$3,"") | AV29: =IF(AM29<>"",AM$3,"") | AW29: =IF(AN29<>"",AN$3,"") | AX29: =IF(AO29<>"",AO$3,"") | AY29: =IF(AP29<>"",AP$3,"") | AZ29: =IF(AQ29<>"",AQ$3,"") | BA29: =IF(AR29<>"",AR$3,"") | BB29: =IF(AL29<>"","a","") | BC29: =IF(AM29<>"","b","") | BD29: =IF(AN29<>"","c","") | BE29: =IF(AO29<>"","d","") | BF29: =IF(AP29<>"","e","") | BG29: =IF(AQ29<>"","f","") | BH29: =IF(AR29<>"","g","") | BI29: =BB29&BC29&BD29&BE29&BF29&BG29&BH29 | BJ29: =IF(BI29="","",VLOOKUP($BI29,$BM$2:$BP$57,2,0)) | BK29: =IF(BI29="","",VLOOKUP($BI29,$BM$2:$BP$57,3,0)) | BL29: =IF(BI29="","",VLOOKUP($BI29,$BM$2:$BP$57,4,0)) | BM29: abe | BN29: CO2 | BO29: CH4 | BP29: PFCS
C30: =IF(B30<>"",VLOOKUP(B30,附表五!$B$2:$C$1024,2,0),"") | F30: =IF(E30<>"",VLOOKUP(E30,附表六!$B$2:$C$325,2,0),"") | I30: =IF(H30<>"",VLOOKUP(H30,附表七!$B:$C,2,0),"") | L30: =IF(K30<>"",IF($K30="範疇2","外購電力","固定 (E)"),"") | M30: =IF(K30<>"",IF($K30="範疇2","外購蒸汽","製程 (P)"),"") | N30: =IF(K30<>"",IF($K30="範疇2","","移動 (T)"),"") | O30: =IF(K30<>"",IF($K30="範疇2","","逸散 (F)"),"") | Q30: =IF($P30<>"",IF($P30="外購電力","併網",IF($P30="製程 (P)","水泥製程",IF($P30="逸散 (F)","廢棄物排放源",""))),"") | R30: =IF($P30<>"",IF($P30="外購電力","離網",IF($P30="製程 (P)","鋼鐵製程-使用造渣劑",IF($P30="逸散 (F)","廢水排放源",""))),"") | S30: =IF($P30<>"",IF($P30="製程 (P)","鋼鐵製程-使用添加劑",IF($P30="逸散 (F)","廢棄污泥排放源","")),"") | T30: =IF($P30<>"",IF($P30="製程 (P)","鋼鐵製程-金屬進料",IF($P30="逸散 (F)","溶劑、噴霧劑及冷媒排放源","")),"") | U30: =IF($P30<>"",IF($P30="製程 (P)","鋼鐵製程-外售含碳產品(已知CO2排放係數",IF($P30="逸散 (F)","VOCs未經燃燒且含CH4","")),"") | V30: =IF($P30<>"",IF($P30="製程 (P)","鋼鐵製程-使用添加劑(預焙陽極炭塊與煤碳電極",IF($P30="逸散 (F)","已知VOCs濃度","")),"") | W30: =IF($P30<>"",IF($P30="製程 (P)","鋼鐵製程--外售含碳產品(已知含碳率)",IF($P30="逸散 (F)","未知VOCs濃度已知CO2排放係數","")),"") | X30: =IF($P30<>"",IF($P30="製程 (P)","半導體光電製程",IF($P30="逸散 (F)","化糞池排放源","")),"") | Y30: =IF($P30<>"",IF($P30="製程 (P)","石灰製程",IF($P30="逸散 (F)","其他","")),"") | Z30: =IF($P30<>"",IF($P30="製程 (P)","碳酸鈉製程-碳酸鈉製造",""),"") | AA30: =IF($P30<>"",IF($P30="製程 (P)","碳酸鈉製程-碳酸鈉使用",""),"") | AB30: =IF($P30<>"",IF($P30="製程 (P)","碳化物鈉製程-碳化矽製造",""),"") | AC30: =IF($P30<>"",IF($P30="製程 (P)","碳化物鈉製程-碳化鈣製造",""),"") | AD30: =IF($P30<>"",IF($P30="製程 (P)","碳化物鈉製程-碳化鈣使用",""),"") | AE30: =IF($P30<>"",IF($P30="製程 (P)","碳酸製程",""),"") | AF30: =IF($P30<>"",IF($P30="製程 (P)","已二酸製程",""),"") | AG30: =IF($P30<>"",IF($P30="製程 (P)","二氟一氯甲烷",""),"") | AH30: =IF($P30<>"",IF($P30="製程 (P)","乙炔-焊接維修製程",""),"") | AI30: =IF($P30<>"",IF($P30="製程 (P)","濕式排煙脫硫-石灰石製程",""),"") | AJ30: =IF($P30<>"",IF($P30="製程 (P)","其他",""),"") | AU30: =IF(AL30<>"",AL$3,"") | AV30: =IF(AM30<>"",AM$3,"") | AW30: =IF(AN30<>"",AN$3,"") | AX30: =IF(AO30<>"",AO$3,"") | AY30: =IF(AP30<>"",AP$3,"") | AZ30: =IF(AQ30<>"",AQ$3,"") | BA30: =IF(AR30<>"",AR$3,"") | BB30: =IF(AL30<>"","a","") | BC30: =IF(AM30<>"","b","") | BD30: =IF(AN30<>"","c","") | BE30: =IF(AO30<>"","d","") | BF30: =IF(AP30<>"","e","") | BG30: =IF(AQ30<>"","f","") | BH30: =IF(AR30<>"","g","") | BI30: =BB30&BC30&BD30&BE30&BF30&BG30&BH30 | BJ30: =IF(BI30="","",VLOOKUP($BI30,$BM$2:$BP$57,2,0)) | BK30: =IF(BI30="","",VLOOKUP($BI30,$BM$2:$BP$57,3,0)) | BL30: =IF(BI30="","",VLOOKUP($BI30,$BM$2:$BP$57,4,0)) | BM30: abf | BN30: CO2 | BO30: CH4 | BP30: SF6
C31: =IF(B31<>"",VLOOKUP(B31,附表五!$B$2:$C$1024,2,0),"") | F31: =IF(E31<>"",VLOOKUP(E31,附表六!$B$2:$C$325,2,0),"") | I31: =IF(H31<>"",VLOOKUP(H31,附表七!$B:$C,2,0),"") | L31: =IF(K31<>"",IF($K31="範疇2","外購電力","固定 (E)"),"") | M31: =IF(K31<>"",IF($K31="範疇2","外購蒸汽","製程 (P)"),"") | N31: =IF(K31<>"",IF($K31="範疇2","","移動 (T)"),"") | O31: =IF(K31<>"",IF($K31="範疇2","","逸散 (F)"),"") | Q31: =IF($P31<>"",IF($P31="外購電力","併網",IF($P31="製程 (P)","水泥製程",IF($P31="逸散 (F)","廢棄物排放源",""))),"") | R31: =IF($P31<>"",IF($P31="外購電力","離網",IF($P31="製程 (P)","鋼鐵製程-使用造渣劑",IF($P31="逸散 (F)","廢水排放源",""))),"") | S31: =IF($P31<>"",IF($P31="製程 (P)","鋼鐵製程-使用添加劑",IF($P31="逸散 (F)","廢棄污泥排放源","")),"") | T31: =IF($P31<>"",IF($P31="製程 (P)","鋼鐵製程-金屬進料",IF($P31="逸散 (F)","溶劑、噴霧劑及冷媒排放源","")),"") | U31: =IF($P31<>"",IF($P31="製程 (P)","鋼鐵製程-外售含碳產品(已知CO2排放係數",IF($P31="逸散 (F)","VOCs未經燃燒且含CH4","")),"") | V31: =IF($P31<>"",IF($P31="製程 (P)","鋼鐵製程-使用添加劑(預焙陽極炭塊與煤碳電極",IF($P31="逸散 (F)","已知VOCs濃度","")),"") | W31: =IF($P31<>"",IF($P31="製程 (P)","鋼鐵製程--外售含碳產品(已知含碳率)",IF($P31="逸散 (F)","未知VOCs濃度已知CO2排放係數","")),"") | X31: =IF($P31<>"",IF($P31="製程 (P)","半導體光電製程",IF($P31="逸散 (F)","化糞池排放源","")),"") | Y31: =IF($P31<>"",IF($P31="製程 (P)","石灰製程",IF($P31="逸散 (F)","其他","")),"") | Z31: =IF($P31<>"",IF($P31="製程 (P)","碳酸鈉製程-碳酸鈉製造",""),"") | AA31: =IF($P31<>"",IF($P31="製程 (P)","碳酸鈉製程-碳酸鈉使用",""),"") | AB31: =IF($P31<>"",IF($P31="製程 (P)","碳化物鈉製程-碳化矽製造",""),"") | AC31: =IF($P31<>"",IF($P31="製程 (P)","碳化物鈉製程-碳化鈣製造",""),"") | AD31: =IF($P31<>"",IF($P31="製程 (P)","碳化物鈉製程-碳化鈣使用",""),"") | AE31: =IF($P31<>"",IF($P31="製程 (P)","碳酸製程",""),"") | AF31: =IF($P31<>"",IF($P31="製程 (P)","已二酸製程",""),"") | AG31: =IF($P31<>"",IF($P31="製程 (P)","二氟一氯甲烷",""),"") | AH31: =IF($P31<>"",IF($P31="製程 (P)","乙炔-焊接維修製程",""),"") | AI31: =IF($P31<>"",IF($P31="製程 (P)","濕式排煙脫硫-石灰石製程",""),"") | AJ31: =IF($P31<>"",IF($P31="製程 (P)","其他",""),"") | AU31: =IF(AL31<>"",AL$3,"") | AV31: =IF(AM31<>"",AM$3,"") | AW31: =IF(AN31<>"",AN$3,"") | AX31: =IF(AO31<>"",AO$3,"") | AY31: =IF(AP31<>"",AP$3,"") | AZ31: =IF(AQ31<>"",AQ$3,"") | BA31: =IF(AR31<>"",AR$3,"") | BB31: =IF(AL31<>"","a","") | BC31: =IF(AM31<>"","b","") | BD31: =IF(AN31<>"","c","") | BE31: =IF(AO31<>"","d","") | BF31: =IF(AP31<>"","e","") | BG31: =IF(AQ31<>"","f","") | BH31: =IF(AR31<>"","g","") | BI31: =BB31&BC31&BD31&BE31&BF31&BG31&BH31 | BJ31: =IF(BI31="","",VLOOKUP($BI31,$BM$2:$BP$57,2,0)) | BK31: =IF(BI31="","",VLOOKUP($BI31,$BM$2:$BP$57,3,0)) | BL31: =IF(BI31="","",VLOOKUP($BI31,$BM$2:$BP$57,4,0)) | BM31: abg | BN31: CO2 | BO31: CH4 | BP31: NF3
C32: =IF(B32<>"",VLOOKUP(B32,附表五!$B$2:$C$1024,2,0),"") | F32: =IF(E32<>"",VLOOKUP(E32,附表六!$B$2:$C$325,2,0),"") | I32: =IF(H32<>"",VLOOKUP(H32,附表七!$B:$C,2,0),"") | L32: =IF(K32<>"",IF($K32="範疇2","外購電力","固定 (E)"),"") | M32: =IF(K32<>"",IF($K32="範疇2","外購蒸汽","製程 (P)"),"") | N32: =IF(K32<>"",IF($K32="範疇2","","移動 (T)"),"") | O32: =IF(K32<>"",IF($K32="範疇2","","逸散 (F)"),"") | Q32: =IF($P32<>"",IF($P32="外購電力","併網",IF($P32="製程 (P)","水泥製程",IF($P32="逸散 (F)","廢棄物排放源",""))),"") | R32: =IF($P32<>"",IF($P32="外購電力","離網",IF($P32="製程 (P)","鋼鐵製程-使用造渣劑",IF($P32="逸散 (F)","廢水排放源",""))),"") | S32: =IF($P32<>"",IF($P32="製程 (P)","鋼鐵製程-使用添加劑",IF($P32="逸散 (F)","廢棄污泥排放源","")),"") | T32: =IF($P32<>"",IF($P32="製程 (P)","鋼鐵製程-金屬進料",IF($P32="逸散 (F)","溶劑、噴霧劑及冷媒排放源","")),"") | U32: =IF($P32<>"",IF($P32="製程 (P)","鋼鐵製程-外售含碳產品(已知CO2排放係數",IF($P32="逸散 (F)","VOCs未經燃燒且含CH4","")),"") | V32: =IF($P32<>"",IF($P32="製程 (P)","鋼鐵製程-使用添加劑(預焙陽極炭塊與煤碳電極",IF($P32="逸散 (F)","已知VOCs濃度","")),"") | W32: =IF($P32<>"",IF($P32="製程 (P)","鋼鐵製程--外售含碳產品(已知含碳率)",IF($P32="逸散 (F)","未知VOCs濃度已知CO2排放係數","")),"") | X32: =IF($P32<>"",IF($P32="製程 (P)","半導體光電製程",IF($P32="逸散 (F)","化糞池排放源","")),"") | Y32: =IF($P32<>"",IF($P32="製程 (P)","石灰製程",IF($P32="逸散 (F)","其他","")),"") | Z32: =IF($P32<>"",IF($P32="製程 (P)","碳酸鈉製程-碳酸鈉製造",""),"") | AA32: =IF($P32<>"",IF($P32="製程 (P)","碳酸鈉製程-碳酸鈉使用",""),"") | AB32: =IF($P32<>"",IF($P32="製程 (P)","碳化物鈉製程-碳化矽製造",""),"") | AC32: =IF($P32<>"",IF($P32="製程 (P)","碳化物鈉製程-碳化鈣製造",""),"") | AD32: =IF($P32<>"",IF($P32="製程 (P)","碳化物鈉製程-碳化鈣使用",""),"") | AE32: =IF($P32<>"",IF($P32="製程 (P)","碳酸製程",""),"") | AF32: =IF($P32<>"",IF($P32="製程 (P)","已二酸製程",""),"") | AG32: =IF($P32<>"",IF($P32="製程 (P)","二氟一氯甲烷",""),"") | AH32: =IF($P32<>"",IF($P32="製程 (P)","乙炔-焊接維修製程",""),"") | AI32: =IF($P32<>"",IF($P32="製程 (P)","濕式排煙脫硫-石灰石製程",""),"") | AJ32: =IF($P32<>"",IF($P32="製程 (P)","其他",""),"") | AU32: =IF(AL32<>"",AL$3,"") | AV32: =IF(AM32<>"",AM$3,"") | AW32: =IF(AN32<>"",AN$3,"") | AX32: =IF(AO32<>"",AO$3,"") | AY32: =IF(AP32<>"",AP$3,"") | AZ32: =IF(AQ32<>"",AQ$3,"") | BA32: =IF(AR32<>"",AR$3,"") | BB32: =IF(AL32<>"","a","") | BC32: =IF(AM32<>"","b","") | BD32: =IF(AN32<>"","c","") | BE32: =IF(AO32<>"","d","") | BF32: =IF(AP32<>"","e","") | BG32: =IF(AQ32<>"","f","") | BH32: =IF(AR32<>"","g","") | BI32: =BB32&BC32&BD32&BE32&BF32&BG32&BH32 | BJ32: =IF(BI32="","",VLOOKUP($BI32,$BM$2:$BP$57,2,0)) | BK32: =IF(BI32="","",VLOOKUP($BI32,$BM$2:$BP$57,3,0)) | BL32: =IF(BI32="","",VLOOKUP($BI32,$BM$2:$BP$57,4,0)) | BM32: acd | BN32: CO2 | BO32: N2O | BP32: HFCS
C33: =IF(B33<>"",VLOOKUP(B33,附表五!$B$2:$C$1024,2,0),"") | F33: =IF(E33<>"",VLOOKUP(E33,附表六!$B$2:$C$325,2,0),"") | I33: =IF(H33<>"",VLOOKUP(H33,附表七!$B:$C,2,0),"") | L33: =IF(K33<>"",IF($K33="範疇2","外購電力","固定 (E)"),"") | M33: =IF(K33<>"",IF($K33="範疇2","外購蒸汽","製程 (P)"),"") | N33: =IF(K33<>"",IF($K33="範疇2","","移動 (T)"),"") | O33: =IF(K33<>"",IF($K33="範疇2","","逸散 (F)"),"") | Q33: =IF($P33<>"",IF($P33="外購電力","併網",IF($P33="製程 (P)","水泥製程",IF($P33="逸散 (F)","廢棄物排放源",""))),"") | R33: =IF($P33<>"",IF($P33="外購電力","離網",IF($P33="製程 (P)","鋼鐵製程-使用造渣劑",IF($P33="逸散 (F)","廢水排放源",""))),"") | S33: =IF($P33<>"",IF($P33="製程 (P)","鋼鐵製程-使用添加劑",IF($P33="逸散 (F)","廢棄污泥排放源","")),"") | T33: =IF($P33<>"",IF($P33="製程 (P)","鋼鐵製程-金屬進料",IF($P33="逸散 (F)","溶劑、噴霧劑及冷媒排放源","")),"") | U33: =IF($P33<>"",IF($P33="製程 (P)","鋼鐵製程-外售含碳產品(已知CO2排放係數",IF($P33="逸散 (F)","VOCs未經燃燒且含CH4","")),"") | V33: =IF($P33<>"",IF($P33="製程 (P)","鋼鐵製程-使用添加劑(預焙陽極炭塊與煤碳電極",IF($P33="逸散 (F)","已知VOCs濃度","")),"") | W33: =IF($P33<>"",IF($P33="製程 (P)","鋼鐵製程--外售含碳產品(已知含碳率)",IF($P33="逸散 (F)","未知VOCs濃度已知CO2排放係數","")),"") | X33: =IF($P33<>"",IF($P33="製程 (P)","半導體光電製程",IF($P33="逸散 (F)","化糞池排放源","")),"") | Y33: =IF($P33<>"",IF($P33="製程 (P)","石灰製程",IF($P33="逸散 (F)","其他","")),"") | Z33: =IF($P33<>"",IF($P33="製程 (P)","碳酸鈉製程-碳酸鈉製造",""),"") | AA33: =IF($P33<>"",IF($P33="製程 (P)","碳酸鈉製程-碳酸鈉使用",""),"") | AB33: =IF($P33<>"",IF($P33="製程 (P)","碳化物鈉製程-碳化矽製造",""),"") | AC33: =IF($P33<>"",IF($P33="製程 (P)","碳化物鈉製程-碳化鈣製造",""),"") | AD33: =IF($P33<>"",IF($P33="製程 (P)","碳化物鈉製程-碳化鈣使用",""),"") | AE33: =IF($P33<>"",IF($P33="製程 (P)","碳酸製程",""),"") | AF33: =IF($P33<>"",IF($P33="製程 (P)","已二酸製程",""),"") | AG33: =IF($P33<>"",IF($P33="製程 (P)","二氟一氯甲烷",""),"") | AH33: =IF($P33<>"",IF($P33="製程 (P)","乙炔-焊接維修製程",""),"") | AI33: =IF($P33<>"",IF($P33="製程 (P)","濕式排煙脫硫-石灰石製程",""),"") | AJ33: =IF($P33<>"",IF($P33="製程 (P)","其他",""),"") | AU33: =IF(AL33<>"",AL$3,"") | AV33: =IF(AM33<>"",AM$3,"") | AW33: =IF(AN33<>"",AN$3,"") | AX33: =IF(AO33<>"",AO$3,"") | AY33: =IF(AP33<>"",AP$3,"") | AZ33: =IF(AQ33<>"",AQ$3,"") | BA33: =IF(AR33<>"",AR$3,"") | BB33: =IF(AL33<>"","a","") | BC33: =IF(AM33<>"","b","") | BD33: =IF(AN33<>"","c","") | BE33: =IF(AO33<>"","d","") | BF33: =IF(AP33<>"","e","") | BG33: =IF(AQ33<>"","f","") | BH33: =IF(AR33<>"","g","") | BI33: =BB33&BC33&BD33&BE33&BF33&BG33&BH33 | BJ33: =IF(BI33="","",VLOOKUP($BI33,$BM$2:$BP$57,2,0)) | BK33: =IF(BI33="","",VLOOKUP($BI33,$BM$2:$BP$57,3,0)) | BL33: =IF(BI33="","",VLOOKUP($BI33,$BM$2:$BP$57,4,0)) | BM33: ace | BN33: CO2 | BO33: N2O | BP33: PFCS
C34: =IF(B34<>"",VLOOKUP(B34,附表五!$B$2:$C$1024,2,0),"") | F34: =IF(E34<>"",VLOOKUP(E34,附表六!$B$2:$C$325,2,0),"") | I34: =IF(H34<>"",VLOOKUP(H34,附表七!$B:$C,2,0),"") | L34: =IF(K34<>"",IF($K34="範疇2","外購電力","固定 (E)"),"") | M34: =IF(K34<>"",IF($K34="範疇2","外購蒸汽","製程 (P)"),"") | N34: =IF(K34<>"",IF($K34="範疇2","","移動 (T)"),"") | O34: =IF(K34<>"",IF($K34="範疇2","","逸散 (F)"),"") | Q34: =IF($P34<>"",IF($P34="外購電力","併網",IF($P34="製程 (P)","水泥製程",IF($P34="逸散 (F)","廢棄物排放源",""))),"") | R34: =IF($P34<>"",IF($P34="外購電力","離網",IF($P34="製程 (P)","鋼鐵製程-使用造渣劑",IF($P34="逸散 (F)","廢水排放源",""))),"") | S34: =IF($P34<>"",IF($P34="製程 (P)","鋼鐵製程-使用添加劑",IF($P34="逸散 (F)","廢棄污泥排放源","")),"") | T34: =IF($P34<>"",IF($P34="製程 (P)","鋼鐵製程-金屬進料",IF($P34="逸散 (F)","溶劑、噴霧劑及冷媒排放源","")),"") | U34: =IF($P34<>"",IF($P34="製程 (P)","鋼鐵製程-外售含碳產品(已知CO2排放係數",IF($P34="逸散 (F)","VOCs未經燃燒且含CH4","")),"") | V34: =IF($P34<>"",IF($P34="製程 (P)","鋼鐵製程-使用添加劑(預焙陽極炭塊與煤碳電極",IF($P34="逸散 (F)","已知VOCs濃度","")),"") | W34: =IF($P34<>"",IF($P34="製程 (P)","鋼鐵製程--外售含碳產品(已知含碳率)",IF($P34="逸散 (F)","未知VOCs濃度已知CO2排放係數","")),"") | X34: =IF($P34<>"",IF($P34="製程 (P)","半導體光電製程",IF($P34="逸散 (F)","化糞池排放源","")),"") | Y34: =IF($P34<>"",IF($P34="製程 (P)","石灰製程",IF($P34="逸散 (F)","其他","")),"") | Z34: =IF($P34<>"",IF($P34="製程 (P)","碳酸鈉製程-碳酸鈉製造",""),"") | AA34: =IF($P34<>"",IF($P34="製程 (P)","碳酸鈉製程-碳酸鈉使用",""),"") | AB34: =IF($P34<>"",IF($P34="製程 (P)","碳化物鈉製程-碳化矽製造",""),"") | AC34: =IF($P34<>"",IF($P34="製程 (P)","碳化物鈉製程-碳化鈣製造",""),"") | AD34: =IF($P34<>"",IF($P34="製程 (P)","碳化物鈉製程-碳化鈣使用",""),"") | AE34: =IF($P34<>"",IF($P34="製程 (P)","碳酸製程",""),"") | AF34: =IF($P34<>"",IF($P34="製程 (P)","已二酸製程",""),"") | AG34: =IF($P34<>"",IF($P34="製程 (P)","二氟一氯甲烷",""),"") | AH34: =IF($P34<>"",IF($P34="製程 (P)","乙炔-焊接維修製程",""),"") | AI34: =IF($P34<>"",IF($P34="製程 (P)","濕式排煙脫硫-石灰石製程",""),"") | AJ34: =IF($P34<>"",IF($P34="製程 (P)","其他",""),"") | AU34: =IF(AL34<>"",AL$3,"") | AV34: =IF(AM34<>"",AM$3,"") | AW34: =IF(AN34<>"",AN$3,"") | AX34: =IF(AO34<>"",AO$3,"") | AY34: =IF(AP34<>"",AP$3,"") | AZ34: =IF(AQ34<>"",AQ$3,"") | BA34: =IF(AR34<>"",AR$3,"") | BB34: =IF(AL34<>"","a","") | BC34: =IF(AM34<>"","b","") | BD34: =IF(AN34<>"","c","") | BE34: =IF(AO34<>"","d","") | BF34: =IF(AP34<>"","e","") | BG34: =IF(AQ34<>"","f","") | BH34: =IF(AR34<>"","g","") | BI34: =BB34&BC34&BD34&BE34&BF34&BG34&BH34 | BJ34: =IF(BI34="","",VLOOKUP($BI34,$BM$2:$BP$57,2,0)) | BK34: =IF(BI34="","",VLOOKUP($BI34,$BM$2:$BP$57,3,0)) | BL34: =IF(BI34="","",VLOOKUP($BI34,$BM$2:$BP$57,4,0)) | BM34: acf | BN34: CO2 | BO34: N2O | BP34: SF6
C35: =IF(B35<>"",VLOOKUP(B35,附表五!$B$2:$C$1024,2,0),"") | F35: =IF(E35<>"",VLOOKUP(E35,附表六!$B$2:$C$325,2,0),"") | I35: =IF(H35<>"",VLOOKUP(H35,附表七!$B:$C,2,0),"") | L35: =IF(K35<>"",IF($K35="範疇2","外購電力","固定 (E)"),"") | M35: =IF(K35<>"",IF($K35="範疇2","外購蒸汽","製程 (P)"),"") | N35: =IF(K35<>"",IF($K35="範疇2","","移動 (T)"),"") | O35: =IF(K35<>"",IF($K35="範疇2","","逸散 (F)"),"") | Q35: =IF($P35<>"",IF($P35="外購電力","併網",IF($P35="製程 (P)","水泥製程",IF($P35="逸散 (F)","廢棄物排放源",""))),"") | R35: =IF($P35<>"",IF($P35="外購電力","離網",IF($P35="製程 (P)","鋼鐵製程-使用造渣劑",IF($P35="逸散 (F)","廢水排放源",""))),"") | S35: =IF($P35<>"",IF($P35="製程 (P)","鋼鐵製程-使用添加劑",IF($P35="逸散 (F)","廢棄污泥排放源","")),"") | T35: =IF($P35<>"",IF($P35="製程 (P)","鋼鐵製程-金屬進料",IF($P35="逸散 (F)","溶劑、噴霧劑及冷媒排放源","")),"") | U35: =IF($P35<>"",IF($P35="製程 (P)","鋼鐵製程-外售含碳產品(已知CO2排放係數",IF($P35="逸散 (F)","VOCs未經燃燒且含CH4","")),"") | V35: =IF($P35<>"",IF($P35="製程 (P)","鋼鐵製程-使用添加劑(預焙陽極炭塊與煤碳電極",IF($P35="逸散 (F)","已知VOCs濃度","")),"") | W35: =IF($P35<>"",IF($P35="製程 (P)","鋼鐵製程--外售含碳產品(已知含碳率)",IF($P35="逸散 (F)","未知VOCs濃度已知CO2排放係數","")),"") | X35: =IF($P35<>"",IF($P35="製程 (P)","半導體光電製程",IF($P35="逸散 (F)","化糞池排放源","")),"") | Y35: =IF($P35<>"",IF($P35="製程 (P)","石灰製程",IF($P35="逸散 (F)","其他","")),"") | Z35: =IF($P35<>"",IF($P35="製程 (P)","碳酸鈉製程-碳酸鈉製造",""),"") | AA35: =IF($P35<>"",IF($P35="製程 (P)","碳酸鈉製程-碳酸鈉使用",""),"") | AB35: =IF($P35<>"",IF($P35="製程 (P)","碳化物鈉製程-碳化矽製造",""),"") | AC35: =IF($P35<>"",IF($P35="製程 (P)","碳化物鈉製程-碳化鈣製造",""),"") | AD35: =IF($P35<>"",IF($P35="製程 (P)","碳化物鈉製程-碳化鈣使用",""),"") | AE35: =IF($P35<>"",IF($P35="製程 (P)","碳酸製程",""),"") | AF35: =IF($P35<>"",IF($P35="製程 (P)","已二酸製程",""),"") | AG35: =IF($P35<>"",IF($P35="製程 (P)","二氟一氯甲烷",""),"") | AH35: =IF($P35<>"",IF($P35="製程 (P)","乙炔-焊接維修製程",""),"") | AI35: =IF($P35<>"",IF($P35="製程 (P)","濕式排煙脫硫-石灰石製程",""),"") | AJ35: =IF($P35<>"",IF($P35="製程 (P)","其他",""),"") | AU35: =IF(AL35<>"",AL$3,"") | AV35: =IF(AM35<>"",AM$3,"") | AW35: =IF(AN35<>"",AN$3,"") | AX35: =IF(AO35<>"",AO$3,"") | AY35: =IF(AP35<>"",AP$3,"") | AZ35: =IF(AQ35<>"",AQ$3,"") | BA35: =IF(AR35<>"",AR$3,"") | BB35: =IF(AL35<>"","a","") | BC35: =IF(AM35<>"","b","") | BD35: =IF(AN35<>"","c","") | BE35: =IF(AO35<>"","d","") | BF35: =IF(AP35<>"","e","") | BG35: =IF(AQ35<>"","f","") | BH35: =IF(AR35<>"","g","") | BI35: =BB35&BC35&BD35&BE35&BF35&BG35&BH35 | BJ35: =IF(BI35="","",VLOOKUP($BI35,$BM$2:$BP$57,2,0)) | BK35: =IF(BI35="","",VLOOKUP($BI35,$BM$2:$BP$57,3,0)) | BL35: =IF(BI35="","",VLOOKUP($BI35,$BM$2:$BP$57,4,0)) | BM35: acg | BN35: CO2 | BO35: N2O | BP35: NF3
C36: =IF(B36<>"",VLOOKUP(B36,附表五!$B$2:$C$1024,2,0),"") | F36: =IF(E36<>"",VLOOKUP(E36,附表六!$B$2:$C$325,2,0),"") | I36: =IF(H36<>"",VLOOKUP(H36,附表七!$B:$C,2,0),"") | L36: =IF(K36<>"",IF($K36="範疇2","外購電力","固定 (E)"),"") | M36: =IF(K36<>"",IF($K36="範疇2","外購蒸汽","製程 (P)"),"") | N36: =IF(K36<>"",IF($K36="範疇2","","移動 (T)"),"") | O36: =IF(K36<>"",IF($K36="範疇2","","逸散 (F)"),"") | Q36: =IF($P36<>"",IF($P36="外購電力","併網",IF($P36="製程 (P)","水泥製程",IF($P36="逸散 (F)","廢棄物排放源",""))),"") | R36: =IF($P36<>"",IF($P36="外購電力","離網",IF($P36="製程 (P)","鋼鐵製程-使用造渣劑",IF($P36="逸散 (F)","廢水排放源",""))),"") | S36: =IF($P36<>"",IF($P36="製程 (P)","鋼鐵製程-使用添加劑",IF($P36="逸散 (F)","廢棄污泥排放源","")),"") | T36: =IF($P36<>"",IF($P36="製程 (P)","鋼鐵製程-金屬進料",IF($P36="逸散 (F)","溶劑、噴霧劑及冷媒排放源","")),"") | U36: =IF($P36<>"",IF($P36="製程 (P)","鋼鐵製程-外售含碳產品(已知CO2排放係數",IF($P36="逸散 (F)","VOCs未經燃燒且含CH4","")),"") | V36: =IF($P36<>"",IF($P36="製程 (P)","鋼鐵製程-使用添加劑(預焙陽極炭塊與煤碳電極",IF($P36="逸散 (F)","已知VOCs濃度","")),"") | W36: =IF($P36<>"",IF($P36="製程 (P)","鋼鐵製程--外售含碳產品(已知含碳率)",IF($P36="逸散 (F)","未知VOCs濃度已知CO2排放係數","")),"") | X36: =IF($P36<>"",IF($P36="製程 (P)","半導體光電製程",IF($P36="逸散 (F)","化糞池排放源","")),"") | Y36: =IF($P36<>"",IF($P36="製程 (P)","石灰製程",IF($P36="逸散 (F)","其他","")),"") | Z36: =IF($P36<>"",IF($P36="製程 (P)","碳酸鈉製程-碳酸鈉製造",""),"") | AA36: =IF($P36<>"",IF($P36="製程 (P)","碳酸鈉製程-碳酸鈉使用",""),"") | AB36: =IF($P36<>"",IF($P36="製程 (P)","碳化物鈉製程-碳化矽製造",""),"") | AC36: =IF($P36<>"",IF($P36="製程 (P)","碳化物鈉製程-碳化鈣製造",""),"") | AD36: =IF($P36<>"",IF($P36="製程 (P)","碳化物鈉製程-碳化鈣使用",""),"") | AE36: =IF($P36<>"",IF($P36="製程 (P)","碳酸製程",""),"") | AF36: =IF($P36<>"",IF($P36="製程 (P)","已二酸製程",""),"") | AG36: =IF($P36<>"",IF($P36="製程 (P)","二氟一氯甲烷",""),"") | AH36: =IF($P36<>"",IF($P36="製程 (P)","乙炔-焊接維修製程",""),"") | AI36: =IF($P36<>"",IF($P36="製程 (P)","濕式排煙脫硫-石灰石製程",""),"") | AJ36: =IF($P36<>"",IF($P36="製程 (P)","其他",""),"") | AU36: =IF(AL36<>"",AL$3,"") | AV36: =IF(AM36<>"",AM$3,"") | AW36: =IF(AN36<>"",AN$3,"") | AX36: =IF(AO36<>"",AO$3,"") | AY36: =IF(AP36<>"",AP$3,"") | AZ36: =IF(AQ36<>"",AQ$3,"") | BA36: =IF(AR36<>"",AR$3,"") | BB36: =IF(AL36<>"","a","") | BC36: =IF(AM36<>"","b","") | BD36: =IF(AN36<>"","c","") | BE36: =IF(AO36<>"","d","") | BF36: =IF(AP36<>"","e","") | BG36: =IF(AQ36<>"","f","") | BH36: =IF(AR36<>"","g","") | BI36: =BB36&BC36&BD36&BE36&BF36&BG36&BH36 | BJ36: =IF(BI36="","",VLOOKUP($BI36,$BM$2:$BP$57,2,0)) | BK36: =IF(BI36="","",VLOOKUP($BI36,$BM$2:$BP$57,3,0)) | BL36: =IF(BI36="","",VLOOKUP($BI36,$BM$2:$BP$57,4,0)) | BM36: ade | BN36: CO2 | BO36: HFCS | BP36: PFCS
C37: =IF(B37<>"",VLOOKUP(B37,附表五!$B$2:$C$1024,2,0),"") | F37: =IF(E37<>"",VLOOKUP(E37,附表六!$B$2:$C$325,2,0),"") | I37: =IF(H37<>"",VLOOKUP(H37,附表七!$B:$C,2,0),"") | L37: =IF(K37<>"",IF($K37="範疇2","外購電力","固定 (E)"),"") | M37: =IF(K37<>"",IF($K37="範疇2","外購蒸汽","製程 (P)"),"") | N37: =IF(K37<>"",IF($K37="範疇2","","移動 (T)"),"") | O37: =IF(K37<>"",IF($K37="範疇2","","逸散 (F)"),"") | Q37: =IF($P37<>"",IF($P37="外購電力","併網",IF($P37="製程 (P)","水泥製程",IF($P37="逸散 (F)","廢棄物排放源",""))),"") | R37: =IF($P37<>"",IF($P37="外購電力","離網",IF($P37="製程 (P)","鋼鐵製程-使用造渣劑",IF($P37="逸散 (F)","廢水排放源",""))),"") | S37: =IF($P37<>"",IF($P37="製程 (P)","鋼鐵製程-使用添加劑",IF($P37="逸散 (F)","廢棄污泥排放源","")),"") | T37: =IF($P37<>"",IF($P37="製程 (P)","鋼鐵製程-金屬進料",IF($P37="逸散 (F)","溶劑、噴霧劑及冷媒排放源","")),"") | U37: =IF($P37<>"",IF($P37="製程 (P)","鋼鐵製程-外售含碳產品(已知CO2排放係數",IF($P37="逸散 (F)","VOCs未經燃燒且含CH4","")),"") | V37: =IF($P37<>"",IF($P37="製程 (P)","鋼鐵製程-使用添加劑(預焙陽極炭塊與煤碳電極",IF($P37="逸散 (F)","已知VOCs濃度","")),"") | W37: =IF($P37<>"",IF($P37="製程 (P)","鋼鐵製程--外售含碳產品(已知含碳率)",IF($P37="逸散 (F)","未知VOCs濃度已知CO2排放係數","")),"") | X37: =IF($P37<>"",IF($P37="製程 (P)","半導體光電製程",IF($P37="逸散 (F)","化糞池排放源","")),"") | Y37: =IF($P37<>"",IF($P37="製程 (P)","石灰製程",IF($P37="逸散 (F)","其他","")),"") | Z37: =IF($P37<>"",IF($P37="製程 (P)","碳酸鈉製程-碳酸鈉製造",""),"") | AA37: =IF($P37<>"",IF($P37="製程 (P)","碳酸鈉製程-碳酸鈉使用",""),"") | AB37: =IF($P37<>"",IF($P37="製程 (P)","碳化物鈉製程-碳化矽製造",""),"") | AC37: =IF($P37<>"",IF($P37="製程 (P)","碳化物鈉製程-碳化鈣製造",""),"") | AD37: =IF($P37<>"",IF($P37="製程 (P)","碳化物鈉製程-碳化鈣使用",""),"") | AE37: =IF($P37<>"",IF($P37="製程 (P)","碳酸製程",""),"") | AF37: =IF($P37<>"",IF($P37="製程 (P)","已二酸製程",""),"") | AG37: =IF($P37<>"",IF($P37="製程 (P)","二氟一氯甲烷",""),"") | AH37: =IF($P37<>"",IF($P37="製程 (P)","乙炔-焊接維修製程",""),"") | AI37: =IF($P37<>"",IF($P37="製程 (P)","濕式排煙脫硫-石灰石製程",""),"") | AJ37: =IF($P37<>"",IF($P37="製程 (P)","其他",""),"") | AU37: =IF(AL37<>"",AL$3,"") | AV37: =IF(AM37<>"",AM$3,"") | AW37: =IF(AN37<>"",AN$3,"") | AX37: =IF(AO37<>"",AO$3,"") | AY37: =IF(AP37<>"",AP$3,"") | AZ37: =IF(AQ37<>"",AQ$3,"") | BA37: =IF(AR37<>"",AR$3,"") | BB37: =IF(AL37<>"","a","") | BC37: =IF(AM37<>"","b","") | BD37: =IF(AN37<>"","c","") | BE37: =IF(AO37<>"","d","") | BF37: =IF(AP37<>"","e","") | BG37: =IF(AQ37<>"","f","") | BH37: =IF(AR37<>"","g","") | BI37: =BB37&BC37&BD37&BE37&BF37&BG37&BH37 | BJ37: =IF(BI37="","",VLOOKUP($BI37,$BM$2:$BP$57,2,0)) | BK37: =IF(BI37="","",VLOOKUP($BI37,$BM$2:$BP$57,3,0)) | BL37: =IF(BI37="","",VLOOKUP($BI37,$BM$2:$BP$57,4,0)) | BM37: adf | BN37: CO2 | BO37: HFCS | BP37: SF6
C38: =IF(B38<>"",VLOOKUP(B38,附表五!$B$2:$C$1024,2,0),"") | F38: =IF(E38<>"",VLOOKUP(E38,附表六!$B$2:$C$325,2,0),"") | I38: =IF(H38<>"",VLOOKUP(H38,附表七!$B:$C,2,0),"") | L38: =IF(K38<>"",IF($K38="範疇2","外購電力","固定 (E)"),"") | M38: =IF(K38<>"",IF($K38="範疇2","外購蒸汽","製程 (P)"),"") | N38: =IF(K38<>"",IF($K38="範疇2","","移動 (T)"),"") | O38: =IF(K38<>"",IF($K38="範疇2","","逸散 (F)"),"") | Q38: =IF($P38<>"",IF($P38="外購電力","併網",IF($P38="製程 (P)","水泥製程",IF($P38="逸散 (F)","廢棄物排放源",""))),"") | R38: =IF($P38<>"",IF($P38="外購電力","離網",IF($P38="製程 (P)","鋼鐵製程-使用造渣劑",IF($P38="逸散 (F)","廢水排放源",""))),"") | S38: =IF($P38<>"",IF($P38="製程 (P)","鋼鐵製程-使用添加劑",IF($P38="逸散 (F)","廢棄污泥排放源","")),"") | T38: =IF($P38<>"",IF($P38="製程 (P)","鋼鐵製程-金屬進料",IF($P38="逸散 (F)","溶劑、噴霧劑及冷媒排放源","")),"") | U38: =IF($P38<>"",IF($P38="製程 (P)","鋼鐵製程-外售含碳產品(已知CO2排放係數",IF($P38="逸散 (F)","VOCs未經燃燒且含CH4","")),"") | V38: =IF($P38<>"",IF($P38="製程 (P)","鋼鐵製程-使用添加劑(預焙陽極炭塊與煤碳電極",IF($P38="逸散 (F)","已知VOCs濃度","")),"") | W38: =IF($P38<>"",IF($P38="製程 (P)","鋼鐵製程--外售含碳產品(已知含碳率)",IF($P38="逸散 (F)","未知VOCs濃度已知CO2排放係數","")),"") | X38: =IF($P38<>"",IF($P38="製程 (P)","半導體光電製程",IF($P38="逸散 (F)","化糞池排放源","")),"") | Y38: =IF($P38<>"",IF($P38="製程 (P)","石灰製程",IF($P38="逸散 (F)","其他","")),"") | Z38: =IF($P38<>"",IF($P38="製程 (P)","碳酸鈉製程-碳酸鈉製造",""),"") | AA38: =IF($P38<>"",IF($P38="製程 (P)","碳酸鈉製程-碳酸鈉使用",""),"") | AB38: =IF($P38<>"",IF($P38="製程 (P)","碳化物鈉製程-碳化矽製造",""),"") | AC38: =IF($P38<>"",IF($P38="製程 (P)","碳化物鈉製程-碳化鈣製造",""),"") | AD38: =IF($P38<>"",IF($P38="製程 (P)","碳化物鈉製程-碳化鈣使用",""),"") | AE38: =IF($P38<>"",IF($P38="製程 (P)","碳酸製程",""),"") | AF38: =IF($P38<>"",IF($P38="製程 (P)","已二酸製程",""),"") | AG38: =IF($P38<>"",IF($P38="製程 (P)","二氟一氯甲烷",""),"") | AH38: =IF($P38<>"",IF($P38="製程 (P)","乙炔-焊接維修製程",""),"") | AI38: =IF($P38<>"",IF($P38="製程 (P)","濕式排煙脫硫-石灰石製程",""),"") | AJ38: =IF($P38<>"",IF($P38="製程 (P)","其他",""),"") | AU38: =IF(AL38<>"",AL$3,"") | AV38: =IF(AM38<>"",AM$3,"") | AW38: =IF(AN38<>"",AN$3,"") | AX38: =IF(AO38<>"",AO$3,"") | AY38: =IF(AP38<>"",AP$3,"") | AZ38: =IF(AQ38<>"",AQ$3,"") | BA38: =IF(AR38<>"",AR$3,"") | BB38: =IF(AL38<>"","a","") | BC38: =IF(AM38<>"","b","") | BD38: =IF(AN38<>"","c","") | BE38: =IF(AO38<>"","d","") | BF38: =IF(AP38<>"","e","") | BG38: =IF(AQ38<>"","f","") | BH38: =IF(AR38<>"","g","") | BI38: =BB38&BC38&BD38&BE38&BF38&BG38&BH38 | BJ38: =IF(BI38="","",VLOOKUP($BI38,$BM$2:$BP$57,2,0)) | BK38: =IF(BI38="","",VLOOKUP($BI38,$BM$2:$BP$57,3,0)) | BL38: =IF(BI38="","",VLOOKUP($BI38,$BM$2:$BP$57,4,0)) | BM38: adg | BN38: CO2 | BO38: HFCS | BP38: NF3
... C57: =IF(B57<>"",VLOOKUP(B57,附表五!$B$2:$C$1024,2,0),"") | F57: =IF(E57<>"",VLOOKUP(E57,附表六!$B$2:$C$325,2,0),"") | I57: =IF(H57<>"",VLOOKUP(H57,附表七!$B:$C,2,0),"") | L57: =IF(K57<>"",IF($K57="範疇2","外購電力","固定 (E)"),"") | M57: =IF(K57<>"",IF($K57="範疇2","外購蒸汽","製程 (P)"),"") | N57: =IF(K57<>"",IF($K57="範疇2","","移動 (T)"),"") | O57: =IF(K57<>"",IF($K57="範疇2","","逸散 (F)"),"") | Q57: =IF($P57<>"",IF($P57="外購電力","併網",IF($P57="製程 (P)","水泥製程",IF($P57="逸散 (F)","廢棄物排放源",""))),"") | R57: =IF($P57<>"",IF($P57="外購電力","離網",IF($P57="製程 (P)","鋼鐵製程-使用造渣劑",IF($P57="逸散 (F)","廢水排放源",""))),"") | S57: =IF($P57<>"",IF($P57="製程 (P)","鋼鐵製程-使用添加劑",IF($P57="逸散 (F)","廢棄污泥排放源","")),"") | T57: =IF($P57<>"",IF($P57="製程 (P)","鋼鐵製程-金屬進料",IF($P57="逸散 (F)","溶劑、噴霧劑及冷媒排放源","")),"") | U57: =IF($P57<>"",IF($P57="製程 (P)","鋼鐵製程-外售含碳產品(已知CO2排放係數",IF($P57="逸散 (F)","VOCs未經燃燒且含CH4","")),"") | V57: =IF($P57<>"",IF($P57="製程 (P)","鋼鐵製程-使用添加劑(預焙陽極炭塊與煤碳電極",IF($P57="逸散 (F)","已知VOCs濃度","")),"") | W57: =IF($P57<>"",IF($P57="製程 (P)","鋼鐵製程--外售含碳產品(已知含碳率)",IF($P57="逸散 (F)","未知VOCs濃度已知CO2排放係數","")),"") | X57: =IF($P57<>"",IF($P57="製程 (P)","半導體光電製程",IF($P57="逸散 (F)","化糞池排放源","")),"") | Y57: =IF($P57<>"",IF($P57="製程 (P)","石灰製程",IF($P57="逸散 (F)","其他","")),"") | Z57: =IF($P57<>"",IF($P57="製程 (P)","碳酸鈉製程-碳酸鈉製造",""),"") | AA57: =IF($P57<>"",IF($P57="製程 (P)","碳酸鈉製程-碳酸鈉使用",""),"") | AB57: =IF($P57<>"",IF($P57="製程 (P)","碳化物鈉製程-碳化矽製造",""),"") | AC57: =IF($P57<>"",IF($P57="製程 (P)","碳化物鈉製程-碳化鈣製造",""),"") | AD57: =IF($P57<>"",IF($P57="製程 (P)","碳化物鈉製程-碳化鈣使用",""),"") | AE57: =IF($P57<>"",IF($P57="製程 (P)","碳酸製程",""),"") | AF57: =IF($P57<>"",IF($P57="製程 (P)","已二酸製程",""),"") | AG57: =IF($P57<>"",IF($P57="製程 (P)","二氟一氯甲烷",""),"") | AH57: =IF($P57<>"",IF($P57="製程 (P)","乙炔-焊接維修製程",""),"") | AI57: =IF($P57<>"",IF($P57="製程 (P)","濕式排煙脫硫-石灰石製程",""),"") | AJ57: =IF($P57<>"",IF($P57="製程 (P)","其他",""),"") | AU57: =IF(AL57<>"",AL$3,"") | AV57: =IF(AM57<>"",AM$3,"") | AW57: =IF(AN57<>"",AN$3,"") | AX57: =IF(AO57<>"",AO$3,"") | AY57: =IF(AP57<>"",AP$3,"") | AZ57: =IF(AQ57<>"",AQ$3,"") | BA57: =IF(AR57<>"",AR$3,"") | BB57: =IF(AL57<>"","a","") | BC57: =IF(AM57<>"","b","") | BD57: =IF(AN57<>"","c","") | BE57: =IF(AO57<>"","d","") | BF57: =IF(AP57<>"","e","") | BG57: =IF(AQ57<>"","f","") | BH57: =IF(AR57<>"","g","") | BI57: =BB57&BC57&BD57&BE57&BF57&BG57&BH57 | BJ57: =IF(BI57="","",VLOOKUP($BI57,$BM$2:$BP$57,2,0)) | BK57: =IF(BI57="","",VLOOKUP($BI57,$BM$2:$BP$57,3,0)) | BL57: =IF(BI57="","",VLOOKUP($BI57,$BM$2:$BP$57,4,0)) | BM57: efg | BN57: PFCS | BO57: SF6 | BP57: NF3
C58: =IF(B58<>"",VLOOKUP(B58,附表五!$B$2:$C$1024,2,0),"") | F58: =IF(E58<>"",VLOOKUP(E58,附表六!$B$2:$C$325,2,0),"") | I58: =IF(H58<>"",VLOOKUP(H58,附表七!$B:$C,2,0),"") | L58: =IF(K58<>"",IF($K58="範疇2","外購電力","固定 (E)"),"") | M58: =IF(K58<>"",IF($K58="範疇2","外購蒸汽","製程 (P)"),"") | N58: =IF(K58<>"",IF($K58="範疇2","","移動 (T)"),"") | O58: =IF(K58<>"",IF($K58="範疇2","","逸散 (F)"),"") | Q58: =IF($P58<>"",IF($P58="外購電力","併網",IF($P58="製程 (P)","水泥製程",IF($P58="逸散 (F)","廢棄物排放源",""))),"") | R58: =IF($P58<>"",IF($P58="外購電力","離網",IF($P58="製程 (P)","鋼鐵製程-使用造渣劑",IF($P58="逸散 (F)","廢水排放源",""))),"") | S58: =IF($P58<>"",IF($P58="製程 (P)","鋼鐵製程-使用添加劑",IF($P58="逸散 (F)","廢棄污泥排放源","")),"") | T58: =IF($P58<>"",IF($P58="製程 (P)","鋼鐵製程-金屬進料",IF($P58="逸散 (F)","溶劑、噴霧劑及冷媒排放源","")),"") | U58: =IF($P58<>"",IF($P58="製程 (P)","鋼鐵製程-外售含碳產品(已知CO2排放係數",IF($P58="逸散 (F)","VOCs未經燃燒且含CH4","")),"") | V58: =IF($P58<>"",IF($P58="製程 (P)","鋼鐵製程-使用添加劑(預焙陽極炭塊與煤碳電極",IF($P58="逸散 (F)","已知VOCs濃度","")),"") | W58: =IF($P58<>"",IF($P58="製程 (P)","鋼鐵製程--外售含碳產品(已知含碳率)",IF($P58="逸散 (F)","未知VOCs濃度已知CO2排放係數","")),"") | X58: =IF($P58<>"",IF($P58="製程 (P)","半導體光電製程",IF($P58="逸散 (F)","化糞池排放源","")),"") | Y58: =IF($P58<>"",IF($P58="製程 (P)","石灰製程",IF($P58="逸散 (F)","其他","")),"") | Z58: =IF($P58<>"",IF($P58="製程 (P)","碳酸鈉製程-碳酸鈉製造",""),"") | AA58: =IF($P58<>"",IF($P58="製程 (P)","碳酸鈉製程-碳酸鈉使用",""),"") | AB58: =IF($P58<>"",IF($P58="製程 (P)","碳化物鈉製程-碳化矽製造",""),"") | AC58: =IF($P58<>"",IF($P58="製程 (P)","碳化物鈉製程-碳化鈣製造",""),"") | AD58: =IF($P58<>"",IF($P58="製程 (P)","碳化物鈉製程-碳化鈣使用",""),"") | AE58: =IF($P58<>"",IF($P58="製程 (P)","碳酸製程",""),"") | AF58: =IF($P58<>"",IF($P58="製程 (P)","已二酸製程",""),"") | AG58: =IF($P58<>"",IF($P58="製程 (P)","二氟一氯甲烷",""),"") | AH58: =IF($P58<>"",IF($P58="製程 (P)","乙炔-焊接維修製程",""),"") | AI58: =IF($P58<>"",IF($P58="製程 (P)","濕式排煙脫硫-石灰石製程",""),"") | AJ58: =IF($P58<>"",IF($P58="製程 (P)","其他",""),"") | AU58: =IF(AL58<>"",AL$3,"") | AV58: =IF(AM58<>"",AM$3,"") | AW58: =IF(AN58<>"",AN$3,"") | AX58: =IF(AO58<>"",AO$3,"") | AY58: =IF(AP58<>"",AP$3,"") | AZ58: =IF(AQ58<>"",AQ$3,"") | BA58: =IF(AR58<>"",AR$3,"") | BB58: =IF(AL58<>"","a","") | BC58: =IF(AM58<>"","b","") | BD58: =IF(AN58<>"","c","") | BE58: =IF(AO58<>"","d","") | BF58: =IF(AP58<>"","e","") | BG58: =IF(AQ58<>"","f","") | BH58: =IF(AR58<>"","g","") | BI58: =BB58&BC58&BD58&BE58&BF58&BG58&BH58 | BJ58: =IF(BI58="","",VLOOKUP($BI58,$BM$2:$BP$57,2,0)) | BK58: =IF(BI58="","",VLOOKUP($BI58,$BM$2:$BP$57,3,0)) | BL58: =IF(BI58="","",VLOOKUP($BI58,$BM$2:$BP$57,4,0))
C59: =IF(B59<>"",VLOOKUP(B59,附表五!$B$2:$C$1024,2,0),"") | F59: =IF(E59<>"",VLOOKUP(E59,附表六!$B$2:$C$325,2,0),"") | I59: =IF(H59<>"",VLOOKUP(H59,附表七!$B:$C,2,0),"") | L59: =IF(K59<>"",IF($K59="範疇2","外購電力","固定 (E)"),"") | M59: =IF(K59<>"",IF($K59="範疇2","外購蒸汽","製程 (P)"),"") | N59: =IF(K59<>"",IF($K59="範疇2","","移動 (T)"),"") | O59: =IF(K59<>"",IF($K59="範疇2","","逸散 (F)"),"") | Q59: =IF($P59<>"",IF($P59="外購電力","併網",IF($P59="製程 (P)","水泥製程",IF($P59="逸散 (F)","廢棄物排放源",""))),"") | R59: =IF($P59<>"",IF($P59="外購電力","離網",IF($P59="製程 (P)","鋼鐵製程-使用造渣劑",IF($P59="逸散 (F)","廢水排放源",""))),"") | S59: =IF($P59<>"",IF($P59="製程 (P)","鋼鐵製程-使用添加劑",IF($P59="逸散 (F)","廢棄污泥排放源","")),"") | T59: =IF($P59<>"",IF($P59="製程 (P)","鋼鐵製程-金屬進料",IF($P59="逸散 (F)","溶劑、噴霧劑及冷媒排放源","")),"") | U59: =IF($P59<>"",IF($P59="製程 (P)","鋼鐵製程-外售含碳產品(已知CO2排放係數",IF($P59="逸散 (F)","VOCs未經燃燒且含CH4","")),"") | V59: =IF($P59<>"",IF($P59="製程 (P)","鋼鐵製程-使用添加劑(預焙陽極炭塊與煤碳電極",IF($P59="逸散 (F)","已知VOCs濃度","")),"") | W59: =IF($P59<>"",IF($P59="製程 (P)","鋼鐵製程--外售含碳產品(已知含碳率)",IF($P59="逸散 (F)","未知VOCs濃度已知CO2排放係數","")),"") | X59: =IF($P59<>"",IF($P59="製程 (P)","半導體光電製程",IF($P59="逸散 (F)","化糞池排放源","")),"") | Y59: =IF($P59<>"",IF($P59="製程 (P)","石灰製程",IF($P59="逸散 (F)","其他","")),"") | Z59: =IF($P59<>"",IF($P59="製程 (P)","碳酸鈉製程-碳酸鈉製造",""),"") | AA59: =IF($P59<>"",IF($P59="製程 (P)","碳酸鈉製程-碳酸鈉使用",""),"") | AB59: =IF($P59<>"",IF($P59="製程 (P)","碳化物鈉製程-碳化矽製造",""),"") | AC59: =IF($P59<>"",IF($P59="製程 (P)","碳化物鈉製程-碳化鈣製造",""),"") | AD59: =IF($P59<>"",IF($P59="製程 (P)","碳化物鈉製程-碳化鈣使用",""),"") | AE59: =IF($P59<>"",IF($P59="製程 (P)","碳酸製程",""),"") | AF59: =IF($P59<>"",IF($P59="製程 (P)","已二酸製程",""),"") | AG59: =IF($P59<>"",IF($P59="製程 (P)","二氟一氯甲烷",""),"") | AH59: =IF($P59<>"",IF($P59="製程 (P)","乙炔-焊接維修製程",""),"") | AI59: =IF($P59<>"",IF($P59="製程 (P)","濕式排煙脫硫-石灰石製程",""),"") | AJ59: =IF($P59<>"",IF($P59="製程 (P)","其他",""),"") | AU59: =IF(AL59<>"",AL$3,"") | AV59: =IF(AM59<>"",AM$3,"") | AW59: =IF(AN59<>"",AN$3,"") | AX59: =IF(AO59<>"",AO$3,"") | AY59: =IF(AP59<>"",AP$3,"") | AZ59: =IF(AQ59<>"",AQ$3,"") | BA59: =IF(AR59<>"",AR$3,"") | BB59: =IF(AL59<>"","a","") | BC59: =IF(AM59<>"","b","") | BD59: =IF(AN59<>"","c","") | BE59: =IF(AO59<>"","d","") | BF59: =IF(AP59<>"","e","") | BG59: =IF(AQ59<>"","f","") | BH59: =IF(AR59<>"","g","") | BI59: =BB59&BC59&BD59&BE59&BF59&BG59&BH59 | BJ59: =IF(BI59="","",VLOOKUP($BI59,$BM$2:$BP$57,2,0)) | BK59: =IF(BI59="","",VLOOKUP($BI59,$BM$2:$BP$57,3,0)) | BL59: =IF(BI59="","",VLOOKUP($BI59,$BM$2:$BP$57,4,0))
C60: =IF(B60<>"",VLOOKUP(B60,附表五!$B$2:$C$1024,2,0),"") | F60: =IF(E60<>"",VLOOKUP(E60,附表六!$B$2:$C$325,2,0),"") | I60: =IF(H60<>"",VLOOKUP(H60,附表七!$B:$C,2,0),"") | L60: =IF(K60<>"",IF($K60="範疇2","外購電力","固定 (E)"),"") | M60: =IF(K60<>"",IF($K60="範疇2","外購蒸汽","製程 (P)"),"") | N60: =IF(K60<>"",IF($K60="範疇2","","移動 (T)"),"") | O60: =IF(K60<>"",IF($K60="範疇2","","逸散 (F)"),"") | Q60: =IF($P60<>"",IF($P60="外購電力","併網",IF($P60="製程 (P)","水泥製程",IF($P60="逸散 (F)","廢棄物排放源",""))),"") | R60: =IF($P60<>"",IF($P60="外購電力","離網",IF($P60="製程 (P)","鋼鐵製程-使用造渣劑",IF($P60="逸散 (F)","廢水排放源",""))),"") | S60: =IF($P60<>"",IF($P60="製程 (P)","鋼鐵製程-使用添加劑",IF($P60="逸散 (F)","廢棄污泥排放源","")),"") | T60: =IF($P60<>"",IF($P60="製程 (P)","鋼鐵製程-金屬進料",IF($P60="逸散 (F)","溶劑、噴霧劑及冷媒排放源","")),"") | U60: =IF($P60<>"",IF($P60="製程 (P)","鋼鐵製程-外售含碳產品(已知CO2排放係數",IF($P60="逸散 (F)","VOCs未經燃燒且含CH4","")),"") | V60: =IF($P60<>"",IF($P60="製程 (P)","鋼鐵製程-使用添加劑(預焙陽極炭塊與煤碳電極",IF($P60="逸散 (F)","已知VOCs濃度","")),"") | W60: =IF($P60<>"",IF($P60="製程 (P)","鋼鐵製程--外售含碳產品(已知含碳率)",IF($P60="逸散 (F)","未知VOCs濃度已知CO2排放係數","")),"") | X60: =IF($P60<>"",IF($P60="製程 (P)","半導體光電製程",IF($P60="逸散 (F)","化糞池排放源","")),"") | Y60: =IF($P60<>"",IF($P60="製程 (P)","石灰製程",IF($P60="逸散 (F)","其他","")),"") | Z60: =IF($P60<>"",IF($P60="製程 (P)","碳酸鈉製程-碳酸鈉製造",""),"") | AA60: =IF($P60<>"",IF($P60="製程 (P)","碳酸鈉製程-碳酸鈉使用",""),"") | AB60: =IF($P60<>"",IF($P60="製程 (P)","碳化物鈉製程-碳化矽製造",""),"") | AC60: =IF($P60<>"",IF($P60="製程 (P)","碳化物鈉製程-碳化鈣製造",""),"") | AD60: =IF($P60<>"",IF($P60="製程 (P)","碳化物鈉製程-碳化鈣使用",""),"") | AE60: =IF($P60<>"",IF($P60="製程 (P)","碳酸製程",""),"") | AF60: =IF($P60<>"",IF($P60="製程 (P)","已二酸製程",""),"") | AG60: =IF($P60<>"",IF($P60="製程 (P)","二氟一氯甲烷",""),"") | AH60: =IF($P60<>"",IF($P60="製程 (P)","乙炔-焊接維修製程",""),"") | AI60: =IF($P60<>"",IF($P60="製程 (P)","濕式排煙脫硫-石灰石製程",""),"") | AJ60: =IF($P60<>"",IF($P60="製程 (P)","其他",""),"") | AU60: =IF(AL60<>"",AL$3,"") | AV60: =IF(AM60<>"",AM$3,"") | AW60: =IF(AN60<>"",AN$3,"") | AX60: =IF(AO60<>"",AO$3,"") | AY60: =IF(AP60<>"",AP$3,"") | AZ60: =IF(AQ60<>"",AQ$3,"") | BA60: =IF(AR60<>"",AR$3,"") | BB60: =IF(AL60<>"","a","") | BC60: =IF(AM60<>"","b","") | BD60: =IF(AN60<>"","c","") | BE60: =IF(AO60<>"","d","") | BF60: =IF(AP60<>"","e","") | BG60: =IF(AQ60<>"","f","") | BH60: =IF(AR60<>"","g","") | BI60: =BB60&BC60&BD60&BE60&BF60&BG60&BH60 | BJ60: =IF(BI60="","",VLOOKUP($BI60,$BM$2:$BP$57,2,0)) | BK60: =IF(BI60="","",VLOOKUP($BI60,$BM$2:$BP$57,3,0)) | BL60: =IF(BI60="","",VLOOKUP($BI60,$BM$2:$BP$57,4,0))
C61: =IF(B61<>"",VLOOKUP(B61,附表五!$B$2:$C$1024,2,0),"") | F61: =IF(E61<>"",VLOOKUP(E61,附表六!$B$2:$C$325,2,0),"") | I61: =IF(H61<>"",VLOOKUP(H61,附表七!$B:$C,2,0),"") | L61: =IF(K61<>"",IF($K61="範疇2","外購電力","固定 (E)"),"") | M61: =IF(K61<>"",IF($K61="範疇2","外購蒸汽","製程 (P)"),"") | N61: =IF(K61<>"",IF($K61="範疇2","","移動 (T)"),"") | O61: =IF(K61<>"",IF($K61="範疇2","","逸散 (F)"),"") | Q61: =IF($P61<>"",IF($P61="外購電力","併網",IF($P61="製程 (P)","水泥製程",IF($P61="逸散 (F)","廢棄物排放源",""))),"") | R61: =IF($P61<>"",IF($P61="外購電力","離網",IF($P61="製程 (P)","鋼鐵製程-使用造渣劑",IF($P61="逸散 (F)","廢水排放源",""))),"") | S61: =IF($P61<>"",IF($P61="製程 (P)","鋼鐵製程-使用添加劑",IF($P61="逸散 (F)","廢棄污泥排放源","")),"") | T61: =IF($P61<>"",IF($P61="製程 (P)","鋼鐵製程-金屬進料",IF($P61="逸散 (F)","溶劑、噴霧劑及冷媒排放源","")),"") | U61: =IF($P61<>"",IF($P61="製程 (P)","鋼鐵製程-外售含碳產品(已知CO2排放係數",IF($P61="逸散 (F)","VOCs未經燃燒且含CH4","")),"") | V61: =IF($P61<>"",IF($P61="製程 (P)","鋼鐵製程-使用添加劑(預焙陽極炭塊與煤碳電極",IF($P61="逸散 (F)","已知VOCs濃度","")),"") | W61: =IF($P61<>"",IF($P61="製程 (P)","鋼鐵製程--外售含碳產品(已知含碳率)",IF($P61="逸散 (F)","未知VOCs濃度已知CO2排放係數","")),"") | X61: =IF($P61<>"",IF($P61="製程 (P)","半導體光電製程",IF($P61="逸散 (F)","化糞池排放源","")),"") | Y61: =IF($P61<>"",IF($P61="製程 (P)","石灰製程",IF($P61="逸散 (F)","其他","")),"") | Z61: =IF($P61<>"",IF($P61="製程 (P)","碳酸鈉製程-碳酸鈉製造",""),"") | AA61: =IF($P61<>"",IF($P61="製程 (P)","碳酸鈉製程-碳酸鈉使用",""),"") | AB61: =IF($P61<>"",IF($P61="製程 (P)","碳化物鈉製程-碳化矽製造",""),"") | AC61: =IF($P61<>"",IF($P61="製程 (P)","碳化物鈉製程-碳化鈣製造",""),"") | AD61: =IF($P61<>"",IF($P61="製程 (P)","碳化物鈉製程-碳化鈣使用",""),"") | AE61: =IF($P61<>"",IF($P61="製程 (P)","碳酸製程",""),"") | AF61: =IF($P61<>"",IF($P61="製程 (P)","已二酸製程",""),"") | AG61: =IF($P61<>"",IF($P61="製程 (P)","二氟一氯甲烷",""),"") | AH61: =IF($P61<>"",IF($P61="製程 (P)","乙炔-焊接維修製程",""),"") | AI61: =IF($P61<>"",IF($P61="製程 (P)","濕式排煙脫硫-石灰石製程",""),"") | AJ61: =IF($P61<>"",IF($P61="製程 (P)","其他",""),"") | AU61: =IF(AL61<>"",AL$3,"") | AV61: =IF(AM61<>"",AM$3,"") | AW61: =IF(AN61<>"",AN$3,"") | AX61: =IF(AO61<>"",AO$3,"") | AY61: =IF(AP61<>"",AP$3,"") | AZ61: =IF(AQ61<>"",AQ$3,"") | BA61: =IF(AR61<>"",AR$3,"") | BB61: =IF(AL61<>"","a","") | BC61: =IF(AM61<>"","b","") | BD61: =IF(AN61<>"","c","") | BE61: =IF(AO61<>"","d","") | BF61: =IF(AP61<>"","e","") | BG61: =IF(AQ61<>"","f","") | BH61: =IF(AR61<>"","g","") | BI61: =BB61&BC61&BD61&BE61&BF61&BG61&BH61 | BJ61: =IF(BI61="","",VLOOKUP($BI61,$BM$2:$BP$57,2,0)) | BK61: =IF(BI61="","",VLOOKUP($BI61,$BM$2:$BP$57,3,0)) | BL61: =IF(BI61="","",VLOOKUP($BI61,$BM$2:$BP$57,4,0))
C62: =IF(B62<>"",VLOOKUP(B62,附表五!$B$2:$C$1024,2,0),"") | F62: =IF(E62<>"",VLOOKUP(E62,附表六!$B$2:$C$325,2,0),"") | I62: =IF(H62<>"",VLOOKUP(H62,附表七!$B:$C,2,0),"") | L62: =IF(K62<>"",IF($K62="範疇2","外購電力","固定 (E)"),"") | M62: =IF(K62<>"",IF($K62="範疇2","外購蒸汽","製程 (P)"),"") | N62: =IF(K62<>"",IF($K62="範疇2","","移動 (T)"),"") | O62: =IF(K62<>"",IF($K62="範疇2","","逸散 (F)"),"") | Q62: =IF($P62<>"",IF($P62="外購電力","併網",IF($P62="製程 (P)","水泥製程",IF($P62="逸散 (F)","廢棄物排放源",""))),"") | R62: =IF($P62<>"",IF($P62="外購電力","離網",IF($P62="製程 (P)","鋼鐵製程-使用造渣劑",IF($P62="逸散 (F)","廢水排放源",""))),"") | S62: =IF($P62<>"",IF($P62="製程 (P)","鋼鐵製程-使用添加劑",IF($P62="逸散 (F)","廢棄污泥排放源","")),"") | T62: =IF($P62<>"",IF($P62="製程 (P)","鋼鐵製程-金屬進料",IF($P62="逸散 (F)","溶劑、噴霧劑及冷媒排放源","")),"") | U62: =IF($P62<>"",IF($P62="製程 (P)","鋼鐵製程-外售含碳產品(已知CO2排放係數",IF($P62="逸散 (F)","VOCs未經燃燒且含CH4","")),"") | V62: =IF($P62<>"",IF($P62="製程 (P)","鋼鐵製程-使用添加劑(預焙陽極炭塊與煤碳電極",IF($P62="逸散 (F)","已知VOCs濃度","")),"") | W62: =IF($P62<>"",IF($P62="製程 (P)","鋼鐵製程--外售含碳產品(已知含碳率)",IF($P62="逸散 (F)","未知VOCs濃度已知CO2排放係數","")),"") | X62: =IF($P62<>"",IF($P62="製程 (P)","半導體光電製程",IF($P62="逸散 (F)","化糞池排放源","")),"") | Y62: =IF($P62<>"",IF($P62="製程 (P)","石灰製程",IF($P62="逸散 (F)","其他","")),"") | Z62: =IF($P62<>"",IF($P62="製程 (P)","碳酸鈉製程-碳酸鈉製造",""),"") | AA62: =IF($P62<>"",IF($P62="製程 (P)","碳酸鈉製程-碳酸鈉使用",""),"") | AB62: =IF($P62<>"",IF($P62="製程 (P)","碳化物鈉製程-碳化矽製造",""),"") | AC62: =IF($P62<>"",IF($P62="製程 (P)","碳化物鈉製程-碳化鈣製造",""),"") | AD62: =IF($P62<>"",IF($P62="製程 (P)","碳化物鈉製程-碳化鈣使用",""),"") | AE62: =IF($P62<>"",IF($P62="製程 (P)","碳酸製程",""),"") | AF62: =IF($P62<>"",IF($P62="製程 (P)","已二酸製程",""),"") | AG62: =IF($P62<>"",IF($P62="製程 (P)","二氟一氯甲烷",""),"") | AH62: =IF($P62<>"",IF($P62="製程 (P)","乙炔-焊接維修製程",""),"") | AI62: =IF($P62<>"",IF($P62="製程 (P)","濕式排煙脫硫-石灰石製程",""),"") | AJ62: =IF($P62<>"",IF($P62="製程 (P)","其他",""),"") | AU62: =IF(AL62<>"",AL$3,"") | AV62: =IF(AM62<>"",AM$3,"") | AW62: =IF(AN62<>"",AN$3,"") | AX62: =IF(AO62<>"",AO$3,"") | AY62: =IF(AP62<>"",AP$3,"") | AZ62: =IF(AQ62<>"",AQ$3,"") | BA62: =IF(AR62<>"",AR$3,"") | BB62: =IF(AL62<>"","a","") | BC62: =IF(AM62<>"","b","") | BD62: =IF(AN62<>"","c","") | BE62: =IF(AO62<>"","d","") | BF62: =IF(AP62<>"","e","") | BG62: =IF(AQ62<>"","f","") | BH62: =IF(AR62<>"","g","") | BI62: =BB62&BC62&BD62&BE62&BF62&BG62&BH62 | BJ62: =IF(BI62="","",VLOOKUP($BI62,$BM$2:$BP$57,2,0)) | BK62: =IF(BI62="","",VLOOKUP($BI62,$BM$2:$BP$57,3,0)) | BL62: =IF(BI62="","",VLOOKUP($BI62,$BM$2:$BP$57,4,0))
C63: =IF(B63<>"",VLOOKUP(B63,附表五!$B$2:$C$1024,2,0),"") | F63: =IF(E63<>"",VLOOKUP(E63,附表六!$B$2:$C$325,2,0),"") | I63: =IF(H63<>"",VLOOKUP(H63,附表七!$B:$C,2,0),"") | L63: =IF(K63<>"",IF($K63="範疇2","外購電力","固定 (E)"),"") | M63: =IF(K63<>"",IF($K63="範疇2","外購蒸汽","製程 (P)"),"") | N63: =IF(K63<>"",IF($K63="範疇2","","移動 (T)"),"") | O63: =IF(K63<>"",IF($K63="範疇2","","逸散 (F)"),"") | Q63: =IF($P63<>"",IF($P63="外購電力","併網",IF($P63="製程 (P)","水泥製程",IF($P63="逸散 (F)","廢棄物排放源",""))),"") | R63: =IF($P63<>"",IF($P63="外購電力","離網",IF($P63="製程 (P)","鋼鐵製程-使用造渣劑",IF($P63="逸散 (F)","廢水排放源",""))),"") | S63: =IF($P63<>"",IF($P63="製程 (P)","鋼鐵製程-使用添加劑",IF($P63="逸散 (F)","廢棄污泥排放源","")),"") | T63: =IF($P63<>"",IF($P63="製程 (P)","鋼鐵製程-金屬進料",IF($P63="逸散 (F)","溶劑、噴霧劑及冷媒排放源","")),"") | U63: =IF($P63<>"",IF($P63="製程 (P)","鋼鐵製程-外售含碳產品(已知CO2排放係數",IF($P63="逸散 (F)","VOCs未經燃燒且含CH4","")),"") | V63: =IF($P63<>"",IF($P63="製程 (P)","鋼鐵製程-使用添加劑(預焙陽極炭塊與煤碳電極",IF($P63="逸散 (F)","已知VOCs濃度","")),"") | W63: =IF($P63<>"",IF($P63="製程 (P)","鋼鐵製程--外售含碳產品(已知含碳率)",IF($P63="逸散 (F)","未知VOCs濃度已知CO2排放係數","")),"") | X63: =IF($P63<>"",IF($P63="製程 (P)","半導體光電製程",IF($P63="逸散 (F)","化糞池排放源","")),"") | Y63: =IF($P63<>"",IF($P63="製程 (P)","石灰製程",IF($P63="逸散 (F)","其他","")),"") | Z63: =IF($P63<>"",IF($P63="製程 (P)","碳酸鈉製程-碳酸鈉製造",""),"") | AA63: =IF($P63<>"",IF($P63="製程 (P)","碳酸鈉製程-碳酸鈉使用",""),"") | AB63: =IF($P63<>"",IF($P63="製程 (P)","碳化物鈉製程-碳化矽製造",""),"") | AC63: =IF($P63<>"",IF($P63="製程 (P)","碳化物鈉製程-碳化鈣製造",""),"") | AD63: =IF($P63<>"",IF($P63="製程 (P)","碳化物鈉製程-碳化鈣使用",""),"") | AE63: =IF($P63<>"",IF($P63="製程 (P)","碳酸製程",""),"") | AF63: =IF($P63<>"",IF($P63="製程 (P)","已二酸製程",""),"") | AG63: =IF($P63<>"",IF($P63="製程 (P)","二氟一氯甲烷",""),"") | AH63: =IF($P63<>"",IF($P63="製程 (P)","乙炔-焊接維修製程",""),"") | AI63: =IF($P63<>"",IF($P63="製程 (P)","濕式排煙脫硫-石灰石製程",""),"") | AJ63: =IF($P63<>"",IF($P63="製程 (P)","其他",""),"") | AU63: =IF(AL63<>"",AL$3,"") | AV63: =IF(AM63<>"",AM$3,"") | AW63: =IF(AN63<>"",AN$3,"") | AX63: =IF(AO63<>"",AO$3,"") | AY63: =IF(AP63<>"",AP$3,"") | AZ63: =IF(AQ63<>"",AQ$3,"") | BA63: =IF(AR63<>"",AR$3,"") | BB63: =IF(AL63<>"","a","") | BC63: =IF(AM63<>"","b","") | BD63: =IF(AN63<>"","c","") | BE63: =IF(AO63<>"","d","") | BF63: =IF(AP63<>"","e","") | BG63: =IF(AQ63<>"","f","") | BH63: =IF(AR63<>"","g","") | BI63: =BB63&BC63&BD63&BE63&BF63&BG63&BH63 | BJ63: =IF(BI63="","",VLOOKUP($BI63,$BM$2:$BP$57,2,0)) | BK63: =IF(BI63="","",VLOOKUP($BI63,$BM$2:$BP$57,3,0)) | BL63: =IF(BI63="","",VLOOKUP($BI63,$BM$2:$BP$57,4,0))
C64: =IF(B64<>"",VLOOKUP(B64,附表五!$B$2:$C$1024,2,0),"") | F64: =IF(E64<>"",VLOOKUP(E64,附表六!$B$2:$C$325,2,0),"") | I64: =IF(H64<>"",VLOOKUP(H64,附表七!$B:$C,2,0),"") | L64: =IF(K64<>"",IF($K64="範疇2","外購電力","固定 (E)"),"") | M64: =IF(K64<>"",IF($K64="範疇2","外購蒸汽","製程 (P)"),"") | N64: =IF(K64<>"",IF($K64="範疇2","","移動 (T)"),"") | O64: =IF(K64<>"",IF($K64="範疇2","","逸散 (F)"),"") | Q64: =IF($P64<>"",IF($P64="外購電力","併網",IF($P64="製程 (P)","水泥製程",IF($P64="逸散 (F)","廢棄物排放源",""))),"") | R64: =IF($P64<>"",IF($P64="外購電力","離網",IF($P64="製程 (P)","鋼鐵製程-使用造渣劑",IF($P64="逸散 (F)","廢水排放源",""))),"") | S64: =IF($P64<>"",IF($P64="製程 (P)","鋼鐵製程-使用添加劑",IF($P64="逸散 (F)","廢棄污泥排放源","")),"") | T64: =IF($P64<>"",IF($P64="製程 (P)","鋼鐵製程-金屬進料",IF($P64="逸散 (F)","溶劑、噴霧劑及冷媒排放源","")),"") | U64: =IF($P64<>"",IF($P64="製程 (P)","鋼鐵製程-外售含碳產品(已知CO2排放係數",IF($P64="逸散 (F)","VOCs未經燃燒且含CH4","")),"") | V64: =IF($P64<>"",IF($P64="製程 (P)","鋼鐵製程-使用添加劑(預焙陽極炭塊與煤碳電極",IF($P64="逸散 (F)","已知VOCs濃度","")),"") | W64: =IF($P64<>"",IF($P64="製程 (P)","鋼鐵製程--外售含碳產品(已知含碳率)",IF($P64="逸散 (F)","未知VOCs濃度已知CO2排放係數","")),"") | X64: =IF($P64<>"",IF($P64="製程 (P)","半導體光電製程",IF($P64="逸散 (F)","化糞池排放源","")),"") | Y64: =IF($P64<>"",IF($P64="製程 (P)","石灰製程",IF($P64="逸散 (F)","其他","")),"") | Z64: =IF($P64<>"",IF($P64="製程 (P)","碳酸鈉製程-碳酸鈉製造",""),"") | AA64: =IF($P64<>"",IF($P64="製程 (P)","碳酸鈉製程-碳酸鈉使用",""),"") | AB64: =IF($P64<>"",IF($P64="製程 (P)","碳化物鈉製程-碳化矽製造",""),"") | AC64: =IF($P64<>"",IF($P64="製程 (P)","碳化物鈉製程-碳化鈣製造",""),"") | AD64: =IF($P64<>"",IF($P64="製程 (P)","碳化物鈉製程-碳化鈣使用",""),"") | AE64: =IF($P64<>"",IF($P64="製程 (P)","碳酸製程",""),"") | AF64: =IF($P64<>"",IF($P64="製程 (P)","已二酸製程",""),"") | AG64: =IF($P64<>"",IF($P64="製程 (P)","二氟一氯甲烷",""),"") | AH64: =IF($P64<>"",IF($P64="製程 (P)","乙炔-焊接維修製程",""),"") | AI64: =IF($P64<>"",IF($P64="製程 (P)","濕式排煙脫硫-石灰石製程",""),"") | AJ64: =IF($P64<>"",IF($P64="製程 (P)","其他",""),"") | AU64: =IF(AL64<>"",AL$3,"") | AV64: =IF(AM64<>"",AM$3,"") | AW64: =IF(AN64<>"",AN$3,"") | AX64: =IF(AO64<>"",AO$3,"") | AY64: =IF(AP64<>"",AP$3,"") | AZ64: =IF(AQ64<>"",AQ$3,"") | BA64: =IF(AR64<>"",AR$3,"") | BB64: =IF(AL64<>"","a","") | BC64: =IF(AM64<>"","b","") | BD64: =IF(AN64<>"","c","") | BE64: =IF(AO64<>"","d","") | BF64: =IF(AP64<>"","e","") | BG64: =IF(AQ64<>"","f","") | BH64: =IF(AR64<>"","g","") | BI64: =BB64&BC64&BD64&BE64&BF64&BG64&BH64 | BJ64: =IF(BI64="","",VLOOKUP($BI64,$BM$2:$BP$57,2,0)) | BK64: =IF(BI64="","",VLOOKUP($BI64,$BM$2:$BP$57,3,0)) | BL64: =IF(BI64="","",VLOOKUP($BI64,$BM$2:$BP$57,4,0))
C65: =IF(B65<>"",VLOOKUP(B65,附表五!$B$2:$C$1024,2,0),"") | F65: =IF(E65<>"",VLOOKUP(E65,附表六!$B$2:$C$325,2,0),"") | I65: =IF(H65<>"",VLOOKUP(H65,附表七!$B:$C,2,0),"") | L65: =IF(K65<>"",IF($K65="範疇2","外購電力","固定 (E)"),"") | M65: =IF(K65<>"",IF($K65="範疇2","外購蒸汽","製程 (P)"),"") | N65: =IF(K65<>"",IF($K65="範疇2","","移動 (T)"),"") | O65: =IF(K65<>"",IF($K65="範疇2","","逸散 (F)"),"") | Q65: =IF($P65<>"",IF($P65="外購電力","併網",IF($P65="製程 (P)","水泥製程",IF($P65="逸散 (F)","廢棄物排放源",""))),"") | R65: =IF($P65<>"",IF($P65="外購電力","離網",IF($P65="製程 (P)","鋼鐵製程-使用造渣劑",IF($P65="逸散 (F)","廢水排放源",""))),"") | S65: =IF($P65<>"",IF($P65="製程 (P)","鋼鐵製程-使用添加劑",IF($P65="逸散 (F)","廢棄污泥排放源","")),"") | T65: =IF($P65<>"",IF($P65="製程 (P)","鋼鐵製程-金屬進料",IF($P65="逸散 (F)","溶劑、噴霧劑及冷媒排放源","")),"") | U65: =IF($P65<>"",IF($P65="製程 (P)","鋼鐵製程-外售含碳產品(已知CO2排放係數",IF($P65="逸散 (F)","VOCs未經燃燒且含CH4","")),"") | V65: =IF($P65<>"",IF($P65="製程 (P)","鋼鐵製程-使用添加劑(預焙陽極炭塊與煤碳電極",IF($P65="逸散 (F)","已知VOCs濃度","")),"") | W65: =IF($P65<>"",IF($P65="製程 (P)","鋼鐵製程--外售含碳產品(已知含碳率)",IF($P65="逸散 (F)","未知VOCs濃度已知CO2排放係數","")),"") | X65: =IF($P65<>"",IF($P65="製程 (P)","半導體光電製程",IF($P65="逸散 (F)","化糞池排放源","")),"") | Y65: =IF($P65<>"",IF($P65="製程 (P)","石灰製程",IF($P65="逸散 (F)","其他","")),"") | Z65: =IF($P65<>"",IF($P65="製程 (P)","碳酸鈉製程-碳酸鈉製造",""),"") | AA65: =IF($P65<>"",IF($P65="製程 (P)","碳酸鈉製程-碳酸鈉使用",""),"") | AB65: =IF($P65<>"",IF($P65="製程 (P)","碳化物鈉製程-碳化矽製造",""),"") | AC65: =IF($P65<>"",IF($P65="製程 (P)","碳化物鈉製程-碳化鈣製造",""),"") | AD65: =IF($P65<>"",IF($P65="製程 (P)","碳化物鈉製程-碳化鈣使用",""),"") | AE65: =IF($P65<>"",IF($P65="製程 (P)","碳酸製程",""),"") | AF65: =IF($P65<>"",IF($P65="製程 (P)","已二酸製程",""),"") | AG65: =IF($P65<>"",IF($P65="製程 (P)","二氟一氯甲烷",""),"") | AH65: =IF($P65<>"",IF($P65="製程 (P)","乙炔-焊接維修製程",""),"") | AI65: =IF($P65<>"",IF($P65="製程 (P)","濕式排煙脫硫-石灰石製程",""),"") | AJ65: =IF($P65<>"",IF($P65="製程 (P)","其他",""),"") | AU65: =IF(AL65<>"",AL$3,"") | AV65: =IF(AM65<>"",AM$3,"") | AW65: =IF(AN65<>"",AN$3,"") | AX65: =IF(AO65<>"",AO$3,"") | AY65: =IF(AP65<>"",AP$3,"") | AZ65: =IF(AQ65<>"",AQ$3,"") | BA65: =IF(AR65<>"",AR$3,"") | BB65: =IF(AL65<>"","a","") | BC65: =IF(AM65<>"","b","") | BD65: =IF(AN65<>"","c","") | BE65: =IF(AO65<>"","d","") | BF65: =IF(AP65<>"","e","") | BG65: =IF(AQ65<>"","f","") | BH65: =IF(AR65<>"","g","") | BI65: =BB65&BC65&BD65&BE65&BF65&BG65&BH65 | BJ65: =IF(BI65="","",VLOOKUP($BI65,$BM$2:$BP$57,2,0)) | BK65: =IF(BI65="","",VLOOKUP($BI65,$BM$2:$BP$57,3,0)) | BL65: =IF(BI65="","",VLOOKUP($BI65,$BM$2:$BP$57,4,0))
C66: =IF(B66<>"",VLOOKUP(B66,附表五!$B$2:$C$1024,2,0),"") | F66: =IF(E66<>"",VLOOKUP(E66,附表六!$B$2:$C$325,2,0),"") | I66: =IF(H66<>"",VLOOKUP(H66,附表七!$B:$C,2,0),"") | L66: =IF(K66<>"",IF($K66="範疇2","外購電力","固定 (E)"),"") | M66: =IF(K66<>"",IF($K66="範疇2","外購蒸汽","製程 (P)"),"") | N66: =IF(K66<>"",IF($K66="範疇2","","移動 (T)"),"") | O66: =IF(K66<>"",IF($K66="範疇2","","逸散 (F)"),"") | Q66: =IF($P66<>"",IF($P66="外購電力","併網",IF($P66="製程 (P)","水泥製程",IF($P66="逸散 (F)","廢棄物排放源",""))),"") | R66: =IF($P66<>"",IF($P66="外購電力","離網",IF($P66="製程 (P)","鋼鐵製程-使用造渣劑",IF($P66="逸散 (F)","廢水排放源",""))),"") | S66: =IF($P66<>"",IF($P66="製程 (P)","鋼鐵製程-使用添加劑",IF($P66="逸散 (F)","廢棄污泥排放源","")),"") | T66: =IF($P66<>"",IF($P66="製程 (P)","鋼鐵製程-金屬進料",IF($P66="逸散 (F)","溶劑、噴霧劑及冷媒排放源","")),"") | U66: =IF($P66<>"",IF($P66="製程 (P)","鋼鐵製程-外售含碳產品(已知CO2排放係數",IF($P66="逸散 (F)","VOCs未經燃燒且含CH4","")),"") | V66: =IF($P66<>"",IF($P66="製程 (P)","鋼鐵製程-使用添加劑(預焙陽極炭塊與煤碳電極",IF($P66="逸散 (F)","已知VOCs濃度","")),"") | W66: =IF($P66<>"",IF($P66="製程 (P)","鋼鐵製程--外售含碳產品(已知含碳率)",IF($P66="逸散 (F)","未知VOCs濃度已知CO2排放係數","")),"") | X66: =IF($P66<>"",IF($P66="製程 (P)","半導體光電製程",IF($P66="逸散 (F)","化糞池排放源","")),"") | Y66: =IF($P66<>"",IF($P66="製程 (P)","石灰製程",IF($P66="逸散 (F)","其他","")),"") | Z66: =IF($P66<>"",IF($P66="製程 (P)","碳酸鈉製程-碳酸鈉製造",""),"") | AA66: =IF($P66<>"",IF($P66="製程 (P)","碳酸鈉製程-碳酸鈉使用",""),"") | AB66: =IF($P66<>"",IF($P66="製程 (P)","碳化物鈉製程-碳化矽製造",""),"") | AC66: =IF($P66<>"",IF($P66="製程 (P)","碳化物鈉製程-碳化鈣製造",""),"") | AD66: =IF($P66<>"",IF($P66="製程 (P)","碳化物鈉製程-碳化鈣使用",""),"") | AE66: =IF($P66<>"",IF($P66="製程 (P)","碳酸製程",""),"") | AF66: =IF($P66<>"",IF($P66="製程 (P)","已二酸製程",""),"") | AG66: =IF($P66<>"",IF($P66="製程 (P)","二氟一氯甲烷",""),"") | AH66: =IF($P66<>"",IF($P66="製程 (P)","乙炔-焊接維修製程",""),"") | AI66: =IF($P66<>"",IF($P66="製程 (P)","濕式排煙脫硫-石灰石製程",""),"") | AJ66: =IF($P66<>"",IF($P66="製程 (P)","其他",""),"") | AU66: =IF(AL66<>"",AL$3,"") | AV66: =IF(AM66<>"",AM$3,"") | AW66: =IF(AN66<>"",AN$3,"") | AX66: =IF(AO66<>"",AO$3,"") | AY66: =IF(AP66<>"",AP$3,"") | AZ66: =IF(AQ66<>"",AQ$3,"") | BA66: =IF(AR66<>"",AR$3,"") | BB66: =IF(AL66<>"","a","") | BC66: =IF(AM66<>"","b","") | BD66: =IF(AN66<>"","c","") | BE66: =IF(AO66<>"","d","") | BF66: =IF(AP66<>"","e","") | BG66: =IF(AQ66<>"","f","") | BH66: =IF(AR66<>"","g","") | BI66: =BB66&BC66&BD66&BE66&BF66&BG66&BH66 | BJ66: =IF(BI66="","",VLOOKUP($BI66,$BM$2:$BP$57,2,0)) | BK66: =IF(BI66="","",VLOOKUP($BI66,$BM$2:$BP$57,3,0)) | BL66: =IF(BI66="","",VLOOKUP($BI66,$BM$2:$BP$57,4,0))
C67: =IF(B67<>"",VLOOKUP(B67,附表五!$B$2:$C$1024,2,0),"") | F67: =IF(E67<>"",VLOOKUP(E67,附表六!$B$2:$C$325,2,0),"") | I67: =IF(H67<>"",VLOOKUP(H67,附表七!$B:$C,2,0),"") | L67: =IF(K67<>"",IF($K67="範疇2","外購電力","固定 (E)"),"") | M67: =IF(K67<>"",IF($K67="範疇2","外購蒸汽","製程 (P)"),"") | N67: =IF(K67<>"",IF($K67="範疇2","","移動 (T)"),"") | O67: =IF(K67<>"",IF($K67="範疇2","","逸散 (F)"),"") | Q67: =IF($P67<>"",IF($P67="外購電力","併網",IF($P67="製程 (P)","水泥製程",IF($P67="逸散 (F)","廢棄物排放源",""))),"") | R67: =IF($P67<>"",IF($P67="外購電力","離網",IF($P67="製程 (P)","鋼鐵製程-使用造渣劑",IF($P67="逸散 (F)","廢水排放源",""))),"") | S67: =IF($P67<>"",IF($P67="製程 (P)","鋼鐵製程-使用添加劑",IF($P67="逸散 (F)","廢棄污泥排放源","")),"") | T67: =IF($P67<>"",IF($P67="製程 (P)","鋼鐵製程-金屬進料",IF($P67="逸散 (F)","溶劑、噴霧劑及冷媒排放源","")),"") | U67: =IF($P67<>"",IF($P67="製程 (P)","鋼鐵製程-外售含碳產品(已知CO2排放係數",IF($P67="逸散 (F)","VOCs未經燃燒且含CH4","")),"") | V67: =IF($P67<>"",IF($P67="製程 (P)","鋼鐵製程-使用添加劑(預焙陽極炭塊與煤碳電極",IF($P67="逸散 (F)","已知VOCs濃度","")),"") | W67: =IF($P67<>"",IF($P67="製程 (P)","鋼鐵製程--外售含碳產品(已知含碳率)",IF($P67="逸散 (F)","未知VOCs濃度已知CO2排放係數","")),"") | X67: =IF($P67<>"",IF($P67="製程 (P)","半導體光電製程",IF($P67="逸散 (F)","化糞池排放源","")),"") | Y67: =IF($P67<>"",IF($P67="製程 (P)","石灰製程",IF($P67="逸散 (F)","其他","")),"") | Z67: =IF($P67<>"",IF($P67="製程 (P)","碳酸鈉製程-碳酸鈉製造",""),"") | AA67: =IF($P67<>"",IF($P67="製程 (P)","碳酸鈉製程-碳酸鈉使用",""),"") | AB67: =IF($P67<>"",IF($P67="製程 (P)","碳化物鈉製程-碳化矽製造",""),"") | AC67: =IF($P67<>"",IF($P67="製程 (P)","碳化物鈉製程-碳化鈣製造",""),"") | AD67: =IF($P67<>"",IF($P67="製程 (P)","碳化物鈉製程-碳化鈣使用",""),"") | AE67: =IF($P67<>"",IF($P67="製程 (P)","碳酸製程",""),"") | AF67: =IF($P67<>"",IF($P67="製程 (P)","已二酸製程",""),"") | AG67: =IF($P67<>"",IF($P67="製程 (P)","二氟一氯甲烷",""),"") | AH67: =IF($P67<>"",IF($P67="製程 (P)","乙炔-焊接維修製程",""),"") | AI67: =IF($P67<>"",IF($P67="製程 (P)","濕式排煙脫硫-石灰石製程",""),"") | AJ67: =IF($P67<>"",IF($P67="製程 (P)","其他",""),"") | AU67: =IF(AL67<>"",AL$3,"") | AV67: =IF(AM67<>"",AM$3,"") | AW67: =IF(AN67<>"",AN$3,"") | AX67: =IF(AO67<>"",AO$3,"") | AY67: =IF(AP67<>"",AP$3,"") | AZ67: =IF(AQ67<>"",AQ$3,"") | BA67: =IF(AR67<>"",AR$3,"") | BB67: =IF(AL67<>"","a","") | BC67: =IF(AM67<>"","b","") | BD67: =IF(AN67<>"","c","") | BE67: =IF(AO67<>"","d","") | BF67: =IF(AP67<>"","e","") | BG67: =IF(AQ67<>"","f","") | BH67: =IF(AR67<>"","g","") | BI67: =BB67&BC67&BD67&BE67&BF67&BG67&BH67 | BJ67: =IF(BI67="","",VLOOKUP($BI67,$BM$2:$BP$57,2,0)) | BK67: =IF(BI67="","",VLOOKUP($BI67,$BM$2:$BP$57,3,0)) | BL67: =IF(BI67="","",VLOOKUP($BI67,$BM$2:$BP$57,4,0))
C68: =IF(B68<>"",VLOOKUP(B68,附表五!$B$2:$C$1024,2,0),"") | F68: =IF(E68<>"",VLOOKUP(E68,附表六!$B$2:$C$325,2,0),"") | I68: =IF(H68<>"",VLOOKUP(H68,附表七!$B:$C,2,0),"") | L68: =IF(K68<>"",IF($K68="範疇2","外購電力","固定 (E)"),"") | M68: =IF(K68<>"",IF($K68="範疇2","外購蒸汽","製程 (P)"),"") | N68: =IF(K68<>"",IF($K68="範疇2","","移動 (T)"),"") | O68: =IF(K68<>"",IF($K68="範疇2","","逸散 (F)"),"") | Q68: =IF($P68<>"",IF($P68="外購電力","併網",IF($P68="製程 (P)","水泥製程",IF($P68="逸散 (F)","廢棄物排放源",""))),"") | R68: =IF($P68<>"",IF($P68="外購電力","離網",IF($P68="製程 (P)","鋼鐵製程-使用造渣劑",IF($P68="逸散 (F)","廢水排放源",""))),"") | S68: =IF($P68<>"",IF($P68="製程 (P)","鋼鐵製程-使用添加劑",IF($P68="逸散 (F)","廢棄污泥排放源","")),"") | T68: =IF($P68<>"",IF($P68="製程 (P)","鋼鐵製程-金屬進料",IF($P68="逸散 (F)","溶劑、噴霧劑及冷媒排放源","")),"") | U68: =IF($P68<>"",IF($P68="製程 (P)","鋼鐵製程-外售含碳產品(已知CO2排放係數",IF($P68="逸散 (F)","VOCs未經燃燒且含CH4","")),"") | V68: =IF($P68<>"",IF($P68="製程 (P)","鋼鐵製程-使用添加劑(預焙陽極炭塊與煤碳電極",IF($P68="逸散 (F)","已知VOCs濃度","")),"") | W68: =IF($P68<>"",IF($P68="製程 (P)","鋼鐵製程--外售含碳產品(已知含碳率)",IF($P68="逸散 (F)","未知VOCs濃度已知CO2排放係數","")),"") | X68: =IF($P68<>"",IF($P68="製程 (P)","半導體光電製程",IF($P68="逸散 (F)","化糞池排放源","")),"") | Y68: =IF($P68<>"",IF($P68="製程 (P)","石灰製程",IF($P68="逸散 (F)","其他","")),"") | Z68: =IF($P68<>"",IF($P68="製程 (P)","碳酸鈉製程-碳酸鈉製造",""),"") | AA68: =IF($P68<>"",IF($P68="製程 (P)","碳酸鈉製程-碳酸鈉使用",""),"") | AB68: =IF($P68<>"",IF($P68="製程 (P)","碳化物鈉製程-碳化矽製造",""),"") | AC68: =IF($P68<>"",IF($P68="製程 (P)","碳化物鈉製程-碳化鈣製造",""),"") | AD68: =IF($P68<>"",IF($P68="製程 (P)","碳化物鈉製程-碳化鈣使用",""),"") | AE68: =IF($P68<>"",IF($P68="製程 (P)","碳酸製程",""),"") | AF68: =IF($P68<>"",IF($P68="製程 (P)","已二酸製程",""),"") | AG68: =IF($P68<>"",IF($P68="製程 (P)","二氟一氯甲烷",""),"") | AH68: =IF($P68<>"",IF($P68="製程 (P)","乙炔-焊接維修製程",""),"") | AI68: =IF($P68<>"",IF($P68="製程 (P)","濕式排煙脫硫-石灰石製程",""),"") | AJ68: =IF($P68<>"",IF($P68="製程 (P)","其他",""),"") | AU68: =IF(AL68<>"",AL$3,"") | AV68: =IF(AM68<>"",AM$3,"") | AW68: =IF(AN68<>"",AN$3,"") | AX68: =IF(AO68<>"",AO$3,"") | AY68: =IF(AP68<>"",AP$3,"") | AZ68: =IF(AQ68<>"",AQ$3,"") | BA68: =IF(AR68<>"",AR$3,"") | BB68: =IF(AL68<>"","a","") | BC68: =IF(AM68<>"","b","") | BD68: =IF(AN68<>"","c","") | BE68: =IF(AO68<>"","d","") | BF68: =IF(AP68<>"","e","") | BG68: =IF(AQ68<>"","f","") | BH68: =IF(AR68<>"","g","") | BI68: =BB68&BC68&BD68&BE68&BF68&BG68&BH68 | BJ68: =IF(BI68="","",VLOOKUP($BI68,$BM$2:$BP$57,2,0)) | BK68: =IF(BI68="","",VLOOKUP($BI68,$BM$2:$BP$57,3,0)) | BL68: =IF(BI68="","",VLOOKUP($BI68,$BM$2:$BP$57,4,0))
C69: =IF(B69<>"",VLOOKUP(B69,附表五!$B$2:$C$1024,2,0),"") | F69: =IF(E69<>"",VLOOKUP(E69,附表六!$B$2:$C$325,2,0),"") | I69: =IF(H69<>"",VLOOKUP(H69,附表七!$B:$C,2,0),"") | L69: =IF(K69<>"",IF($K69="範疇2","外購電力","固定 (E)"),"") | M69: =IF(K69<>"",IF($K69="範疇2","外購蒸汽","製程 (P)"),"") | N69: =IF(K69<>"",IF($K69="範疇2","","移動 (T)"),"") | O69: =IF(K69<>"",IF($K69="範疇2","","逸散 (F)"),"") | Q69: =IF($P69<>"",IF($P69="外購電力","併網",IF($P69="製程 (P)","水泥製程",IF($P69="逸散 (F)","廢棄物排放源",""))),"") | R69: =IF($P69<>"",IF($P69="外購電力","離網",IF($P69="製程 (P)","鋼鐵製程-使用造渣劑",IF($P69="逸散 (F)","廢水排放源",""))),"") | S69: =IF($P69<>"",IF($P69="製程 (P)","鋼鐵製程-使用添加劑",IF($P69="逸散 (F)","廢棄污泥排放源","")),"") | T69: =IF($P69<>"",IF($P69="製程 (P)","鋼鐵製程-金屬進料",IF($P69="逸散 (F)","溶劑、噴霧劑及冷媒排放源","")),"") | U69: =IF($P69<>"",IF($P69="製程 (P)","鋼鐵製程-外售含碳產品(已知CO2排放係數",IF($P69="逸散 (F)","VOCs未經燃燒且含CH4","")),"") | V69: =IF($P69<>"",IF($P69="製程 (P)","鋼鐵製程-使用添加劑(預焙陽極炭塊與煤碳電極",IF($P69="逸散 (F)","已知VOCs濃度","")),"") | W69: =IF($P69<>"",IF($P69="製程 (P)","鋼鐵製程--外售含碳產品(已知含碳率)",IF($P69="逸散 (F)","未知VOCs濃度已知CO2排放係數","")),"") | X69: =IF($P69<>"",IF($P69="製程 (P)","半導體光電製程",IF($P69="逸散 (F)","化糞池排放源","")),"") | Y69: =IF($P69<>"",IF($P69="製程 (P)","石灰製程",IF($P69="逸散 (F)","其他","")),"") | Z69: =IF($P69<>"",IF($P69="製程 (P)","碳酸鈉製程-碳酸鈉製造",""),"") | AA69: =IF($P69<>"",IF($P69="製程 (P)","碳酸鈉製程-碳酸鈉使用",""),"") | AB69: =IF($P69<>"",IF($P69="製程 (P)","碳化物鈉製程-碳化矽製造",""),"") | AC69: =IF($P69<>"",IF($P69="製程 (P)","碳化物鈉製程-碳化鈣製造",""),"") | AD69: =IF($P69<>"",IF($P69="製程 (P)","碳化物鈉製程-碳化鈣使用",""),"") | AE69: =IF($P69<>"",IF($P69="製程 (P)","碳酸製程",""),"") | AF69: =IF($P69<>"",IF($P69="製程 (P)","已二酸製程",""),"") | AG69: =IF($P69<>"",IF($P69="製程 (P)","二氟一氯甲烷",""),"") | AH69: =IF($P69<>"",IF($P69="製程 (P)","乙炔-焊接維修製程",""),"") | AI69: =IF($P69<>"",IF($P69="製程 (P)","濕式排煙脫硫-石灰石製程",""),"") | AJ69: =IF($P69<>"",IF($P69="製程 (P)","其他",""),"") | AU69: =IF(AL69<>"",AL$3,"") | AV69: =IF(AM69<>"",AM$3,"") | AW69: =IF(AN69<>"",AN$3,"") | AX69: =IF(AO69<>"",AO$3,"") | AY69: =IF(AP69<>"",AP$3,"") | AZ69: =IF(AQ69<>"",AQ$3,"") | BA69: =IF(AR69<>"",AR$3,"") | BB69: =IF(AL69<>"","a","") | BC69: =IF(AM69<>"","b","") | BD69: =IF(AN69<>"","c","") | BE69: =IF(AO69<>"","d","") | BF69: =IF(AP69<>"","e","") | BG69: =IF(AQ69<>"","f","") | BH69: =IF(AR69<>"","g","") | BI69: =BB69&BC69&BD69&BE69&BF69&BG69&BH69 | BJ69: =IF(BI69="","",VLOOKUP($BI69,$BM$2:$BP$57,2,0)) | BK69: =IF(BI69="","",VLOOKUP($BI69,$BM$2:$BP$57,3,0)) | BL69: =IF(BI69="","",VLOOKUP($BI69,$BM$2:$BP$57,4,0))
... C200: =IF(B200<>"",VLOOKUP(B200,附表五!$B$2:$C$1024,2,0),"") | F200: =IF(E200<>"",VLOOKUP(E200,附表六!$B$2:$C$325,2,0),"") | I200: =IF(H200<>"",VLOOKUP(H200,附表七!$B:$C,2,0),"") | L200: =IF(K200<>"",IF($K200="範疇2","外購電力","固定 (E)"),"") | M200: =IF(K200<>"",IF($K200="範疇2","外購蒸汽","製程 (P)"),"") | N200: =IF(K200<>"",IF($K200="範疇2","","移動 (T)"),"") | O200: =IF(K200<>"",IF($K200="範疇2","","逸散 (F)"),"") | Q200: =IF($P200<>"",IF($P200="外購電力","併網",IF($P200="製程 (P)","水泥製程",IF($P200="逸散 (F)","廢棄物排放源",""))),"") | R200: =IF($P200<>"",IF($P200="外購電力","離網",IF($P200="製程 (P)","鋼鐵製程-使用造渣劑",IF($P200="逸散 (F)","廢水排放源",""))),"") | S200: =IF($P200<>"",IF($P200="製程 (P)","鋼鐵製程-使用添加劑",IF($P200="逸散 (F)","廢棄污泥排放源","")),"") | T200: =IF($P200<>"",IF($P200="製程 (P)","鋼鐵製程-金屬進料",IF($P200="逸散 (F)","溶劑、噴霧劑及冷媒排放源","")),"") | U200: =IF($P200<>"",IF($P200="製程 (P)","鋼鐵製程-外售含碳產品(已知CO2排放係數",IF($P200="逸散 (F)","VOCs未經燃燒且含CH4","")),"") | V200: =IF($P200<>"",IF($P200="製程 (P)","鋼鐵製程-使用添加劑(預焙陽極炭塊與煤碳電極",IF($P200="逸散 (F)","已知VOCs濃度","")),"") | W200: =IF($P200<>"",IF($P200="製程 (P)","鋼鐵製程--外售含碳產品(已知含碳率)",IF($P200="逸散 (F)","未知VOCs濃度已知CO2排放係數","")),"") | X200: =IF($P200<>"",IF($P200="製程 (P)","半導體光電製程",IF($P200="逸散 (F)","化糞池排放源","")),"") | Y200: =IF($P200<>"",IF($P200="製程 (P)","石灰製程",IF($P200="逸散 (F)","其他","")),"") | Z200: =IF($P200<>"",IF($P200="製程 (P)","碳酸鈉製程-碳酸鈉製造",""),"") | AA200: =IF($P200<>"",IF($P200="製程 (P)","碳酸鈉製程-碳酸鈉使用",""),"") | AB200: =IF($P200<>"",IF($P200="製程 (P)","碳化物鈉製程-碳化矽製造",""),"") | AC200: =IF($P200<>"",IF($P200="製程 (P)","碳化物鈉製程-碳化鈣製造",""),"") | AD200: =IF($P200<>"",IF($P200="製程 (P)","碳化物鈉製程-碳化鈣使用",""),"") | AE200: =IF($P200<>"",IF($P200="製程 (P)","碳酸製程",""),"") | AF200: =IF($P200<>"",IF($P200="製程 (P)","已二酸製程",""),"") | AG200: =IF($P200<>"",IF($P200="製程 (P)","二氟一氯甲烷",""),"") | AH200: =IF($P200<>"",IF($P200="製程 (P)","乙炔-焊接維修製程",""),"") | AI200: =IF($P200<>"",IF($P200="製程 (P)","濕式排煙脫硫-石灰石製程",""),"") | AJ200: =IF($P200<>"",IF($P200="製程 (P)","其他",""),"") | AU200: =IF(AL200<>"",AL$3,"") | AV200: =IF(AM200<>"",AM$3,"") | AW200: =IF(AN200<>"",AN$3,"") | AX200: =IF(AO200<>"",AO$3,"") | AY200: =IF(AP200<>"",AP$3,"") | AZ200: =IF(AQ200<>"",AQ$3,"") | BA200: =IF(AR200<>"",AR$3,"") | BB200: =IF(AL200<>"","a","") | BC200: =IF(AM200<>"","b","") | BD200: =IF(AN200<>"","c","") | BE200: =IF(AO200<>"","d","") | BF200: =IF(AP200<>"","e","") | BG200: =IF(AQ200<>"","f","") | BH200: =IF(AR200<>"","g","") | BI200: =BB200&BC200&BD200&BE200&BF200&BG200&BH200 | BJ200: =IF(BI200="","",VLOOKUP($BI200,$BM$2:$BP$57,2,0)) | BK200: =IF(BI200="","",VLOOKUP($BI200,$BM$2:$BP$57,3,0)) | BL200: =IF(BI200="","",VLOOKUP($BI200,$BM$2:$BP$57,4,0))
A201: 填表說明
A202: 1. | B202: 白色底色欄位表示由使用者自行填寫之欄位；灰色底色欄位表示由表單自動產生之欄位；橘色底色欄位為下拉式選項，由使用者選擇代入。
A203: 2. | B203: "*" 表非必填欄位。
A204: 3. | B204: 製程編號共3碼，英文字母開頭後接2位數字，屬固定源許可範圍之製程，製程編號應與固定源許可一致，以M開頭後接2位數字，如M01；非屬固定源許可範圍之製程，使用者可依據自廠實際情況填寫，建議以G開頭後接2位數字，如G01。
A205: 4. | B205: 屬固定源許可範圍之製程，製程代碼及其所對應名稱應與固定源許可一致，其他製程使用者可依據自廠實際情況填寫，製程代碼為6位數字，如為350001 鍋爐發電程序，製程代碼及其所對應名稱請參閱附表五。
A206: 5. | B206: 設備編號共4碼，英文字母開頭後接3位數字，屬固定源許可範圍之設備，設備編號應與固定源許可一致，以E或A開頭後接3位數字，如E101；非屬固定源許可範圍之設備，使用者可依據自廠實際情況填寫，依排放型式歸類，建議以GM(製程)/GP(固定)/GV(移動)/GF(逸散)開頭後接2位數字，如GT01。
A207: 6. | B207: 屬固定源許可範圍之設備，設備代碼及其所對應名稱應與固定源許可一致，其他設備使用者可依據自廠實際情況填寫，設備代碼為4位數字，如為0007 循環流體床鍋爐，設備代碼及其所對應名稱請參閱附表六。
A208: 7. | B208: 類別有2個選項，其一為原燃物料，其二為產品，。
A209: 8. | B209: 主要填寫會產生溫室氣體之排放源的所使用之原(燃)物料或產品，如冷媒、柴油、煤炭及其他原(燃)物料等，針對屬固定源許可範圍之原燃物料或產品，原燃物料或產品代碼及其所對應名稱應與固定源許可一致，其他原燃物料或產品使用者可依據自廠實際情況填寫，原燃物料或產品代碼為6位數字，如為070002 褐煤，原燃物料或產品代碼及其所對應名稱請參閱附表七。
A210: 9. | B210: 範疇別可分成範疇1 直接溫室氣體排放、範疇2 能源間接溫室氣體排放及範疇3 其他間接溫室氣體排放，使用者應依排放源特性填寫。
A211: 10. | B211: (1) 排放型式選擇範疇1或範疇3，其排放型式分成四種，一為固定(簡稱E)，指固定式設備之燃料燃燒；二為製程(簡稱P)，物理或化學製程之排放；三為移動燃燒(簡稱T)，指交通運輸設備之燃料燃燒；最後為逸散(簡稱F)，有意及無意的排放。
B212: (2) 排放型式選擇範疇2，其排放型式分成二種，一為外購電力；二為外購蒸汽。
A213: 11. | B213: 倘排放型式為製程或逸散時，必須進一步填寫其製程或逸散類別。
A214: 12. | B214: 可能產生溫室氣體種類應依原燃物料或產品特性勾選。

Sheet 表四
A1: 四、活動數據 | H1: 盤查日期： | J1: =表一!G1 -> 民國109年01月01日 | O1: =表一!O1 -> 盤查表單版次： | Q1: =表一!Q1 -> V1
A2: 製程 | D2: 設備 | G2: 原燃物料或產品 | J2: 排放源資料 | N2: 年活動數據資訊 | Y2: 備註
A3: 編號 | B3: 代碼 | C3: 名稱 | D3: 編號 | E3: 代碼 | F3: 名稱 | G3: 原燃物料或產品代碼 | H3: 原燃物料或產品名稱 | I3: 是否為生質能源 | J3: 範疇 別 | K3: 排放 型式 | L3: 製程/逸散/外購電力類別3 | M3: 電力/蒸汽供應商名稱4 | N3: 活動數據5 | O3: 活動數據分配比率%*6 | P3: 活動數據單位7 | Q3: 其他單位名稱8 | R3: 數據來源表單名稱9 | S3: 保存單位10 | T3: 活動數據種類11 | U3: 燃料 熱值數值* | V3: 燃料 熱值單位* | W3: 含水量(%)* | X3: 含碳量(%)*
A4: =IF(表三!A4<>"",表三!A4,"") -> G01 | B4: =IF(表三!B4<>"",表三!B4,"") -> 000999 | C4: =IF(表三!C4<>"",表三!C4,"") -> 其他未分類製程 | D4: =IF(表三!D4<>"",表三!D4,"") -> GM01 | E4: =IF(表三!E4<>"",表三!E4,"") -> 0201 | F4: =IF(表三!F4<>"",表三!F4,"") -> 柴油引擎 | G4: =IF(表三!H4<>"",表三!H4,"") -> 170006 | H4: =IF(表三!I4<>"",表三!I4,"") -> 柴油 | I4: =IF(表三!J4<>"",表三!J4,"") -> 否 | J4: =IF(表三!K4<>"",表三!K4,"") -> 範疇1 | K4: =IF(表三!P4<>"",表三!P4,"") -> 固定 (E) | L4: =IF(表三!AK4="","",表三!AK4) | N4: 2715.734 | O4: 1 | P4: 公秉 | R4: 領料單 | S4: 工務處 | T4: 定期(間歇)量測 | V4: =IF(P4<>"",IF(Q4<>"","Kcal/"&Q4,"Kcal/"&P4),"") -> Kcal/公秉
A5: =IF(表三!A5<>"",表三!A5,"") -> G02 | B5: =IF(表三!B5<>"",表三!B5,"") -> 000999 | C5: =IF(表三!C5<>"",表三!C5,"") -> 其他未分類製程 | D5: =IF(表三!D5<>"",表三!D5,"") -> GM02 | E5: =IF(表三!E5<>"",表三!E5,"") -> 0200 | F5: =IF(表三!F5<>"",表三!F5,"") -> 汽油引擎 | G5: =IF(表三!H5<>"",表三!H5,"") -> 170099 | H5: =IF(表三!I5<>"",表三!I5,"") -> 其他汽油 | I5: =IF(表三!J5<>"",表三!J5,"") -> 否 | J5: =IF(表三!K5<>"",表三!K5,"") -> 範疇1 | K5: =IF(表三!P5<>"",表三!P5,"") -> 固定 (E) | L5: =IF(表三!AK5="","",表三!AK5) | N5: 365.23 | O5: 1 | P5: 公秉 | R5: 領料單 | S5: 工務處 | T5: 定期(間歇)量測 | V5: =IF(P5<>"",IF(Q5<>"","Kcal/"&Q5,"Kcal/"&P5),"") -> Kcal/公秉
A6: =IF(表三!A6<>"",表三!A6,"") -> G03 | B6: =IF(表三!B6<>"",表三!B6,"") -> G20902 | C6: =IF(表三!C6<>"",表三!C6,"") -> 維修保養程序 | D6: =IF(表三!D6<>"",表三!D6,"") -> GM03 | E6: =IF(表三!E6<>"",表三!E6,"") -> 6099 | F6: =IF(表三!F6<>"",表三!F6,"") -> 其他切割設施 | G6: =IF(表三!H6<>"",表三!H6,"") -> 180191 | H6: =IF(表三!I6<>"",表三!I6,"") -> 乙炔 | I6: =IF(表三!J6<>"",表三!J6,"") -> 否 | J6: =IF(表三!K6<>"",表三!K6,"") -> 範疇1 | K6: =IF(表三!P6<>"",表三!P6,"") -> 製程 (P) | L6: =IF(表三!AK6="","",表三!AK6) | N6: 32 | O6: 1 | P6: 其他 | Q6: 公斤 | R6: 年度請購統計表 | S6: 總務處 | T6: 定期(間歇)量測 | V6: =IF(P6<>"",IF(Q6<>"","Kcal/"&Q6,"Kcal/"&P6),"") -> Kcal/公斤
A7: =IF(表三!A7<>"",表三!A7,"") -> M01 | B7: =IF(表三!B7<>"",表三!B7,"") -> 350001 | C7: =IF(表三!C7<>"",表三!C7,"") -> 鍋爐發電程序 | D7: =IF(表三!D7<>"",表三!D7,"") -> E212 | E7: =IF(表三!E7<>"",表三!E7,"") -> 0010 | F7: =IF(表三!F7<>"",表三!F7,"") -> 燃油鍋爐 | G7: =IF(表三!H7<>"",表三!H7,"") -> 170019 | H7: =IF(表三!I7<>"",表三!I7,"") -> ４～６號重油 | I7: =IF(表三!J7<>"",表三!J7,"") -> 否 | J7: =IF(表三!K7<>"",表三!K7,"") -> 範疇1 | K7: =IF(表三!P7<>"",表三!P7,"") -> 固定 (E) | L7: =IF(表三!AK7="","",表三!AK7) | N7: 53692.357 | O7: 1 | P7: 公秉 | R7: 燃料收發存月報表 | S7: 運轉課 | T7: 定期(間歇)量測 | V7: =IF(P7<>"",IF(Q7<>"","Kcal/"&Q7,"Kcal/"&P7),"") -> Kcal/公秉
A8: =IF(表三!A8<>"",表三!A8,"") -> M02 | B8: =IF(表三!B8<>"",表三!B8,"") -> 350001 | C8: =IF(表三!C8<>"",表三!C8,"") -> 鍋爐發電程序 | D8: =IF(表三!D8<>"",表三!D8,"") -> E213 | E8: =IF(表三!E8<>"",表三!E8,"") -> 0020 | F8: =IF(表三!F8<>"",表三!F8,"") -> 燃氣鍋爐 | G8: =IF(表三!H8<>"",表三!H8,"") -> 050002 | H8: =IF(表三!I8<>"",表三!I8,"") -> 天然氣 | I8: =IF(表三!J8<>"",表三!J8,"") -> 否 | J8: =IF(表三!K8<>"",表三!K8,"") -> 範疇1 | K8: =IF(表三!P8<>"",表三!P8,"") -> 固定 (E) | L8: =IF(表三!AK8="","",表三!AK8) | N8: 3252.12 | O8: 1 | P8: 千立方公尺 | R8: 燃料收發存月報表 | S8: 運轉課 | T8: 定期(間歇)量測 | V8: =IF(P8<>"",IF(Q8<>"","Kcal/"&Q8,"Kcal/"&P8),"") -> Kcal/千立方公尺
A9: =IF(表三!A9<>"",表三!A9,"") -> G04 | B9: =IF(表三!B9<>"",表三!B9,"") -> G20900 | C9: =IF(表三!C9<>"",表三!C9,"") -> 交通運輸活動 | D9: =IF(表三!D9<>"",表三!D9,"") -> GV01 | E9: =IF(表三!E9<>"",表三!E9,"") -> 0200 | F9: =IF(表三!F9<>"",表三!F9,"") -> 汽油引擎 | G9: =IF(表三!H9<>"",表三!H9,"") -> 170001 | H9: =IF(表三!I9<>"",表三!I9,"") -> 車用汽油 | I9: =IF(表三!J9<>"",表三!J9,"") -> 否 | J9: =IF(表三!K9<>"",表三!K9,"") -> 範疇1 | K9: =IF(表三!P9<>"",表三!P9,"") -> 移動 (T) | L9: =IF(表三!AK9="","",表三!AK9) | N9: 523 | O9: 1 | P9: 公秉 | R9: 加油發票 | S9: 總務處 | T9: 定期(間歇)量測 | V9: =IF(P9<>"",IF(Q9<>"","Kcal/"&Q9,"Kcal/"&P9),"") -> Kcal/公秉
A10: =IF(表三!A10<>"",表三!A10,"") -> G04 | B10: =IF(表三!B10<>"",表三!B10,"") -> G20900 | C10: =IF(表三!C10<>"",表三!C10,"") -> 交通運輸活動 | D10: =IF(表三!D10<>"",表三!D10,"") -> GV02 | E10: =IF(表三!E10<>"",表三!E10,"") -> 0200 | F10: =IF(表三!F10<>"",表三!F10,"") -> 汽油引擎 | G10: =IF(表三!H10<>"",表三!H10,"") -> 170001 | H10: =IF(表三!I10<>"",表三!I10,"") -> 車用汽油 | I10: =IF(表三!J10<>"",表三!J10,"") -> 否 | J10: =IF(表三!K10<>"",表三!K10,"") -> 範疇1 | K10: =IF(表三!P10<>"",表三!P10,"") -> 移動 (T) | L10: =IF(表三!AK10="","",表三!AK10) | N10: 1532 | O10: 1 | P10: 公秉 | R10: 加油發票 | S10: 總務處 | T10: 定期(間歇)量測 | V10: =IF(P10<>"",IF(Q10<>"","Kcal/"&Q10,"Kcal/"&P10),"") -> Kcal/公秉
A11: =IF(表三!A11<>"",表三!A11,"") -> G03 | B11: =IF(表三!B11<>"",表三!B11,"") -> G20901 | C11: =IF(表三!C11<>"",表三!C11,"") -> 消防活動 | D11: =IF(表三!D11<>"",表三!D11,"") -> GF01 | E11: =IF(表三!E11<>"",表三!E11,"") -> 9798 | F11: =IF(表三!F11<>"",表三!F11,"") -> 消防設施 | G11: =IF(表三!H11<>"",表三!H11,"") -> 180014 | H11: =IF(表三!I11<>"",表三!I11,"") -> 二氧化碳 | I11: =IF(表三!J11<>"",表三!J11,"") -> 否 | J11: =IF(表三!K11<>"",表三!K11,"") -> 範疇1 | K11: =IF(表三!P11<>"",表三!P11,"") -> 逸散 (F) | L11: =IF(表三!AK11="","",表三!AK11) | N11: 10 | O11: 1 | P11: 其他 | Q11: 公斤 | R11: 購買單據 | S11: 總務處 | T11: 定期(間歇)量測 | V11: =IF(P11<>"",IF(Q11<>"","Kcal/"&Q11,"Kcal/"&P11),"") -> Kcal/公斤
A12: =IF(表三!A12<>"",表三!A12,"") -> G05 | B12: =IF(表三!B12<>"",表三!B12,"") -> 370009 | C12: =IF(表三!C12<>"",表三!C12,"") -> 其他廢水處理程序 | D12: =IF(表三!D12<>"",表三!D12,"") -> GF01 | E12: =IF(表三!E12<>"",表三!E12,"") -> 9795 | F12: =IF(表三!F12<>"",表三!F12,"") -> 化糞池 | G12: =IF(表三!H12<>"",表三!H12,"") -> GG3805 | H12: =IF(表三!I12<>"",表三!I12,"") -> 廢水處理(BOD) | I12: =IF(表三!J12<>"",表三!J12,"") -> 否 | J12: =IF(表三!K12<>"",表三!K12,"") -> 範疇1 | K12: =IF(表三!P12<>"",表三!P12,"") -> 逸散 (F) | L12: =IF(表三!AK12="","",表三!AK12) | N12: 12683 | O12: 1 | P12: 其他 | Q12: 人天 | R12: 出勤紀錄 | S12: 人事室 | T12: 自行評估 | V12: =IF(P12<>"",IF(Q12<>"","Kcal/"&Q12,"Kcal/"&P12),"") -> Kcal/人天
A13: =IF(表三!A13<>"",表三!A13,"") -> G06 | B13: =IF(表三!B13<>"",表三!B13,"") -> 000999 | C13: =IF(表三!C13<>"",表三!C13,"") -> 其他未分類製程 | D13: =IF(表三!D13<>"",表三!D13,"") -> GP01 | E13: =IF(表三!E13<>"",表三!E13,"") -> 9999 | F13: =IF(表三!F13<>"",表三!F13,"") -> 其他未歸類設施 | G13: =IF(表三!H13<>"",表三!H13,"") -> 350099 | H13: =IF(表三!I13<>"",表三!I13,"") -> 其他電力 | I13: =IF(表三!J13<>"",表三!J13,"") -> 否 | J13: =IF(表三!K13<>"",表三!K13,"") -> 範疇2 | K13: =IF(表三!P13<>"",表三!P13,"") -> 外購電力 | L13: =IF(表三!AK13="","",表三!AK13) -> 併網 | N13: 721175.27 | O13: 1 | P13: 千度 | R13: 電費單 | S13: 總務處 | T13: 定期(間歇)量測 | V13: =IF(P13<>"",IF(Q13<>"","Kcal/"&Q13,"Kcal/"&P13),"") -> Kcal/千度
A14: =IF(表三!A14<>"",表三!A14,"") -> G06 | B14: =IF(表三!B14<>"",表三!B14,"") -> 000999 | C14: =IF(表三!C14<>"",表三!C14,"") -> 其他未分類製程 | D14: =IF(表三!D14<>"",表三!D14,"") -> GP02 | E14: =IF(表三!E14<>"",表三!E14,"") -> 9999 | F14: =IF(表三!F14<>"",表三!F14,"") -> 其他未歸類設施 | G14: =IF(表三!H14<>"",表三!H14,"") -> GG3502 | H14: =IF(表三!I14<>"",表三!I14,"") -> REC登載電力使用-電證合一 | I14: =IF(表三!J14<>"",表三!J14,"") -> 否 | J14: =IF(表三!K14<>"",表三!K14,"") -> 範疇2 | K14: =IF(表三!P14<>"",表三!P14,"") -> 外購電力 | L14: =IF(表三!AK14="","",表三!AK14) -> 併網 | N14: 867307.49 | O14: 1 | P14: 千度 | R14: 電費單 | S14: 總務處 | T14: 定期(間歇)量測 | V14: =IF(P14<>"",IF(Q14<>"","Kcal/"&Q14,"Kcal/"&P14),"") -> Kcal/千度
A15: =IF(表三!A15<>"",表三!A15,"") | B15: =IF(表三!B15<>"",表三!B15,"") | C15: =IF(表三!C15<>"",表三!C15,"") | D15: =IF(表三!D15<>"",表三!D15,"") | E15: =IF(表三!E15<>"",表三!E15,"") | F15: =IF(表三!F15<>"",表三!F15,"") | G15: =IF(表三!H15<>"",表三!H15,"") | H15: =IF(表三!I15<>"",表三!I15,"") | I15: =IF(表三!J15<>"",表三!J15,"") | J15: =IF(表三!K15<>"",表三!K15,"") | K15: =IF(表三!P15<>"",表三!P15,"") | L15: =IF(表三!AK15="","",表三!AK15) | V15: =IF(P15<>"",IF(Q15<>"","Kcal/"&Q15,"Kcal/"&P15),"")
A16: =IF(表三!A16<>"",表三!A16,"") | B16: =IF(表三!B16<>"",表三!B16,"") | C16: =IF(表三!C16<>"",表三!C16,"") | D16: =IF(表三!D16<>"",表三!D16,"") | E16: =IF(表三!E16<>"",表三!E16,"") | F16: =IF(表三!F16<>"",表三!F16,"") | G16: =IF(表三!H16<>"",表三!H16,"") | H16: =IF(表三!I16<>"",表三!I16,"") | I16: =IF(表三!J16<>"",表三!J16,"") | J16: =IF(表三!K16<>"",表三!K16,"") | K16: =IF(表三!P16<>"",表三!P16,"") | L16: =IF(表三!AK16="","",表三!AK16) | V16: =IF(P16<>"",IF(Q16<>"","Kcal/"&Q16,"Kcal/"&P16),"")
A17: =IF(表三!A17<>"",表三!A17,"") | B17: =IF(表三!B17<>"",表三!B17,"") | C17: =IF(表三!C17<>"",表三!C17,"") | D17: =IF(表三!D17<>"",表三!D17,"") | E17: =IF(表三!E17<>"",表三!E17,"") | F17: =IF(表三!F17<>"",表三!F17,"") | G17: =IF(表三!H17<>"",表三!H17,"") | H17: =IF(表三!I17<>"",表三!I17,"") | I17: =IF(表三!J17<>"",表三!J17,"") | J17: =IF(表三!K17<>"",表三!K17,"") | K17: =IF(表三!P17<>"",表三!P17,"") | L17: =IF(表三!AK17="","",表三!AK17) | V17: =IF(P17<>"",IF(Q17<>"","Kcal/"&Q17,"Kcal/"&P17),"")
A18: =IF(表三!A18<>"",表三!A18,"") | B18: =IF(表三!B18<>"",表三!B18,"") | C18: =IF(表三!C18<>"",表三!C18,"") | D18: =IF(表三!D18<>"",表三!D18,"") | E18: =IF(表三!E18<>"",表三!E18,"") | F18: =IF(表三!F18<>"",表三!F18,"") | G18: =IF(表三!H18<>"",表三!H18,"") | H18: =IF(表三!I18<>"",表三!I18,"") | I18: =IF(表三!J18<>"",表三!J18,"") | J18: =IF(表三!K18<>"",表三!K18,"") | K18: =IF(表三!P18<>"",表三!P18,"") | L18: =IF(表三!AK18="","",表三!AK18) | V18: =IF(P18<>"",IF(Q18<>"","Kcal/"&Q18,"Kcal/"&P18),"")
A19: =IF(表三!A19<>"",表三!A19,"") | B19: =IF(表三!B19<>"",表三!B19,"") | C19: =IF(表三!C19<>"",表三!C19,"") | D19: =IF(表三!D19<>"",表三!D19,"") | E19: =IF(表三!E19<>"",表三!E19,"") | F19: =IF(表三!F19<>"",表三!F19,"") | G19: =IF(表三!H19<>"",表三!H19,"") | H19: =IF(表三!I19<>"",表三!I19,"") | I19: =IF(表三!J19<>"",表三!J19,"") | J19: =IF(表三!K19<>"",表三!K19,"") | K19: =IF(表三!P19<>"",表三!P19,"") | L19: =IF(表三!AK19="","",表三!AK19) | V19: =IF(P19<>"",IF(Q19<>"","Kcal/"&Q19,"Kcal/"&P19),"")
A20: =IF(表三!A20<>"",表三!A20,"") | B20: =IF(表三!B20<>"",表三!B20,"") | C20: =IF(表三!C20<>"",表三!C20,"") | D20: =IF(表三!D20<>"",表三!D20,"") | E20: =IF(表三!E20<>"",表三!E20,"") | F20: =IF(表三!F20<>"",表三!F20,"") | G20: =IF(表三!H20<>"",表三!H20,"") | H20: =IF(表三!I20<>"",表三!I20,"") | I20: =IF(表三!J20<>"",表三!J20,"") | J20: =IF(表三!K20<>"",表三!K20,"") | K20: =IF(表三!P20<>"",表三!P20,"") | L20: =IF(表三!AK20="","",表三!AK20) | V20: =IF(P20<>"",IF(Q20<>"","Kcal/"&Q20,"Kcal/"&P20),"")
A21: =IF(表三!A21<>"",表三!A21,"") | B21: =IF(表三!B21<>"",表三!B21,"") | C21: =IF(表三!C21<>"",表三!C21,"") | D21: =IF(表三!D21<>"",表三!D21,"") | E21: =IF(表三!E21<>"",表三!E21,"") | F21: =IF(表三!F21<>"",表三!F21,"") | G21: =IF(表三!H21<>"",表三!H21,"") | H21: =IF(表三!I21<>"",表三!I21,"") | I21: =IF(表三!J21<>"",表三!J21,"") | J21: =IF(表三!K21<>"",表三!K21,"") | K21: =IF(表三!P21<>"",表三!P21,"") | L21: =IF(表三!AK21="","",表三!AK21) | V21: =IF(P21<>"",IF(Q21<>"","Kcal/"&Q21,"Kcal/"&P21),"")
A22: =IF(表三!A22<>"",表三!A22,"") | B22: =IF(表三!B22<>"",表三!B22,"") | C22: =IF(表三!C22<>"",表三!C22,"") | D22: =IF(表三!D22<>"",表三!D22,"") | E22: =IF(表三!E22<>"",表三!E22,"") | F22: =IF(表三!F22<>"",表三!F22,"") | G22: =IF(表三!H22<>"",表三!H22,"") | H22: =IF(表三!I22<>"",表三!I22,"") | I22: =IF(表三!J22<>"",表三!J22,"") | J22: =IF(表三!K22<>"",表三!K22,"") | K22: =IF(表三!P22<>"",表三!P22,"") | L22: =IF(表三!AK22="","",表三!AK22) | V22: =IF(P22<>"",IF(Q22<>"","Kcal/"&Q22,"Kcal/"&P22),"")
A23: =IF(表三!A23<>"",表三!A23,"") | B23: =IF(表三!B23<>"",表三!B23,"") | C23: =IF(表三!C23<>"",表三!C23,"") | D23: =IF(表三!D23<>"",表三!D23,"") | E23: =IF(表三!E23<>"",表三!E23,"") | F23: =IF(表三!F23<>"",表三!F23,"") | G23: =IF(表三!H23<>"",表三!H23,"") | H23: =IF(表三!I23<>"",表三!I23,"") | I23: =IF(表三!J23<>"",表三!J23,"") | J23: =IF(表三!K23<>"",表三!K23,"") | K23: =IF(表三!P23<>"",表三!P23,"") | L23: =IF(表三!AK23="","",表三!AK23) | V23: =IF(P23<>"",IF(Q23<>"","Kcal/"&Q23,"Kcal/"&P23),"")
A24: =IF(表三!A24<>"",表三!A24,"") | B24: =IF(表三!B24<>"",表三!B24,"") | C24: =IF(表三!C24<>"",表三!C24,"") | D24: =IF(表三!D24<>"",表三!D24,"") | E24: =IF(表三!E24<>"",表三!E24,"") | F24: =IF(表三!F24<>"",表三!F24,"") | G24: =IF(表三!H24<>"",表三!H24,"") | H24: =IF(表三!I24<>"",表三!I24,"") | I24: =IF(表三!J24<>"",表三!J24,"") | J24: =IF(表三!K24<>"",表三!K24,"") | K24: =IF(表三!P24<>"",表三!P24,"") | L24: =IF(表三!AK24="","",表三!AK24) | V24: =IF(P24<>"",IF(Q24<>"","Kcal/"&Q24,"Kcal/"&P24),"")
A25: =IF(表三!A25<>"",表三!A25,"") | B25: =IF(表三!B25<>"",表三!B25,"") | C25: =IF(表三!C25<>"",表三!C25,"") | D25: =IF(表三!D25<>"",表三!D25,"") | E25: =IF(表三!E25<>"",表三!E25,"") | F25: =IF(表三!F25<>"",表三!F25,"") | G25: =IF(表三!H25<>"",表三!H25,"") | H25: =IF(表三!I25<>"",表三!I25,"") | I25: =IF(表三!J25<>"",表三!J25,"") | J25: =IF(表三!K25<>"",表三!K25,"") | K25: =IF(表三!P25<>"",表三!P25,"") | L25: =IF(表三!AK25="","",表三!AK25) | V25: =IF(P25<>"",IF(Q25<>"","Kcal/"&Q25,"Kcal/"&P25),"")
A26: =IF(表三!A26<>"",表三!A26,"") | B26: =IF(表三!B26<>"",表三!B26,"") | C26: =IF(表三!C26<>"",表三!C26,"") | D26: =IF(表三!D26<>"",表三!D26,"") | E26: =IF(表三!E26<>"",表三!E26,"") | F26: =IF(表三!F26<>"",表三!F26,"") | G26: =IF(表三!H26<>"",表三!H26,"") | H26: =IF(表三!I26<>"",表三!I26,"") | I26: =IF(表三!J26<>"",表三!J26,"") | J26: =IF(表三!K26<>"",表三!K26,"") | K26: =IF(表三!P26<>"",表三!P26,"") | L26: =IF(表三!AK26="","",表三!AK26) | V26: =IF(P26<>"",IF(Q26<>"","Kcal/"&Q26,"Kcal/"&P26),"")
... A200: =IF(表三!A200<>"",表三!A200,"") | B200: =IF(表三!B200<>"",表三!B200,"") | C200: =IF(表三!C200<>"",表三!C200,"") | D200: =IF(表三!D200<>"",表三!D200,"") | E200: =IF(表三!E200<>"",表三!E200,"") | F200: =IF(表三!F200<>"",表三!F200,"") | G200: =IF(表三!H200<>"",表三!H200,"") | H200: =IF(表三!I200<>"",表三!I200,"") | I200: =IF(表三!J200<>"",表三!J200,"") | J200: =IF(表三!K200<>"",表三!K200,"") | K200: =IF(表三!P200<>"",表三!P200,"") | L200: =IF(表三!AK200="","",表三!AK200) | V200: =IF(P200<>"",IF(Q200<>"","Kcal/"&Q200,"Kcal/"&P200),"")
B201: =IF(表三!B201<>"",表三!B201,"") | C201: =IF(表三!C201<>"",表三!C201,"") | D201: =IF(表三!D201<>"",表三!D201,"") | E201: =IF(表三!E201<>"",表三!E201,"") | F201: =IF(表三!F201<>"",表三!F201,"") | G201: =IF(表三!H201<>"",表三!H201,"") | H201: =IF(表三!I201<>"",表三!I201,"") | I201: =IF(表三!J201<>"",表三!J201,"") | J201: =IF(表三!K201<>"",表三!K201,"") | K201: =IF(表三!P201<>"",表三!P201,"") | L201: =IF(表三!AK201="","",表三!AK201) | V201: =IF(P201<>"",IF(Q201<>"","Kcal/"&Q201,"Kcal/"&P201),"")
A202: 填表說明
A203: 1. | B203: 白色底色欄位表示由使用者自行填寫之欄位；灰色底色欄位表示由表單自動產生之欄位；橘色底色欄位為下拉式選項，由使用者選擇代入。
A204: 2. | B204: "*" 表非必填欄位。
A205: 3. | B205: 公式自動帶出製程、逸散或外購電力之類型
A206: 4. | B206: 應填寫外購電力或蒸汽之供應商為何，若外購電力型式為併網者，毋須填寫。另應完整填寫供應商名稱。
A207: 5. | B207: 活動數據最多可填寫至小數點後四位，第五位四捨五入，小數位數不足部分表單將自動補"0"。
A208: 6. | B208: 倘該筆活動數據非百分之百使用於該排放源時，必須進一步填寫排放源於該筆動數據所占之比例。(至多可到小數點下5位)
A209: 7. | B209: 原(燃)物料年使用量之數據單位，請填入公秉、千立方公尺、公噸等單位，但此處所填單位需與排放係數單位一致，以免計算時造成錯誤。
A210: 8. | B210: 倘活動數據勾選"其他"時，應進一步填寫其單位。
A211: 9. | B211: 原(燃)物料或產品所屬數據來源之表單名稱，如機組操作紀錄彙整表。
A212: 10. | B212: 原(燃)物料或產品所屬數據來源之保存單位，如倉管、會計部、總務部或廠務部，可以部門代碼表示，但應檢附代碼對照表等。
A213: 11. | B213: 依據活動數據統計或量測方式，活動數據類別可分成連續量測、定期（間歇）量測、財務會計推估、自行評估等四類。

Sheet 表五
A1: 五、定量盤查 | E1: 盤查日期： | G1: =表一!G1 -> 民國109年01月01日 | J1: =表一!O1 -> 盤查表單版次： | K1: =表一!Q1 -> V1 | Y1: X
A2: 製程 | C2: 設備 | E2: 原燃物料或產品 | H2: 排放源資料 | J2: 活動數據 | L2: 排放係數(公噸/公噸or公秉or立方公尺)數據 | AS2: 單一排放源排放當量小計(CO2e公噸/年)9 | AT2: 單一排放源生質燃料之CO2排放當量小計(CO2e公噸/年)10 | AU2: 單一排放源占排放總量比(%)11 | AV2: GWP值 (HFC/PFC) | AW2: 統計用變項 | BE2: 單一排放源排放當量絕對值小計(CO2e公噸/年)
A3: 編號 | B3: 代碼 | C3: 編號 | D3: 代碼 | E3: 代碼 | F3: 名稱 | G3: 是否屬生質能源 | H3: 範疇別 | I3: 排放型式 | J3: 活動 數據 | K3: 單位 | L3: 溫室 氣體#1 | M3: 係數類型3 | N3: 預設排放係數4 | O3: 預設係數來源5 | P3: 自訂排放係數 | Q3: 自訂係數來源 | R3: 係數 單位6 | S3: 係數種類7 | T3: 排放量 (公噸/年) | U3: GWP | V3: 排放 當量 (公噸CO2e/年)8 | W3: 溫室 氣體#2 | X3: 係數類型 | Y3: 預設 排放係數 | Z3: 預設係數來源 | AA3: 自訂排放係數 | AB3: 自訂係數來源 | AC3: 係數 單位 | AD3: 係數種類 | AE3: 排放量 (公噸/年) | AF3: GWP | AG3: 排放 當量 (公噸CO2e/年) | AH3: 溫室 氣體#3 | AI3: 係數類型 | AJ3: 預設 排放係數 | AK3: 預設係數來源 | AL3: 自訂排放係數 | AM3: 自訂係數來源 | AN3: 係數 單位 | AO3: 係數種類 | AP3: 排放量 (公噸/年) | AQ3: GWP | AR3: 排放 當量 (公噸CO2e/年)
A4: =IF(表三!A4<>"",表三!A4,"") -> G01 | B4: =IF(表三!C4<>"",表三!C4,"") -> 其他未分類製程 | C4: =IF(表三!D4<>"",表三!D4,"") -> GM01 | D4: =IF(表三!F4<>"",表三!F4,"") -> 柴油引擎 | E4: =IF(表三!H4<>"",表三!H4,"") -> 170006 | F4: =IF(表三!I4<>"",表三!I4,"") -> 柴油 | G4: =IF(表三!J4<>"",表三!J4,"") -> 否 | H4: =IF(表三!K4<>"",表三!K4,"") -> 範疇1 | I4: =IF(表三!P4<>"",表三!P4,"") -> 固定 (E) | J4: =IF(表四!N4<>"",ROUND(表四!N4,4),"") -> 2715.734 | K4: =IF(表四!Q4<>"",表四!Q4,IF(表四!P4<>"",表四!P4,"")) -> 公秉 | L4: =IF(表三!BJ4<>"",IF(表三!BJ4<>0,表三!BJ4,""),"") -> CO2 | M4: 預設 | N4: =IF(H4&I4&E4="範疇2外購電力350099",IF(M4="預設",VLOOKUP(表一!$B$5,附表一!$G$186:$T$211,14,0),""),IF(M4="預設",VLOOKUP(H4&I4&L4&E4,附表一!$F$5:$U$178,16,0),"")) -> 2.6060318 | O4: =IF(H4&I4="範疇2外購電力",IF(M4="預設",VLOOKUP(表一!$B$5,附表一!$G$186:$X$210,18,0),""),IF(M4="預設",VLOOKUP(H4&I4&L4&E4,附表一!$F$5:$Y$175,20,0),"")) -> 能源局公告熱值 | R4: =IF(N4&P4<>"",IF(表四!$Q4<>"","公噸/"&表四!$Q4,IF(表四!$P4<>"","公噸/"&表四!$P4,"")),"") -> 公噸/公秉 | S4: 5國家排放係數 | T4: =IF(表四!O4="",IF($J4<>"",IF(P4<>"",ROUND(ROUND(P4,10)*ROUND($J4,4),4),IF(N4<>"",ROUND(ROUND($J4,4)*ROUND(N4,10),4),"")),""),IF($J4<>"",IF(P4<>"",ROUND(ROUND(P4,10)*ROUND($J4,4)*ROUND(表四!O4,6),4),IF(N4<>"",ROUND(ROUND($J4,4)*ROUND(N4,10)*ROUND(表四!O4,6),4),"")),"")) -> 7077.2891 | U4: =IF(L4="CO2",1,IF(L4="SF6",23500,IF(L4="CH4",30,IF(L4="N2O",265,IF(L4="HFCS",AV4,IF(L4="PFCs",AV4,IF(L4="NF3",16100,""))))))) -> 1 | V4: =IF(T4<>"",ROUND(T4*U4,4),"") -> 7077.2891 | W4: =IF(表三!BK4<>"",IF(表三!BK4<>0,表三!BK4,""),"") -> CH4 | X4: 預設 | Y4: =IF(H4&I4="範疇2外購電力",IF(X4="預設",VLOOKUP(表一!$B$5,附表一!$G$186:$T$210,14,0),""),IF(X4="預設",VLOOKUP(H4&I4&W4&E4,附表一!$F$5:$U$175,16,0),"")) -> 0.00010550736 | Z4: =IF(H4&I4="範疇2外購電力",IF(X4="預設",VLOOKUP(表一!$B$5,附表一!$G$186:$X$210,18,0),""),IF(X4="預設",VLOOKUP(H4&I4&W4&E4,附表一!$F$5:$Y$175,20,0),"")) -> 能源局公告熱值 | AC4: =IF(Y4&AA4<>"",IF(表四!$Q4<>"","公噸/"&表四!$Q4,IF(表四!$P4<>"","公噸/"&表四!$P4,"")),"") -> 公噸/公秉 | AD4: 5國家排放係數 | AE4: =IF(表四!O4="",IF($J4<>"",IF(AA4<>"",ROUND(ROUND(AA4,10)*ROUND($J4,4),4),IF(Y4<>"",ROUND(ROUND($J4,4)*ROUND(Y4,10),4),"")),""),IF($J4<>"",IF(AA4<>"",ROUND(ROUND(AA4,10)*ROUND($J4,4)*ROUND(表四!O4,6),4),IF(Y4<>"",ROUND(ROUND($J4,4)*ROUND(Y4,10)*ROUND(表四!O4,6),4),"")),"")) -> 0.2865 | AF4: =IF(W4="CO2",1,IF(W4="CH4",30,IF(W4="N2O",265,IF(W4="NF3",16100,"")))) -> 30 | AG4: =IF(AE4<>"",ROUND(AE4*AF4,4),"") -> 8.595 | AH4: =IF(表三!BL4<>"",IF(表三!BL4<>0,表三!BL4,""),"") -> N2O | AI4: 預設 | AJ4: =IF(H4&I4="範疇2外購電力",IF(AI4="預設",VLOOKUP(表一!$B$5,附表一!$G$186:$T$210,14,0),""),IF(AI4="預設",VLOOKUP(H4&I4&AH4&E4,附表一!$F$5:$U$175,16,0),"")) -> 2.1101472e-05 | AK4: =IF(H4&I4="範疇2外購電力",IF(AI4="預設",VLOOKUP(表一!$B$5,附表一!$G$186:$X$210,18,0),""),IF(AI4="預設",VLOOKUP(H4&I4&AH4&E4,附表一!$F$5:$Y$175,20,0),"")) -> 能源局公告熱值 | AN4: =IF(AJ4&AL4<>"",IF(表四!$Q4<>"","公噸/"&表四!$Q4,IF(表四!$P4<>"","公噸/"&表四!$P4,"")),"") -> 公噸/公秉 | AO4: 5國家排放係數 | AP4: =IF(表四!O4="",IF($J4<>"",IF(AL4<>"",ROUND(ROUND(AL4,10)*ROUND($J4,4),4),IF(AJ4<>"",ROUND(ROUND($J4,4)*ROUND(AJ4,10),4),"")),""),IF($J4<>"",IF(AL4<>"",ROUND(ROUND(AL4,10)*ROUND($J4,4)*ROUND(表四!O4,6),4),IF(AJ4<>"",ROUND(ROUND($J4,4)*ROUND(AJ4,10)*ROUND(表四!O4,6),4),"")),"")) -> 0.0573 | AQ4: =IF(AH4="CO2",1,IF(AH4="CH4",30,IF(AH4="N2O",265,""))) -> 265 | AR4: =IF(AP4<>"",ROUND(AP4*AQ4,4),"") -> 15.1845 | AS4: =IF(表三!J4="是",IF(L4="CO2",SUM(AG4,AR4),SUM(V4,AG4,AR4)),IF(SUM(V4,AG4,AR4)<>0,SUM(V4,AG4,AR4),"")) -> 7101.0686 | AT4: =IF(表三!J4="是",IF(L4="CO2",V4,""),"") | AU4: =IF(AS4<>"",AS4/表八!$J$8,"") -> 0.012944098 | AV4: =VLOOKUP(E4,附表二!$A:$G,3,FALSE) -> #N/A | AW4: =H4&L4&G4 -> 範疇1CO2否 | AX4: =H4&L4 -> 範疇1CO2 | AY4: =H4&W4 -> 範疇1CH4 | AZ4: =H4&AH4 -> 範疇1N2O | BA4: =H4&I4 -> 範疇1固定 (E) | BB4: =H4&I4 -> 範疇1固定 (E) | BC4: =H4&I4 -> 範疇1固定 (E) | BD4: =H4&L4&I4&G4 -> 範疇1CO2固定 (E)否 | BE4: =IFERROR(ABS(AS4),"") -> 7101.0686
A5: =IF(表三!A5<>"",表三!A5,"") -> G02 | B5: =IF(表三!C5<>"",表三!C5,"") -> 其他未分類製程 | C5: =IF(表三!D5<>"",表三!D5,"") -> GM02 | D5: =IF(表三!F5<>"",表三!F5,"") -> 汽油引擎 | E5: =IF(表三!H5<>"",表三!H5,"") -> 170099 | F5: =IF(表三!I5<>"",表三!I5,"") -> 其他汽油 | G5: =IF(表三!J5<>"",表三!J5,"") -> 否 | H5: =IF(表三!K5<>"",表三!K5,"") -> 範疇1 | I5: =IF(表三!P5<>"",表三!P5,"") -> 固定 (E) | J5: =IF(表四!N5<>"",ROUND(表四!N5,4),"") -> 365.23 | K5: =IF(表四!Q5<>"",表四!Q5,IF(表四!P5<>"",表四!P5,"")) -> 公秉 | L5: =IF(表三!BJ5<>"",IF(表三!BJ5<>0,表三!BJ5,""),"") -> CO2 | M5: 預設 | N5: =IF(H5&I5&E5="範疇2外購電力350099",IF(M5="預設",VLOOKUP(表一!$B$5,附表一!$G$186:$T$211,14,0),""),IF(M5="預設",VLOOKUP(H5&I5&L5&E5,附表一!$F$5:$U$178,16,0),"")) -> 2.2631329 | O5: =IF(H5&I5="範疇2外購電力",IF(M5="預設",VLOOKUP(表一!$B$5,附表一!$G$186:$X$210,18,0),""),IF(M5="預設",VLOOKUP(H5&I5&L5&E5,附表一!$F$5:$Y$175,20,0),"")) -> 能源局公告熱值 | R5: =IF(N5&P5<>"",IF(表四!$Q5<>"","公噸/"&表四!$Q5,IF(表四!$P5<>"","公噸/"&表四!$P5,"")),"") -> 公噸/公秉 | S5: 5國家排放係數 | T5: =IF(表四!O5="",IF($J5<>"",IF(P5<>"",ROUND(ROUND(P5,10)*ROUND($J5,4),4),IF(N5<>"",ROUND(ROUND($J5,4)*ROUND(N5,10),4),"")),""),IF($J5<>"",IF(P5<>"",ROUND(ROUND(P5,10)*ROUND($J5,4)*ROUND(表四!O5,6),4),IF(N5<>"",ROUND(ROUND($J5,4)*ROUND(N5,10)*ROUND(表四!O5,6),4),"")),"")) -> 826.564 | U5: =IF(L5="CO2",1,IF(L5="SF6",23500,IF(L5="CH4",30,IF(L5="N2O",265,IF(L5="HFCS",AV5,IF(L5="PFCs",AV5,IF(L5="NF3",16100,""))))))) -> 1 | V5: =IF(T5<>"",ROUND(T5*U5,4),"") -> 826.564 | W5: =IF(表三!BK5<>"",IF(表三!BK5<>0,表三!BK5,""),"") -> CH4 | X5: 預設 | Y5: =IF(H5&I5="範疇2外購電力",IF(X5="預設",VLOOKUP(表一!$B$5,附表一!$G$186:$T$210,14,0),""),IF(X5="預設",VLOOKUP(H5&I5&W5&E5,附表一!$F$5:$U$175,16,0),"")) -> 9.797112e-05 | Z5: =IF(H5&I5="範疇2外購電力",IF(X5="預設",VLOOKUP(表一!$B$5,附表一!$G$186:$X$210,18,0),""),IF(X5="預設",VLOOKUP(H5&I5&W5&E5,附表一!$F$5:$Y$175,20,0),"")) -> 能源局公告熱值 | AC5: =IF(Y5&AA5<>"",IF(表四!$Q5<>"","公噸/"&表四!$Q5,IF(表四!$P5<>"","公噸/"&表四!$P5,"")),"") -> 公噸/公秉 | AD5: 5國家排放係數 | AE5: =IF(表四!O5="",IF($J5<>"",IF(AA5<>"",ROUND(ROUND(AA5,10)*ROUND($J5,4),4),IF(Y5<>"",ROUND(ROUND($J5,4)*ROUND(Y5,10),4),"")),""),IF($J5<>"",IF(AA5<>"",ROUND(ROUND(AA5,10)*ROUND($J5,4)*ROUND(表四!O5,6),4),IF(Y5<>"",ROUND(ROUND($J5,4)*ROUND(Y5,10)*ROUND(表四!O5,6),4),"")),"")) -> 0.0358 | AF5: =IF(W5="CO2",1,IF(W5="CH4",30,IF(W5="N2O",265,IF(W5="NF3",16100,"")))) -> 30 | AG5: =IF(AE5<>"",ROUND(AE5*AF5,4),"") -> 1.074 | AH5: =IF(表三!BL5<>"",IF(表三!BL5<>0,表三!BL5,""),"") -> N2O | AI5: 預設 | AJ5: =IF(H5&I5="範疇2外購電力",IF(AI5="預設",VLOOKUP(表一!$B$5,附表一!$G$186:$T$210,14,0),""),IF(AI5="預設",VLOOKUP(H5&I5&AH5&E5,附表一!$F$5:$U$175,16,0),"")) -> 1.9594224e-05 | AK5: =IF(H5&I5="範疇2外購電力",IF(AI5="預設",VLOOKUP(表一!$B$5,附表一!$G$186:$X$210,18,0),""),IF(AI5="預設",VLOOKUP(H5&I5&AH5&E5,附表一!$F$5:$Y$175,20,0),"")) -> 能源局公告熱值 | AN5: =IF(AJ5&AL5<>"",IF(表四!$Q5<>"","公噸/"&表四!$Q5,IF(表四!$P5<>"","公噸/"&表四!$P5,"")),"") -> 公噸/公秉 | AO5: 5國家排放係數 | AP5: =IF(表四!O5="",IF($J5<>"",IF(AL5<>"",ROUND(ROUND(AL5,10)*ROUND($J5,4),4),IF(AJ5<>"",ROUND(ROUND($J5,4)*ROUND(AJ5,10),4),"")),""),IF($J5<>"",IF(AL5<>"",ROUND(ROUND(AL5,10)*ROUND($J5,4)*ROUND(表四!O5,6),4),IF(AJ5<>"",ROUND(ROUND($J5,4)*ROUND(AJ5,10)*ROUND(表四!O5,6),4),"")),"")) -> 0.0072 | AQ5: =IF(AH5="CO2",1,IF(AH5="CH4",30,IF(AH5="N2O",265,""))) -> 265 | AR5: =IF(AP5<>"",ROUND(AP5*AQ5,4),"") -> 1.908 | AS5: =IF(表三!J5="是",IF(L5="CO2",SUM(AG5,AR5),SUM(V5,AG5,AR5)),IF(SUM(V5,AG5,AR5)<>0,SUM(V5,AG5,AR5),"")) -> 829.546 | AT5: =IF(表三!J5="是",IF(L5="CO2",V5,""),"") | AU5: =IF(AS5<>"",AS5/表八!$J$8,"") -> 0.001512128 | AV5: =VLOOKUP(E5,附表二!$A:$G,3,FALSE) -> #N/A | AW5: =H5&L5&G5 -> 範疇1CO2否 | AX5: =H5&L5 -> 範疇1CO2 | AY5: =H5&W5 -> 範疇1CH4 | AZ5: =H5&AH5 -> 範疇1N2O | BA5: =H5&I5 -> 範疇1固定 (E) | BB5: =H5&I5 -> 範疇1固定 (E) | BC5: =H5&I5 -> 範疇1固定 (E) | BD5: =H5&L5&I5&G5 -> 範疇1CO2固定 (E)否 | BE5: =IFERROR(ABS(AS5),"") -> 829.546
A6: =IF(表三!A6<>"",表三!A6,"") -> G03 | B6: =IF(表三!C6<>"",表三!C6,"") -> 維修保養程序 | C6: =IF(表三!D6<>"",表三!D6,"") -> GM03 | D6: =IF(表三!F6<>"",表三!F6,"") -> 其他切割設施 | E6: =IF(表三!H6<>"",表三!H6,"") -> 180191 | F6: =IF(表三!I6<>"",表三!I6,"") -> 乙炔 | G6: =IF(表三!J6<>"",表三!J6,"") -> 否 | H6: =IF(表三!K6<>"",表三!K6,"") -> 範疇1 | I6: =IF(表三!P6<>"",表三!P6,"") -> 製程 (P) | J6: =IF(表四!N6<>"",ROUND(表四!N6,4),"") -> 32 | K6: =IF(表四!Q6<>"",表四!Q6,IF(表四!P6<>"",表四!P6,"")) -> 公斤 | L6: =IF(表三!BJ6<>"",IF(表三!BJ6<>0,表三!BJ6,""),"") -> CO2 | M6: 自訂 | N6: =IF(H6&I6&E6="範疇2外購電力350099",IF(M6="預設",VLOOKUP(表一!$B$5,附表一!$G$186:$T$211,14,0),""),IF(M6="預設",VLOOKUP(H6&I6&L6&E6,附表一!$F$5:$U$178,16,0),"")) | O6: =IF(H6&I6="範疇2外購電力",IF(M6="預設",VLOOKUP(表一!$B$5,附表一!$G$186:$X$210,18,0),""),IF(M6="預設",VLOOKUP(H6&I6&L6&E6,附表一!$F$5:$Y$175,20,0),"")) | P6: 3.0367393 | R6: =IF(N6&P6<>"",IF(表四!$Q6<>"","公噸/"&表四!$Q6,IF(表四!$P6<>"","公噸/"&表四!$P6,"")),"") -> 公噸/公斤 | S6: 5國家排放係數 | T6: =IF(表四!O6="",IF($J6<>"",IF(P6<>"",ROUND(ROUND(P6,10)*ROUND($J6,4),4),IF(N6<>"",ROUND(ROUND($J6,4)*ROUND(N6,10),4),"")),""),IF($J6<>"",IF(P6<>"",ROUND(ROUND(P6,10)*ROUND($J6,4)*ROUND(表四!O6,6),4),IF(N6<>"",ROUND(ROUND($J6,4)*ROUND(N6,10)*ROUND(表四!O6,6),4),"")),"")) -> 97.1757 | U6: =IF(L6="CO2",1,IF(L6="SF6",23500,IF(L6="CH4",30,IF(L6="N2O",265,IF(L6="HFCS",AV6,IF(L6="PFCs",AV6,IF(L6="NF3",16100,""))))))) -> 1 | V6: =IF(T6<>"",ROUND(T6*U6,4),"") -> 97.1757 | W6: =IF(表三!BK6<>"",IF(表三!BK6<>0,表三!BK6,""),"") | Y6: =IF(H6&I6="範疇2外購電力",IF(X6="預設",VLOOKUP(表一!$B$5,附表一!$G$186:$T$210,14,0),""),IF(X6="預設",VLOOKUP(H6&I6&W6&E6,附表一!$F$5:$U$175,16,0),"")) | Z6: =IF(H6&I6="範疇2外購電力",IF(X6="預設",VLOOKUP(表一!$B$5,附表一!$G$186:$X$210,18,0),""),IF(X6="預設",VLOOKUP(H6&I6&W6&E6,附表一!$F$5:$Y$175,20,0),"")) | AC6: =IF(Y6&AA6<>"",IF(表四!$Q6<>"","公噸/"&表四!$Q6,IF(表四!$P6<>"","公噸/"&表四!$P6,"")),"") | AE6: =IF(表四!O6="",IF($J6<>"",IF(AA6<>"",ROUND(ROUND(AA6,10)*ROUND($J6,4),4),IF(Y6<>"",ROUND(ROUND($J6,4)*ROUND(Y6,10),4),"")),""),IF($J6<>"",IF(AA6<>"",ROUND(ROUND(AA6,10)*ROUND($J6,4)*ROUND(表四!O6,6),4),IF(Y6<>"",ROUND(ROUND($J6,4)*ROUND(Y6,10)*ROUND(表四!O6,6),4),"")),"")) | AF6: =IF(W6="CO2",1,IF(W6="CH4",30,IF(W6="N2O",265,IF(W6="NF3",16100,"")))) | AG6: =IF(AE6<>"",ROUND(AE6*AF6,4),"") | AH6: =IF(表三!BL6<>"",IF(表三!BL6<>0,表三!BL6,""),"") | AJ6: =IF(H6&I6="範疇2外購電力",IF(AI6="預設",VLOOKUP(表一!$B$5,附表一!$G$186:$T$210,14,0),""),IF(AI6="預設",VLOOKUP(H6&I6&AH6&E6,附表一!$F$5:$U$175,16,0),"")) | AK6: =IF(H6&I6="範疇2外購電力",IF(AI6="預設",VLOOKUP(表一!$B$5,附表一!$G$186:$X$210,18,0),""),IF(AI6="預設",VLOOKUP(H6&I6&AH6&E6,附表一!$F$5:$Y$175,20,0),"")) | AN6: =IF(AJ6&AL6<>"",IF(表四!$Q6<>"","公噸/"&表四!$Q6,IF(表四!$P6<>"","公噸/"&表四!$P6,"")),"") | AP6: =IF(表四!O6="",IF($J6<>"",IF(AL6<>"",ROUND(ROUND(AL6,10)*ROUND($J6,4),4),IF(AJ6<>"",ROUND(ROUND($J6,4)*ROUND(AJ6,10),4),"")),""),IF($J6<>"",IF(AL6<>"",ROUND(ROUND(AL6,10)*ROUND($J6,4)*ROUND(表四!O6,6),4),IF(AJ6<>"",ROUND(ROUND($J6,4)*ROUND(AJ6,10)*ROUND(表四!O6,6),4),"")),"")) | AQ6: =IF(AH6="CO2",1,IF(AH6="CH4",30,IF(AH6="N2O",265,""))) | AR6: =IF(AP6<>"",ROUND(AP6*AQ6,4),"") | AS6: =IF(表三!J6="是",IF(L6="CO2",SUM(AG6,AR6),SUM(V6,AG6,AR6)),IF(SUM(V6,AG6,AR6)<>0,SUM(V6,AG6,AR6),"")) -> 97.1757 | AT6: =IF(表三!J6="是",IF(L6="CO2",V6,""),"") | AU6: =IF(AS6<>"",AS6/表八!$J$8,"") -> 0.00017713557 | AV6: =VLOOKUP(E6,附表二!$A:$G,3,FALSE) -> #N/A | AW6: =H6&L6&G6 -> 範疇1CO2否 | AX6: =H6&L6 -> 範疇1CO2 | AY6: =H6&W6 -> 範疇1 | AZ6: =H6&AH6 -> 範疇1 | BA6: =H6&I6 -> 範疇1製程 (P) | BB6: =H6&I6 -> 範疇1製程 (P) | BC6: =H6&I6 -> 範疇1製程 (P) | BD6: =H6&L6&I6&G6 -> 範疇1CO2製程 (P)否 | BE6: =IFERROR(ABS(AS6),"") -> 97.1757
A7: =IF(表三!A7<>"",表三!A7,"") -> M01 | B7: =IF(表三!C7<>"",表三!C7,"") -> 鍋爐發電程序 | C7: =IF(表三!D7<>"",表三!D7,"") -> E212 | D7: =IF(表三!F7<>"",表三!F7,"") -> 燃油鍋爐 | E7: =IF(表三!H7<>"",表三!H7,"") -> 170019 | F7: =IF(表三!I7<>"",表三!I7,"") -> ４～６號重油 | G7: =IF(表三!J7<>"",表三!J7,"") -> 否 | H7: =IF(表三!K7<>"",表三!K7,"") -> 範疇1 | I7: =IF(表三!P7<>"",表三!P7,"") -> 固定 (E) | J7: =IF(表四!N7<>"",ROUND(表四!N7,4),"") -> 53692.357 | K7: =IF(表四!Q7<>"",表四!Q7,IF(表四!P7<>"",表四!P7,"")) -> 公秉 | L7: =IF(表三!BJ7<>"",IF(表三!BJ7<>0,表三!BJ7,""),"") -> CO2 | M7: 預設 | N7: =IF(H7&I7&E7="範疇2外購電力350099",IF(M7="預設",VLOOKUP(表一!$B$5,附表一!$G$186:$T$211,14,0),""),IF(M7="預設",VLOOKUP(H7&I7&L7&E7,附表一!$F$5:$U$178,16,0),"")) -> 3.1109599 | O7: =IF(H7&I7="範疇2外購電力",IF(M7="預設",VLOOKUP(表一!$B$5,附表一!$G$186:$X$210,18,0),""),IF(M7="預設",VLOOKUP(H7&I7&L7&E7,附表一!$F$5:$Y$175,20,0),"")) -> 能源局公告熱值 | R7: =IF(N7&P7<>"",IF(表四!$Q7<>"","公噸/"&表四!$Q7,IF(表四!$P7<>"","公噸/"&表四!$P7,"")),"") -> 公噸/公秉 | S7: 5國家排放係數 | T7: =IF(表四!O7="",IF($J7<>"",IF(P7<>"",ROUND(ROUND(P7,10)*ROUND($J7,4),4),IF(N7<>"",ROUND(ROUND($J7,4)*ROUND(N7,10),4),"")),""),IF($J7<>"",IF(P7<>"",ROUND(ROUND(P7,10)*ROUND($J7,4)*ROUND(表四!O7,6),4),IF(N7<>"",ROUND(ROUND($J7,4)*ROUND(N7,10)*ROUND(表四!O7,6),4),"")),"")) -> 167034.77 | U7: =IF(L7="CO2",1,IF(L7="SF6",23500,IF(L7="CH4",30,IF(L7="N2O",265,IF(L7="HFCS",AV7,IF(L7="PFCs",AV7,IF(L7="NF3",16100,""))))))) -> 1 | V7: =IF(T7<>"",ROUND(T7*U7,4),"") -> 167034.77 | W7: =IF(表三!BK7<>"",IF(表三!BK7<>0,表三!BK7,""),"") -> CH4 | X7: 預設 | Y7: =IF(H7&I7="範疇2外購電力",IF(X7="預設",VLOOKUP(表一!$B$5,附表一!$G$186:$T$210,14,0),""),IF(X7="預設",VLOOKUP(H7&I7&W7&E7,附表一!$F$5:$U$175,16,0),"")) -> 0.00012057984 | Z7: =IF(H7&I7="範疇2外購電力",IF(X7="預設",VLOOKUP(表一!$B$5,附表一!$G$186:$X$210,18,0),""),IF(X7="預設",VLOOKUP(H7&I7&W7&E7,附表一!$F$5:$Y$175,20,0),"")) -> 能源局公告熱值 | AC7: =IF(Y7&AA7<>"",IF(表四!$Q7<>"","公噸/"&表四!$Q7,IF(表四!$P7<>"","公噸/"&表四!$P7,"")),"") -> 公噸/公秉 | AD7: 5國家排放係數 | AE7: =IF(表四!O7="",IF($J7<>"",IF(AA7<>"",ROUND(ROUND(AA7,10)*ROUND($J7,4),4),IF(Y7<>"",ROUND(ROUND($J7,4)*ROUND(Y7,10),4),"")),""),IF($J7<>"",IF(AA7<>"",ROUND(ROUND(AA7,10)*ROUND($J7,4)*ROUND(表四!O7,6),4),IF(Y7<>"",ROUND(ROUND($J7,4)*ROUND(Y7,10)*ROUND(表四!O7,6),4),"")),"")) -> 6.4742 | AF7: =IF(W7="CO2",1,IF(W7="CH4",30,IF(W7="N2O",265,IF(W7="NF3",16100,"")))) -> 30 | AG7: =IF(AE7<>"",ROUND(AE7*AF7,4),"") -> 194.226 | AH7: =IF(表三!BL7<>"",IF(表三!BL7<>0,表三!BL7,""),"") -> N2O | AI7: 預設 | AJ7: =IF(H7&I7="範疇2外購電力",IF(AI7="預設",VLOOKUP(表一!$B$5,附表一!$G$186:$T$210,14,0),""),IF(AI7="預設",VLOOKUP(H7&I7&AH7&E7,附表一!$F$5:$U$175,16,0),"")) -> 2.4115968e-05 | AK7: =IF(H7&I7="範疇2外購電力",IF(AI7="預設",VLOOKUP(表一!$B$5,附表一!$G$186:$X$210,18,0),""),IF(AI7="預設",VLOOKUP(H7&I7&AH7&E7,附表一!$F$5:$Y$175,20,0),"")) -> 能源局公告熱值 | AN7: =IF(AJ7&AL7<>"",IF(表四!$Q7<>"","公噸/"&表四!$Q7,IF(表四!$P7<>"","公噸/"&表四!$P7,"")),"") -> 公噸/公秉 | AO7: 5國家排放係數 | AP7: =IF(表四!O7="",IF($J7<>"",IF(AL7<>"",ROUND(ROUND(AL7,10)*ROUND($J7,4),4),IF(AJ7<>"",ROUND(ROUND($J7,4)*ROUND(AJ7,10),4),"")),""),IF($J7<>"",IF(AL7<>"",ROUND(ROUND(AL7,10)*ROUND($J7,4)*ROUND(表四!O7,6),4),IF(AJ7<>"",ROUND(ROUND($J7,4)*ROUND(AJ7,10)*ROUND(表四!O7,6),4),"")),"")) -> 1.2948 | AQ7: =IF(AH7="CO2",1,IF(AH7="CH4",30,IF(AH7="N2O",265,""))) -> 265 | AR7: =IF(AP7<>"",ROUND(AP7*AQ7,4),"") -> 343.122 | AS7: =IF(表三!J7="是",IF(L7="CO2",SUM(AG7,AR7),SUM(V7,AG7,AR7)),IF(SUM(V7,AG7,AR7)<>0,SUM(V7,AG7,AR7),"")) -> 167572.12 | AT7: =IF(表三!J7="是",IF(L7="CO2",V7,""),"") | AU7: =IF(AS7<>"",AS7/表八!$J$8,"") -> 0.30545683 | AV7: =VLOOKUP(E7,附表二!$A:$G,3,FALSE) -> #N/A | AW7: =H7&L7&G7 -> 範疇1CO2否 | AX7: =H7&L7 -> 範疇1CO2 | AY7: =H7&W7 -> 範疇1CH4 | AZ7: =H7&AH7 -> 範疇1N2O | BA7: =H7&I7 -> 範疇1固定 (E) | BB7: =H7&I7 -> 範疇1固定 (E) | BC7: =H7&I7 -> 範疇1固定 (E) | BD7: =H7&L7&I7&G7 -> 範疇1CO2固定 (E)否 | BE7: =IFERROR(ABS(AS7),"") -> 167572.12
A8: =IF(表三!A8<>"",表三!A8,"") -> M02 | B8: =IF(表三!C8<>"",表三!C8,"") -> 鍋爐發電程序 | C8: =IF(表三!D8<>"",表三!D8,"") -> E213 | D8: =IF(表三!F8<>"",表三!F8,"") -> 燃氣鍋爐 | E8: =IF(表三!H8<>"",表三!H8,"") -> 050002 | F8: =IF(表三!I8<>"",表三!I8,"") -> 天然氣 | G8: =IF(表三!J8<>"",表三!J8,"") -> 否 | H8: =IF(表三!K8<>"",表三!K8,"") -> 範疇1 | I8: =IF(表三!P8<>"",表三!P8,"") -> 固定 (E) | J8: =IF(表四!N8<>"",ROUND(表四!N8,4),"") -> 3252.12 | K8: =IF(表四!Q8<>"",表四!Q8,IF(表四!P8<>"",表四!P8,"")) -> 千立方公尺 | L8: =IF(表三!BJ8<>"",IF(表三!BJ8<>0,表三!BJ8,""),"") -> CO2 | M8: 預設 | N8: =IF(H8&I8&E8="範疇2外購電力350099",IF(M8="預設",VLOOKUP(表一!$B$5,附表一!$G$186:$T$211,14,0),""),IF(M8="預設",VLOOKUP(H8&I8&L8&E8,附表一!$F$5:$U$178,16,0),"")) -> 1.8790358 | O8: =IF(H8&I8="範疇2外購電力",IF(M8="預設",VLOOKUP(表一!$B$5,附表一!$G$186:$X$210,18,0),""),IF(M8="預設",VLOOKUP(H8&I8&L8&E8,附表一!$F$5:$Y$175,20,0),"")) -> 能源局公告熱值 | R8: =IF(N8&P8<>"",IF(表四!$Q8<>"","公噸/"&表四!$Q8,IF(表四!$P8<>"","公噸/"&表四!$P8,"")),"") -> 公噸/千立方公尺 | S8: 5國家排放係數 | T8: =IF(表四!O8="",IF($J8<>"",IF(P8<>"",ROUND(ROUND(P8,10)*ROUND($J8,4),4),IF(N8<>"",ROUND(ROUND($J8,4)*ROUND(N8,10),4),"")),""),IF($J8<>"",IF(P8<>"",ROUND(ROUND(P8,10)*ROUND($J8,4)*ROUND(表四!O8,6),4),IF(N8<>"",ROUND(ROUND($J8,4)*ROUND(N8,10)*ROUND(表四!O8,6),4),"")),"")) -> 6110.85 | U8: =IF(L8="CO2",1,IF(L8="SF6",23500,IF(L8="CH4",30,IF(L8="N2O",265,IF(L8="HFCS",AV8,IF(L8="PFCs",AV8,IF(L8="NF3",16100,""))))))) -> 1 | V8: =IF(T8<>"",ROUND(T8*U8,4),"") -> 6110.85 | W8: =IF(表三!BK8<>"",IF(表三!BK8<>0,表三!BK8,""),"") -> CH4 | X8: 預設 | Y8: =IF(H8&I8="範疇2外購電力",IF(X8="預設",VLOOKUP(表一!$B$5,附表一!$G$186:$T$210,14,0),""),IF(X8="預設",VLOOKUP(H8&I8&W8&E8,附表一!$F$5:$U$175,16,0),"")) -> 3.34944e-05 | Z8: =IF(H8&I8="範疇2外購電力",IF(X8="預設",VLOOKUP(表一!$B$5,附表一!$G$186:$X$210,18,0),""),IF(X8="預設",VLOOKUP(H8&I8&W8&E8,附表一!$F$5:$Y$175,20,0),"")) -> 能源局公告熱值 | AC8: =IF(Y8&AA8<>"",IF(表四!$Q8<>"","公噸/"&表四!$Q8,IF(表四!$P8<>"","公噸/"&表四!$P8,"")),"") -> 公噸/千立方公尺 | AD8: 5國家排放係數 | AE8: =IF(表四!O8="",IF($J8<>"",IF(AA8<>"",ROUND(ROUND(AA8,10)*ROUND($J8,4),4),IF(Y8<>"",ROUND(ROUND($J8,4)*ROUND(Y8,10),4),"")),""),IF($J8<>"",IF(AA8<>"",ROUND(ROUND(AA8,10)*ROUND($J8,4)*ROUND(表四!O8,6),4),IF(Y8<>"",ROUND(ROUND($J8,4)*ROUND(Y8,10)*ROUND(表四!O8,6),4),"")),"")) -> 0.1089 | AF8: =IF(W8="CO2",1,IF(W8="CH4",30,IF(W8="N2O",265,IF(W8="NF3",16100,"")))) -> 30 | AG8: =IF(AE8<>"",ROUND(AE8*AF8,4),"") -> 3.267 | AH8: =IF(表三!BL8<>"",IF(表三!BL8<>0,表三!BL8,""),"") -> N2O | AI8: 預設 | AJ8: =IF(H8&I8="範疇2外購電力",IF(AI8="預設",VLOOKUP(表一!$B$5,附表一!$G$186:$T$210,14,0),""),IF(AI8="預設",VLOOKUP(H8&I8&AH8&E8,附表一!$F$5:$U$175,16,0),"")) -> 3.34944e-06 | AK8: =IF(H8&I8="範疇2外購電力",IF(AI8="預設",VLOOKUP(表一!$B$5,附表一!$G$186:$X$210,18,0),""),IF(AI8="預設",VLOOKUP(H8&I8&AH8&E8,附表一!$F$5:$Y$175,20,0),"")) -> 能源局公告熱值 | AN8: =IF(AJ8&AL8<>"",IF(表四!$Q8<>"","公噸/"&表四!$Q8,IF(表四!$P8<>"","公噸/"&表四!$P8,"")),"") -> 公噸/千立方公尺 | AO8: 5國家排放係數 | AP8: =IF(表四!O8="",IF($J8<>"",IF(AL8<>"",ROUND(ROUND(AL8,10)*ROUND($J8,4),4),IF(AJ8<>"",ROUND(ROUND($J8,4)*ROUND(AJ8,10),4),"")),""),IF($J8<>"",IF(AL8<>"",ROUND(ROUND(AL8,10)*ROUND($J8,4)*ROUND(表四!O8,6),4),IF(AJ8<>"",ROUND(ROUND($J8,4)*ROUND(AJ8,10)*ROUND(表四!O8,6),4),"")),"")) -> 0.0109 | AQ8: =IF(AH8="CO2",1,IF(AH8="CH4",30,IF(AH8="N2O",265,""))) -> 265 | AR8: =IF(AP8<>"",ROUND(AP8*AQ8,4),"") -> 2.8885 | AS8: =IF(表三!J8="是",IF(L8="CO2",SUM(AG8,AR8),SUM(V8,AG8,AR8)),IF(SUM(V8,AG8,AR8)<>0,SUM(V8,AG8,AR8),"")) -> 6117.0055 | AT8: =IF(表三!J8="是",IF(L8="CO2",V8,""),"") | AU8: =IF(AS8<>"",AS8/表八!$J$8,"") -> 0.011150311 | AV8: =VLOOKUP(E8,附表二!$A:$G,3,FALSE) -> #N/A | AW8: =H8&L8&G8 -> 範疇1CO2否 | AX8: =H8&L8 -> 範疇1CO2 | AY8: =H8&W8 -> 範疇1CH4 | AZ8: =H8&AH8 -> 範疇1N2O | BA8: =H8&I8 -> 範疇1固定 (E) | BB8: =H8&I8 -> 範疇1固定 (E) | BC8: =H8&I8 -> 範疇1固定 (E) | BD8: =H8&L8&I8&G8 -> 範疇1CO2固定 (E)否 | BE8: =IFERROR(ABS(AS8),"") -> 6117.0055
A9: =IF(表三!A9<>"",表三!A9,"") -> G04 | B9: =IF(表三!C9<>"",表三!C9,"") -> 交通運輸活動 | C9: =IF(表三!D9<>"",表三!D9,"") -> GV01 | D9: =IF(表三!F9<>"",表三!F9,"") -> 汽油引擎 | E9: =IF(表三!H9<>"",表三!H9,"") -> 170001 | F9: =IF(表三!I9<>"",表三!I9,"") -> 車用汽油 | G9: =IF(表三!J9<>"",表三!J9,"") -> 否 | H9: =IF(表三!K9<>"",表三!K9,"") -> 範疇1 | I9: =IF(表三!P9<>"",表三!P9,"") -> 移動 (T) | J9: =IF(表四!N9<>"",ROUND(表四!N9,4),"") -> 523 | K9: =IF(表四!Q9<>"",表四!Q9,IF(表四!P9<>"",表四!P9,"")) -> 公秉 | L9: =IF(表三!BJ9<>"",IF(表三!BJ9<>0,表三!BJ9,""),"") -> CO2 | M9: 預設 | N9: =IF(H9&I9&E9="範疇2外購電力350099",IF(M9="預設",VLOOKUP(表一!$B$5,附表一!$G$186:$T$211,14,0),""),IF(M9="預設",VLOOKUP(H9&I9&L9&E9,附表一!$F$5:$U$178,16,0),"")) -> 2.2631329 | O9: =IF(H9&I9="範疇2外購電力",IF(M9="預設",VLOOKUP(表一!$B$5,附表一!$G$186:$X$210,18,0),""),IF(M9="預設",VLOOKUP(H9&I9&L9&E9,附表一!$F$5:$Y$175,20,0),"")) -> 能源局公告熱值 | R9: =IF(N9&P9<>"",IF(表四!$Q9<>"","公噸/"&表四!$Q9,IF(表四!$P9<>"","公噸/"&表四!$P9,"")),"") -> 公噸/公秉 | S9: 5國家排放係數 | T9: =IF(表四!O9="",IF($J9<>"",IF(P9<>"",ROUND(ROUND(P9,10)*ROUND($J9,4),4),IF(N9<>"",ROUND(ROUND($J9,4)*ROUND(N9,10),4),"")),""),IF($J9<>"",IF(P9<>"",ROUND(ROUND(P9,10)*ROUND($J9,4)*ROUND(表四!O9,6),4),IF(N9<>"",ROUND(ROUND($J9,4)*ROUND(N9,10)*ROUND(表四!O9,6),4),"")),"")) -> 1183.6185 | U9: =IF(L9="CO2",1,IF(L9="SF6",23500,IF(L9="CH4",30,IF(L9="N2O",265,IF(L9="HFCS",AV9,IF(L9="PFCs",AV9,IF(L9="NF3",16100,""))))))) -> 1 | V9: =IF(T9<>"",ROUND(T9*U9,4),"") -> 1183.6185 | W9: =IF(表三!BK9<>"",IF(表三!BK9<>0,表三!BK9,""),"") -> CH4 | X9: 預設 | Y9: =IF(H9&I9="範疇2外購電力",IF(X9="預設",VLOOKUP(表一!$B$5,附表一!$G$186:$T$210,14,0),""),IF(X9="預設",VLOOKUP(H9&I9&W9&E9,附表一!$F$5:$U$175,16,0),"")) -> 0.000816426 | Z9: =IF(H9&I9="範疇2外購電力",IF(X9="預設",VLOOKUP(表一!$B$5,附表一!$G$186:$X$210,18,0),""),IF(X9="預設",VLOOKUP(H9&I9&W9&E9,附表一!$F$5:$Y$175,20,0),"")) -> 能源局公告熱值 | AC9: =IF(Y9&AA9<>"",IF(表四!$Q9<>"","公噸/"&表四!$Q9,IF(表四!$P9<>"","公噸/"&表四!$P9,"")),"") -> 公噸/公秉 | AD9: 5國家排放係數 | AE9: =IF(表四!O9="",IF($J9<>"",IF(AA9<>"",ROUND(ROUND(AA9,10)*ROUND($J9,4),4),IF(Y9<>"",ROUND(ROUND($J9,4)*ROUND(Y9,10),4),"")),""),IF($J9<>"",IF(AA9<>"",ROUND(ROUND(AA9,10)*ROUND($J9,4)*ROUND(表四!O9,6),4),IF(Y9<>"",ROUND(ROUND($J9,4)*ROUND(Y9,10)*ROUND(表四!O9,6),4),"")),"")) -> 0.427 | AF9: =IF(W9="CO2",1,IF(W9="CH4",30,IF(W9="N2O",265,IF(W9="NF3",16100,"")))) -> 30 | AG9: =IF(AE9<>"",ROUND(AE9*AF9,4),"") -> 12.81 | AH9: =IF(表三!BL9<>"",IF(表三!BL9<>0,表三!BL9,""),"") -> N2O | AI9: 預設 | AJ9: =IF(H9&I9="範疇2外購電力",IF(AI9="預設",VLOOKUP(表一!$B$5,附表一!$G$186:$T$210,14,0),""),IF(AI9="預設",VLOOKUP(H9&I9&AH9&E9,附表一!$F$5:$U$175,16,0),"")) -> 0.00026125632 | AK9: =IF(H9&I9="範疇2外購電力",IF(AI9="預設",VLOOKUP(表一!$B$5,附表一!$G$186:$X$210,18,0),""),IF(AI9="預設",VLOOKUP(H9&I9&AH9&E9,附表一!$F$5:$Y$175,20,0),"")) -> 能源局公告熱值 | AN9: =IF(AJ9&AL9<>"",IF(表四!$Q9<>"","公噸/"&表四!$Q9,IF(表四!$P9<>"","公噸/"&表四!$P9,"")),"") -> 公噸/公秉 | AO9: 5國家排放係數 | AP9: =IF(表四!O9="",IF($J9<>"",IF(AL9<>"",ROUND(ROUND(AL9,10)*ROUND($J9,4),4),IF(AJ9<>"",ROUND(ROUND($J9,4)*ROUND(AJ9,10),4),"")),""),IF($J9<>"",IF(AL9<>"",ROUND(ROUND(AL9,10)*ROUND($J9,4)*ROUND(表四!O9,6),4),IF(AJ9<>"",ROUND(ROUND($J9,4)*ROUND(AJ9,10)*ROUND(表四!O9,6),4),"")),"")) -> 0.1366 | AQ9: =IF(AH9="CO2",1,IF(AH9="CH4",30,IF(AH9="N2O",265,""))) -> 265 | AR9: =IF(AP9<>"",ROUND(AP9*AQ9,4),"") -> 36.199 | AS9: =IF(表三!J9="是",IF(L9="CO2",SUM(AG9,AR9),SUM(V9,AG9,AR9)),IF(SUM(V9,AG9,AR9)<>0,SUM(V9,AG9,AR9),"")) -> 1232.6275 | AT9: =IF(表三!J9="是",IF(L9="CO2",V9,""),"") | AU9: =IF(AS9<>"",AS9/表八!$J$8,"") -> 0.0022468803 | AV9: =VLOOKUP(E9,附表二!$A:$G,3,FALSE) -> #N/A | AW9: =H9&L9&G9 -> 範疇1CO2否 | AX9: =H9&L9 -> 範疇1CO2 | AY9: =H9&W9 -> 範疇1CH4 | AZ9: =H9&AH9 -> 範疇1N2O | BA9: =H9&I9 -> 範疇1移動 (T) | BB9: =H9&I9 -> 範疇1移動 (T) | BC9: =H9&I9 -> 範疇1移動 (T) | BD9: =H9&L9&I9&G9 -> 範疇1CO2移動 (T)否 | BE9: =IFERROR(ABS(AS9),"") -> 1232.6275
A10: =IF(表三!A10<>"",表三!A10,"") -> G04 | B10: =IF(表三!C10<>"",表三!C10,"") -> 交通運輸活動 | C10: =IF(表三!D10<>"",表三!D10,"") -> GV02 | D10: =IF(表三!F10<>"",表三!F10,"") -> 汽油引擎 | E10: =IF(表三!H10<>"",表三!H10,"") -> 170001 | F10: =IF(表三!I10<>"",表三!I10,"") -> 車用汽油 | G10: =IF(表三!J10<>"",表三!J10,"") -> 否 | H10: =IF(表三!K10<>"",表三!K10,"") -> 範疇1 | I10: =IF(表三!P10<>"",表三!P10,"") -> 移動 (T) | J10: =IF(表四!N10<>"",ROUND(表四!N10,4),"") -> 1532 | K10: =IF(表四!Q10<>"",表四!Q10,IF(表四!P10<>"",表四!P10,"")) -> 公秉 | L10: =IF(表三!BJ10<>"",IF(表三!BJ10<>0,表三!BJ10,""),"") -> CO2 | M10: 預設 | N10: =IF(H10&I10&E10="範疇2外購電力350099",IF(M10="預設",VLOOKUP(表一!$B$5,附表一!$G$186:$T$211,14,0),""),IF(M10="預設",VLOOKUP(H10&I10&L10&E10,附表一!$F$5:$U$178,16,0),"")) -> 2.2631329 | O10: =IF(H10&I10="範疇2外購電力",IF(M10="預設",VLOOKUP(表一!$B$5,附表一!$G$186:$X$210,18,0),""),IF(M10="預設",VLOOKUP(H10&I10&L10&E10,附表一!$F$5:$Y$175,20,0),"")) -> 能源局公告熱值 | R10: =IF(N10&P10<>"",IF(表四!$Q10<>"","公噸/"&表四!$Q10,IF(表四!$P10<>"","公噸/"&表四!$P10,"")),"") -> 公噸/公秉 | S10: 1自廠發展係數/質量平衡所得係數 | T10: =IF(表四!O10="",IF($J10<>"",IF(P10<>"",ROUND(ROUND(P10,10)*ROUND($J10,4),4),IF(N10<>"",ROUND(ROUND($J10,4)*ROUND(N10,10),4),"")),""),IF($J10<>"",IF(P10<>"",ROUND(ROUND(P10,10)*ROUND($J10,4)*ROUND(表四!O10,6),4),IF(N10<>"",ROUND(ROUND($J10,4)*ROUND(N10,10)*ROUND(表四!O10,6),4),"")),"")) -> 3467.1196 | U10: =IF(L10="CO2",1,IF(L10="SF6",23500,IF(L10="CH4",30,IF(L10="N2O",265,IF(L10="HFCS",AV10,IF(L10="PFCs",AV10,IF(L10="NF3",16100,""))))))) -> 1 | V10: =IF(T10<>"",ROUND(T10*U10,4),"") -> 3467.1196 | W10: =IF(表三!BK10<>"",IF(表三!BK10<>0,表三!BK10,""),"") -> CH4 | X10: 預設 | Y10: =IF(H10&I10="範疇2外購電力",IF(X10="預設",VLOOKUP(表一!$B$5,附表一!$G$186:$T$210,14,0),""),IF(X10="預設",VLOOKUP(H10&I10&W10&E10,附表一!$F$5:$U$175,16,0),"")) -> 0.000816426 | Z10: =IF(H10&I10="範疇2外購電力",IF(X10="預設",VLOOKUP(表一!$B$5,附表一!$G$186:$X$210,18,0),""),IF(X10="預設",VLOOKUP(H10&I10&W10&E10,附表一!$F$5:$Y$175,20,0),"")) -> 能源局公告熱值 | AC10: =IF(Y10&AA10<>"",IF(表四!$Q10<>"","公噸/"&表四!$Q10,IF(表四!$P10<>"","公噸/"&表四!$P10,"")),"") -> 公噸/公秉 | AD10: 1自廠發展係數/質量平衡所得係數 | AE10: =IF(表四!O10="",IF($J10<>"",IF(AA10<>"",ROUND(ROUND(AA10,10)*ROUND($J10,4),4),IF(Y10<>"",ROUND(ROUND($J10,4)*ROUND(Y10,10),4),"")),""),IF($J10<>"",IF(AA10<>"",ROUND(ROUND(AA10,10)*ROUND($J10,4)*ROUND(表四!O10,6),4),IF(Y10<>"",ROUND(ROUND($J10,4)*ROUND(Y10,10)*ROUND(表四!O10,6),4),"")),"")) -> 1.2508 | AF10: =IF(W10="CO2",1,IF(W10="CH4",30,IF(W10="N2O",265,IF(W10="NF3",16100,"")))) -> 30 | AG10: =IF(AE10<>"",ROUND(AE10*AF10,4),"") -> 37.524 | AH10: =IF(表三!BL10<>"",IF(表三!BL10<>0,表三!BL10,""),"") -> N2O | AI10: 預設 | AJ10: =IF(H10&I10="範疇2外購電力",IF(AI10="預設",VLOOKUP(表一!$B$5,附表一!$G$186:$T$210,14,0),""),IF(AI10="預設",VLOOKUP(H10&I10&AH10&E10,附表一!$F$5:$U$175,16,0),"")) -> 0.00026125632 | AK10: =IF(H10&I10="範疇2外購電力",IF(AI10="預設",VLOOKUP(表一!$B$5,附表一!$G$186:$X$210,18,0),""),IF(AI10="預設",VLOOKUP(H10&I10&AH10&E10,附表一!$F$5:$Y$175,20,0),"")) -> 能源局公告熱值 | AN10: =IF(AJ10&AL10<>"",IF(表四!$Q10<>"","公噸/"&表四!$Q10,IF(表四!$P10<>"","公噸/"&表四!$P10,"")),"") -> 公噸/公秉 | AO10: 1自廠發展係數/質量平衡所得係數 | AP10: =IF(表四!O10="",IF($J10<>"",IF(AL10<>"",ROUND(ROUND(AL10,10)*ROUND($J10,4),4),IF(AJ10<>"",ROUND(ROUND($J10,4)*ROUND(AJ10,10),4),"")),""),IF($J10<>"",IF(AL10<>"",ROUND(ROUND(AL10,10)*ROUND($J10,4)*ROUND(表四!O10,6),4),IF(AJ10<>"",ROUND(ROUND($J10,4)*ROUND(AJ10,10)*ROUND(表四!O10,6),4),"")),"")) -> 0.4002 | AQ10: =IF(AH10="CO2",1,IF(AH10="CH4",30,IF(AH10="N2O",265,""))) -> 265 | AR10: =IF(AP10<>"",ROUND(AP10*AQ10,4),"") -> 106.053 | AS10: =IF(表三!J10="是",IF(L10="CO2",SUM(AG10,AR10),SUM(V10,AG10,AR10)),IF(SUM(V10,AG10,AR10)<>0,SUM(V10,AG10,AR10),"")) -> 3610.6966 | AT10: =IF(表三!J10="是",IF(L10="CO2",V10,""),"") | AU10: =IF(AS10<>"",AS10/表八!$J$8,"") -> 0.0065817152 | AV10: =VLOOKUP(E10,附表二!$A:$G,3,FALSE) -> #N/A | AW10: =H10&L10&G10 -> 範疇1CO2否 | AX10: =H10&L10 -> 範疇1CO2 | AY10: =H10&W10 -> 範疇1CH4 | AZ10: =H10&AH10 -> 範疇1N2O | BA10: =H10&I10 -> 範疇1移動 (T) | BB10: =H10&I10 -> 範疇1移動 (T) | BC10: =H10&I10 -> 範疇1移動 (T) | BD10: =H10&L10&I10&G10 -> 範疇1CO2移動 (T)否 | BE10: =IFERROR(ABS(AS10),"") -> 3610.6966
A11: =IF(表三!A11<>"",表三!A11,"") -> G03 | B11: =IF(表三!C11<>"",表三!C11,"") -> 消防活動 | C11: =IF(表三!D11<>"",表三!D11,"") -> GF01 | D11: =IF(表三!F11<>"",表三!F11,"") -> 消防設施 | E11: =IF(表三!H11<>"",表三!H11,"") -> 180014 | F11: =IF(表三!I11<>"",表三!I11,"") -> 二氧化碳 | G11: =IF(表三!J11<>"",表三!J11,"") -> 否 | H11: =IF(表三!K11<>"",表三!K11,"") -> 範疇1 | I11: =IF(表三!P11<>"",表三!P11,"") -> 逸散 (F) | J11: =IF(表四!N11<>"",ROUND(表四!N11,4),"") -> 10 | K11: =IF(表四!Q11<>"",表四!Q11,IF(表四!P11<>"",表四!P11,"")) -> 公斤 | L11: =IF(表三!BJ11<>"",IF(表三!BJ11<>0,表三!BJ11,""),"") -> CO2 | M11: 自訂 | N11: =IF(H11&I11&E11="範疇2外購電力350099",IF(M11="預設",VLOOKUP(表一!$B$5,附表一!$G$186:$T$211,14,0),""),IF(M11="預設",VLOOKUP(H11&I11&L11&E11,附表一!$F$5:$U$178,16,0),"")) | O11: =IF(H11&I11="範疇2外購電力",IF(M11="預設",VLOOKUP(表一!$B$5,附表一!$G$186:$X$210,18,0),""),IF(M11="預設",VLOOKUP(H11&I11&L11&E11,附表一!$F$5:$Y$175,20,0),"")) | P11: 0.001 | R11: =IF(N11&P11<>"",IF(表四!$Q11<>"","公噸/"&表四!$Q11,IF(表四!$P11<>"","公噸/"&表四!$P11,"")),"") -> 公噸/公斤 | S11: 5國家排放係數 | T11: =IF(表四!O11="",IF($J11<>"",IF(P11<>"",ROUND(ROUND(P11,10)*ROUND($J11,4),4),IF(N11<>"",ROUND(ROUND($J11,4)*ROUND(N11,10),4),"")),""),IF($J11<>"",IF(P11<>"",ROUND(ROUND(P11,10)*ROUND($J11,4)*ROUND(表四!O11,6),4),IF(N11<>"",ROUND(ROUND($J11,4)*ROUND(N11,10)*ROUND(表四!O11,6),4),"")),"")) -> 0.01 | U11: =IF(L11="CO2",1,IF(L11="SF6",23500,IF(L11="CH4",30,IF(L11="N2O",265,IF(L11="HFCS",AV11,IF(L11="PFCs",AV11,IF(L11="NF3",16100,""))))))) -> 1 | V11: =IF(T11<>"",ROUND(T11*U11,4),"") -> 0.01 | W11: =IF(表三!BK11<>"",IF(表三!BK11<>0,表三!BK11,""),"") | Y11: =IF(H11&I11="範疇2外購電力",IF(X11="預設",VLOOKUP(表一!$B$5,附表一!$G$186:$T$210,14,0),""),IF(X11="預設",VLOOKUP(H11&I11&W11&E11,附表一!$F$5:$U$175,16,0),"")) | Z11: =IF(H11&I11="範疇2外購電力",IF(X11="預設",VLOOKUP(表一!$B$5,附表一!$G$186:$X$210,18,0),""),IF(X11="預設",VLOOKUP(H11&I11&W11&E11,附表一!$F$5:$Y$175,20,0),"")) | AC11: =IF(Y11&AA11<>"",IF(表四!$Q11<>"","公噸/"&表四!$Q11,IF(表四!$P11<>"","公噸/"&表四!$P11,"")),"") | AE11: =IF(表四!O11="",IF($J11<>"",IF(AA11<>"",ROUND(ROUND(AA11,10)*ROUND($J11,4),4),IF(Y11<>"",ROUND(ROUND($J11,4)*ROUND(Y11,10),4),"")),""),IF($J11<>"",IF(AA11<>"",ROUND(ROUND(AA11,10)*ROUND($J11,4)*ROUND(表四!O11,6),4),IF(Y11<>"",ROUND(ROUND($J11,4)*ROUND(Y11,10)*ROUND(表四!O11,6),4),"")),"")) | AF11: =IF(W11="CO2",1,IF(W11="CH4",30,IF(W11="N2O",265,IF(W11="NF3",16100,"")))) | AG11: =IF(AE11<>"",ROUND(AE11*AF11,4),"") | AH11: =IF(表三!BL11<>"",IF(表三!BL11<>0,表三!BL11,""),"") | AJ11: =IF(H11&I11="範疇2外購電力",IF(AI11="預設",VLOOKUP(表一!$B$5,附表一!$G$186:$T$210,14,0),""),IF(AI11="預設",VLOOKUP(H11&I11&AH11&E11,附表一!$F$5:$U$175,16,0),"")) | AK11: =IF(H11&I11="範疇2外購電力",IF(AI11="預設",VLOOKUP(表一!$B$5,附表一!$G$186:$X$210,18,0),""),IF(AI11="預設",VLOOKUP(H11&I11&AH11&E11,附表一!$F$5:$Y$175,20,0),"")) | AN11: =IF(AJ11&AL11<>"",IF(表四!$Q11<>"","公噸/"&表四!$Q11,IF(表四!$P11<>"","公噸/"&表四!$P11,"")),"") | AP11: =IF(表四!O11="",IF($J11<>"",IF(AL11<>"",ROUND(ROUND(AL11,10)*ROUND($J11,4),4),IF(AJ11<>"",ROUND(ROUND($J11,4)*ROUND(AJ11,10),4),"")),""),IF($J11<>"",IF(AL11<>"",ROUND(ROUND(AL11,10)*ROUND($J11,4)*ROUND(表四!O11,6),4),IF(AJ11<>"",ROUND(ROUND($J11,4)*ROUND(AJ11,10)*ROUND(表四!O11,6),4),"")),"")) | AQ11: =IF(AH11="CO2",1,IF(AH11="CH4",30,IF(AH11="N2O",265,""))) | AR11: =IF(AP11<>"",ROUND(AP11*AQ11,4),"") | AS11: =IF(表三!J11="是",IF(L11="CO2",SUM(AG11,AR11),SUM(V11,AG11,AR11)),IF(SUM(V11,AG11,AR11)<>0,SUM(V11,AG11,AR11),"")) -> 0.01 | AT11: =IF(表三!J11="是",IF(L11="CO2",V11,""),"") | AU11: =IF(AS11<>"",AS11/表八!$J$8,"") -> 1.8228381e-08 | AV11: =VLOOKUP(E11,附表二!$A:$G,3,FALSE) -> 1 | AW11: =H11&L11&G11 -> 範疇1CO2否 | AX11: =H11&L11 -> 範疇1CO2 | AY11: =H11&W11 -> 範疇1 | AZ11: =H11&AH11 -> 範疇1 | BA11: =H11&I11 -> 範疇1逸散 (F) | BB11: =H11&I11 -> 範疇1逸散 (F) | BC11: =H11&I11 -> 範疇1逸散 (F) | BD11: =H11&L11&I11&G11 -> 範疇1CO2逸散 (F)否 | BE11: =IFERROR(ABS(AS11),"") -> 0.01
A12: =IF(表三!A12<>"",表三!A12,"") -> G05 | B12: =IF(表三!C12<>"",表三!C12,"") -> 其他廢水處理程序 | C12: =IF(表三!D12<>"",表三!D12,"") -> GF01 | D12: =IF(表三!F12<>"",表三!F12,"") -> 化糞池 | E12: =IF(表三!H12<>"",表三!H12,"") -> GG3805 | F12: =IF(表三!I12<>"",表三!I12,"") -> 廢水處理(BOD) | G12: =IF(表三!J12<>"",表三!J12,"") -> 否 | H12: =IF(表三!K12<>"",表三!K12,"") -> 範疇1 | I12: =IF(表三!P12<>"",表三!P12,"") -> 逸散 (F) | J12: =IF(表四!N12<>"",ROUND(表四!N12,4),"") -> 12683 | K12: =IF(表四!Q12<>"",表四!Q12,IF(表四!P12<>"",表四!P12,"")) -> 人天 | L12: =IF(表三!BJ12<>"",IF(表三!BJ12<>0,表三!BJ12,""),"") -> CH4 | M12: 自訂 | N12: =IF(H12&I12&E12="範疇2外購電力350099",IF(M12="預設",VLOOKUP(表一!$B$5,附表一!$G$186:$T$211,14,0),""),IF(M12="預設",VLOOKUP(H12&I12&L12&E12,附表一!$F$5:$U$178,16,0),"")) | O12: =IF(H12&I12="範疇2外購電力",IF(M12="預設",VLOOKUP(表一!$B$5,附表一!$G$186:$X$210,18,0),""),IF(M12="預設",VLOOKUP(H12&I12&L12&E12,附表一!$F$5:$Y$175,20,0),"")) | P12: 1.275e-05 | R12: =IF(N12&P12<>"",IF(表四!$Q12<>"","公噸/"&表四!$Q12,IF(表四!$P12<>"","公噸/"&表四!$P12,"")),"") -> 公噸/人天 | S12: 5國家排放係數 | T12: =IF(表四!O12="",IF($J12<>"",IF(P12<>"",ROUND(ROUND(P12,10)*ROUND($J12,4),4),IF(N12<>"",ROUND(ROUND($J12,4)*ROUND(N12,10),4),"")),""),IF($J12<>"",IF(P12<>"",ROUND(ROUND(P12,10)*ROUND($J12,4)*ROUND(表四!O12,6),4),IF(N12<>"",ROUND(ROUND($J12,4)*ROUND(N12,10)*ROUND(表四!O12,6),4),"")),"")) -> 0.1617 | U12: =IF(L12="CO2",1,IF(L12="SF6",23500,IF(L12="CH4",30,IF(L12="N2O",265,IF(L12="HFCS",AV12,IF(L12="PFCs",AV12,IF(L12="NF3",16100,""))))))) -> 30 | V12: =IF(T12<>"",ROUND(T12*U12,4),"") -> 4.851 | W12: =IF(表三!BK12<>"",IF(表三!BK12<>0,表三!BK12,""),"") | Y12: =IF(H12&I12="範疇2外購電力",IF(X12="預設",VLOOKUP(表一!$B$5,附表一!$G$186:$T$210,14,0),""),IF(X12="預設",VLOOKUP(H12&I12&W12&E12,附表一!$F$5:$U$175,16,0),"")) | Z12: =IF(H12&I12="範疇2外購電力",IF(X12="預設",VLOOKUP(表一!$B$5,附表一!$G$186:$X$210,18,0),""),IF(X12="預設",VLOOKUP(H12&I12&W12&E12,附表一!$F$5:$Y$175,20,0),"")) | AC12: =IF(Y12&AA12<>"",IF(表四!$Q12<>"","公噸/"&表四!$Q12,IF(表四!$P12<>"","公噸/"&表四!$P12,"")),"") | AE12: =IF(表四!O12="",IF($J12<>"",IF(AA12<>"",ROUND(ROUND(AA12,10)*ROUND($J12,4),4),IF(Y12<>"",ROUND(ROUND($J12,4)*ROUND(Y12,10),4),"")),""),IF($J12<>"",IF(AA12<>"",ROUND(ROUND(AA12,10)*ROUND($J12,4)*ROUND(表四!O12,6),4),IF(Y12<>"",ROUND(ROUND($J12,4)*ROUND(Y12,10)*ROUND(表四!O12,6),4),"")),"")) | AF12: =IF(W12="CO2",1,IF(W12="CH4",30,IF(W12="N2O",265,IF(W12="NF3",16100,"")))) | AG12: =IF(AE12<>"",ROUND(AE12*AF12,4),"") | AH12: =IF(表三!BL12<>"",IF(表三!BL12<>0,表三!BL12,""),"") | AJ12: =IF(H12&I12="範疇2外購電力",IF(AI12="預設",VLOOKUP(表一!$B$5,附表一!$G$186:$T$210,14,0),""),IF(AI12="預設",VLOOKUP(H12&I12&AH12&E12,附表一!$F$5:$U$175,16,0),"")) | AK12: =IF(H12&I12="範疇2外購電力",IF(AI12="預設",VLOOKUP(表一!$B$5,附表一!$G$186:$X$210,18,0),""),IF(AI12="預設",VLOOKUP(H12&I12&AH12&E12,附表一!$F$5:$Y$175,20,0),"")) | AN12: =IF(AJ12&AL12<>"",IF(表四!$Q12<>"","公噸/"&表四!$Q12,IF(表四!$P12<>"","公噸/"&表四!$P12,"")),"") | AP12: =IF(表四!O12="",IF($J12<>"",IF(AL12<>"",ROUND(ROUND(AL12,10)*ROUND($J12,4),4),IF(AJ12<>"",ROUND(ROUND($J12,4)*ROUND(AJ12,10),4),"")),""),IF($J12<>"",IF(AL12<>"",ROUND(ROUND(AL12,10)*ROUND($J12,4)*ROUND(表四!O12,6),4),IF(AJ12<>"",ROUND(ROUND($J12,4)*ROUND(AJ12,10)*ROUND(表四!O12,6),4),"")),"")) | AQ12: =IF(AH12="CO2",1,IF(AH12="CH4",30,IF(AH12="N2O",265,""))) | AR12: =IF(AP12<>"",ROUND(AP12*AQ12,4),"") | AS12: =IF(表三!J12="是",IF(L12="CO2",SUM(AG12,AR12),SUM(V12,AG12,AR12)),IF(SUM(V12,AG12,AR12)<>0,SUM(V12,AG12,AR12),"")) -> 4.851 | AT12: =IF(表三!J12="是",IF(L12="CO2",V12,""),"") | AU12: =IF(AS12<>"",AS12/表八!$J$8,"") -> 8.8425875e-06 | AV12: =VLOOKUP(E12,附表二!$A:$G,3,FALSE) -> #N/A | AW12: =H12&L12&G12 -> 範疇1CH4否 | AX12: =H12&L12 -> 範疇1CH4 | AY12: =H12&W12 -> 範疇1 | AZ12: =H12&AH12 -> 範疇1 | BA12: =H12&I12 -> 範疇1逸散 (F) | BB12: =H12&I12 -> 範疇1逸散 (F) | BC12: =H12&I12 -> 範疇1逸散 (F) | BD12: =H12&L12&I12&G12 -> 範疇1CH4逸散 (F)否 | BE12: =IFERROR(ABS(AS12),"") -> 4.851
A13: =IF(表三!A13<>"",表三!A13,"") -> G06 | B13: =IF(表三!C13<>"",表三!C13,"") -> 其他未分類製程 | C13: =IF(表三!D13<>"",表三!D13,"") -> GP01 | D13: =IF(表三!F13<>"",表三!F13,"") -> 其他未歸類設施 | E13: =IF(表三!H13<>"",表三!H13,"") -> 350099 | F13: =IF(表三!I13<>"",表三!I13,"") -> 其他電力 | G13: =IF(表三!J13<>"",表三!J13,"") -> 否 | H13: =IF(表三!K13<>"",表三!K13,"") -> 範疇2 | I13: =IF(表三!P13<>"",表三!P13,"") -> 外購電力 | J13: =IF(表四!N13<>"",ROUND(表四!N13,4),"") -> 721175.27 | K13: =IF(表四!Q13<>"",表四!Q13,IF(表四!P13<>"",表四!P13,"")) -> 千度 | L13: =IF(表三!BJ13<>"",IF(表三!BJ13<>0,表三!BJ13,""),"") -> CO2 | M13: 預設 | N13: =IF(H13&I13&E13="範疇2外購電力350099",IF(M13="預設",VLOOKUP(表一!$B$5,附表一!$G$186:$T$211,14,0),""),IF(M13="預設",VLOOKUP(H13&I13&L13&E13,附表一!$F$5:$U$178,16,0),"")) -> 0.502 | O13: =IF(H13&I13="範疇2外購電力",IF(M13="預設",VLOOKUP(表一!$B$5,附表一!$G$186:$X$210,18,0),""),IF(M13="預設",VLOOKUP(H13&I13&L13&E13,附表一!$F$5:$Y$175,20,0),"")) -> 能源局公告係數 | R13: =IF(N13&P13<>"",IF(表四!$Q13<>"","公噸/"&表四!$Q13,IF(表四!$P13<>"","公噸/"&表四!$P13,"")),"") -> 公噸/千度 | S13: 1自廠發展係數/質量平衡所得係數 | T13: =IF(表四!O13="",IF($J13<>"",IF(P13<>"",ROUND(ROUND(P13,10)*ROUND($J13,4),4),IF(N13<>"",ROUND(ROUND($J13,4)*ROUND(N13,10),4),"")),""),IF($J13<>"",IF(P13<>"",ROUND(ROUND(P13,10)*ROUND($J13,4)*ROUND(表四!O13,6),4),IF(N13<>"",ROUND(ROUND($J13,4)*ROUND(N13,10)*ROUND(表四!O13,6),4),"")),"")) -> 362029.98 | U13: =IF(L13="CO2",1,IF(L13="SF6",23500,IF(L13="CH4",30,IF(L13="N2O",265,IF(L13="HFCS",AV13,IF(L13="PFCs",AV13,IF(L13="NF3",16100,""))))))) -> 1 | V13: =IF(T13<>"",ROUND(T13*U13,4),"") -> 362029.98 | W13: =IF(表三!BK13<>"",IF(表三!BK13<>0,表三!BK13,""),"") | Y13: =IF(H13&I13="範疇2外購電力",IF(X13="預設",VLOOKUP(表一!$B$5,附表一!$G$186:$T$210,14,0),""),IF(X13="預設",VLOOKUP(H13&I13&W13&E13,附表一!$F$5:$U$175,16,0),"")) | Z13: =IF(H13&I13="範疇2外購電力",IF(X13="預設",VLOOKUP(表一!$B$5,附表一!$G$186:$X$210,18,0),""),IF(X13="預設",VLOOKUP(H13&I13&W13&E13,附表一!$F$5:$Y$175,20,0),"")) | AC13: =IF(Y13&AA13<>"",IF(表四!$Q13<>"","公噸/"&表四!$Q13,IF(表四!$P13<>"","公噸/"&表四!$P13,"")),"") | AE13: =IF(表四!O13="",IF($J13<>"",IF(AA13<>"",ROUND(ROUND(AA13,10)*ROUND($J13,4),4),IF(Y13<>"",ROUND(ROUND($J13,4)*ROUND(Y13,10),4),"")),""),IF($J13<>"",IF(AA13<>"",ROUND(ROUND(AA13,10)*ROUND($J13,4)*ROUND(表四!O13,6),4),IF(Y13<>"",ROUND(ROUND($J13,4)*ROUND(Y13,10)*ROUND(表四!O13,6),4),"")),"")) | AF13: =IF(W13="CO2",1,IF(W13="CH4",30,IF(W13="N2O",265,IF(W13="NF3",16100,"")))) | AG13: =IF(AE13<>"",ROUND(AE13*AF13,4),"") | AH13: =IF(表三!BL13<>"",IF(表三!BL13<>0,表三!BL13,""),"") | AJ13: =IF(H13&I13="範疇2外購電力",IF(AI13="預設",VLOOKUP(表一!$B$5,附表一!$G$186:$T$210,14,0),""),IF(AI13="預設",VLOOKUP(H13&I13&AH13&E13,附表一!$F$5:$U$175,16,0),"")) | AK13: =IF(H13&I13="範疇2外購電力",IF(AI13="預設",VLOOKUP(表一!$B$5,附表一!$G$186:$X$210,18,0),""),IF(AI13="預設",VLOOKUP(H13&I13&AH13&E13,附表一!$F$5:$Y$175,20,0),"")) | AN13: =IF(AJ13&AL13<>"",IF(表四!$Q13<>"","公噸/"&表四!$Q13,IF(表四!$P13<>"","公噸/"&表四!$P13,"")),"") | AP13: =IF(表四!O13="",IF($J13<>"",IF(AL13<>"",ROUND(ROUND(AL13,10)*ROUND($J13,4),4),IF(AJ13<>"",ROUND(ROUND($J13,4)*ROUND(AJ13,10),4),"")),""),IF($J13<>"",IF(AL13<>"",ROUND(ROUND(AL13,10)*ROUND($J13,4)*ROUND(表四!O13,6),4),IF(AJ13<>"",ROUND(ROUND($J13,4)*ROUND(AJ13,10)*ROUND(表四!O13,6),4),"")),"")) | AQ13: =IF(AH13="CO2",1,IF(AH13="CH4",30,IF(AH13="N2O",265,""))) | AR13: =IF(AP13<>"",ROUND(AP13*AQ13,4),"") | AS13: =IF(表三!J13="是",IF(L13="CO2",SUM(AG13,AR13),SUM(V13,AG13,AR13)),IF(SUM(V13,AG13,AR13)<>0,SUM(V13,AG13,AR13),"")) -> 362029.98 | AT13: =IF(表三!J13="是",IF(L13="CO2",V13,""),"") | AU13: =IF(AS13<>"",AS13/表八!$J$8,"") -> 0.65992204 | AV13: =VLOOKUP(E13,附表二!$A:$G,3,FALSE) -> #N/A | AW13: =H13&L13&G13 -> 範疇2CO2否 | AX13: =H13&L13 -> 範疇2CO2 | AY13: =H13&W13 -> 範疇2 | AZ13: =H13&AH13 -> 範疇2 | BA13: =H13&I13 -> 範疇2外購電力 | BB13: =H13&I13 -> 範疇2外購電力 | BC13: =H13&I13 -> 範疇2外購電力 | BD13: =H13&L13&I13&G13 -> 範疇2CO2外購電力否 | BE13: =IFERROR(ABS(AS13),"") -> 362029.98
A14: =IF(表三!A14<>"",表三!A14,"") -> G06 | B14: =IF(表三!C14<>"",表三!C14,"") -> 其他未分類製程 | C14: =IF(表三!D14<>"",表三!D14,"") -> GP02 | D14: =IF(表三!F14<>"",表三!F14,"") -> 其他未歸類設施 | E14: =IF(表三!H14<>"",表三!H14,"") -> GG3502 | F14: =IF(表三!I14<>"",表三!I14,"") -> REC登載電力使用-電證合一 | G14: =IF(表三!J14<>"",表三!J14,"") -> 否 | H14: =IF(表三!K14<>"",表三!K14,"") -> 範疇2 | I14: =IF(表三!P14<>"",表三!P14,"") -> 外購電力 | J14: =IF(表四!N14<>"",ROUND(表四!N14,4),"") -> 867307.49 | K14: =IF(表四!Q14<>"",表四!Q14,IF(表四!P14<>"",表四!P14,"")) -> 千度 | L14: =IF(表三!BJ14<>"",IF(表三!BJ14<>0,表三!BJ14,""),"") -> CO2 | M14: 預設 | N14: =IF(H14&I14&E14="範疇2外購電力350099",IF(M14="預設",VLOOKUP(表一!$B$5,附表一!$G$186:$T$211,14,0),""),IF(M14="預設",VLOOKUP(H14&I14&L14&E14,附表一!$F$5:$U$178,16,0),"")) -> 0 | O14: =IF(H14&I14="範疇2外購電力",IF(M14="預設",VLOOKUP(表一!$B$5,附表一!$G$186:$X$210,18,0),""),IF(M14="預設",VLOOKUP(H14&I14&L14&E14,附表一!$F$5:$Y$175,20,0),"")) -> 能源局公告係數 | R14: =IF(N14&P14<>"",IF(表四!$Q14<>"","公噸/"&表四!$Q14,IF(表四!$P14<>"","公噸/"&表四!$P14,"")),"") -> 公噸/千度 | S14: 1自廠發展係數/質量平衡所得係數 | T14: =IF(表四!O14="",IF($J14<>"",IF(P14<>"",ROUND(ROUND(P14,10)*ROUND($J14,4),4),IF(N14<>"",ROUND(ROUND($J14,4)*ROUND(N14,10),4),"")),""),IF($J14<>"",IF(P14<>"",ROUND(ROUND(P14,10)*ROUND($J14,4)*ROUND(表四!O14,6),4),IF(N14<>"",ROUND(ROUND($J14,4)*ROUND(N14,10)*ROUND(表四!O14,6),4),"")),"")) -> 0 | U14: =IF(L14="CO2",1,IF(L14="SF6",23500,IF(L14="CH4",30,IF(L14="N2O",265,IF(L14="HFCS",AV14,IF(L14="PFCs",AV14,IF(L14="NF3",16100,""))))))) -> 1 | V14: =IF(T14<>"",ROUND(T14*U14,4),"") -> 0 | W14: =IF(表三!BK14<>"",IF(表三!BK14<>0,表三!BK14,""),"") | Y14: =IF(H14&I14="範疇2外購電力",IF(X14="預設",VLOOKUP(表一!$B$5,附表一!$G$186:$T$210,14,0),""),IF(X14="預設",VLOOKUP(H14&I14&W14&E14,附表一!$F$5:$U$175,16,0),"")) | Z14: =IF(H14&I14="範疇2外購電力",IF(X14="預設",VLOOKUP(表一!$B$5,附表一!$G$186:$X$210,18,0),""),IF(X14="預設",VLOOKUP(H14&I14&W14&E14,附表一!$F$5:$Y$175,20,0),"")) | AC14: =IF(Y14&AA14<>"",IF(表四!$Q14<>"","公噸/"&表四!$Q14,IF(表四!$P14<>"","公噸/"&表四!$P14,"")),"") | AE14: =IF(表四!O14="",IF($J14<>"",IF(AA14<>"",ROUND(ROUND(AA14,10)*ROUND($J14,4),4),IF(Y14<>"",ROUND(ROUND($J14,4)*ROUND(Y14,10),4),"")),""),IF($J14<>"",IF(AA14<>"",ROUND(ROUND(AA14,10)*ROUND($J14,4)*ROUND(表四!O14,6),4),IF(Y14<>"",ROUND(ROUND($J14,4)*ROUND(Y14,10)*ROUND(表四!O14,6),4),"")),"")) | AF14: =IF(W14="CO2",1,IF(W14="CH4",30,IF(W14="N2O",265,IF(W14="NF3",16100,"")))) | AG14: =IF(AE14<>"",ROUND(AE14*AF14,4),"") | AH14: =IF(表三!BL14<>"",IF(表三!BL14<>0,表三!BL14,""),"") | AJ14: =IF(H14&I14="範疇2外購電力",IF(AI14="預設",VLOOKUP(表一!$B$5,附表一!$G$186:$T$210,14,0),""),IF(AI14="預設",VLOOKUP(H14&I14&AH14&E14,附表一!$F$5:$U$175,16,0),"")) | AK14: =IF(H14&I14="範疇2外購電力",IF(AI14="預設",VLOOKUP(表一!$B$5,附表一!$G$186:$X$210,18,0),""),IF(AI14="預設",VLOOKUP(H14&I14&AH14&E14,附表一!$F$5:$Y$175,20,0),"")) | AN14: =IF(AJ14&AL14<>"",IF(表四!$Q14<>"","公噸/"&表四!$Q14,IF(表四!$P14<>"","公噸/"&表四!$P14,"")),"") | AP14: =IF(表四!O14="",IF($J14<>"",IF(AL14<>"",ROUND(ROUND(AL14,10)*ROUND($J14,4),4),IF(AJ14<>"",ROUND(ROUND($J14,4)*ROUND(AJ14,10),4),"")),""),IF($J14<>"",IF(AL14<>"",ROUND(ROUND(AL14,10)*ROUND($J14,4)*ROUND(表四!O14,6),4),IF(AJ14<>"",ROUND(ROUND($J14,4)*ROUND(AJ14,10)*ROUND(表四!O14,6),4),"")),"")) | AQ14: =IF(AH14="CO2",1,IF(AH14="CH4",30,IF(AH14="N2O",265,""))) | AR14: =IF(AP14<>"",ROUND(AP14*AQ14,4),"") | AS14: =IF(表三!J14="是",IF(L14="CO2",SUM(AG14,AR14),SUM(V14,AG14,AR14)),IF(SUM(V14,AG14,AR14)<>0,SUM(V14,AG14,AR14),"")) | AT14: =IF(表三!J14="是",IF(L14="CO2",V14,""),"") | AU14: =IF(AS14<>"",AS14/表八!$J$8,"") | AV14: =VLOOKUP(E14,附表二!$A:$G,3,FALSE) -> #N/A | AW14: =H14&L14&G14 -> 範疇2CO2否 | AX14: =H14&L14 -> 範疇2CO2 | AY14: =H14&W14 -> 範疇2 | AZ14: =H14&AH14 -> 範疇2 | BA14: =H14&I14 -> 範疇2外購電力 | BB14: =H14&I14 -> 範疇2外購電力 | BC14: =H14&I14 -> 範疇2外購電力 | BD14: =H14&L14&I14&G14 -> 範疇2CO2外購電力否 | BE14: =IFERROR(ABS(AS14),"")
A15: =IF(表三!A15<>"",表三!A15,"") | B15: =IF(表三!C15<>"",表三!C15,"") | C15: =IF(表三!D15<>"",表三!D15,"") | D15: =IF(表三!F15<>"",表三!F15,"") | E15: =IF(表三!H15<>"",表三!H15,"") | F15: =IF(表三!I15<>"",表三!I15,"") | G15: =IF(表三!J15<>"",表三!J15,"") | H15: =IF(表三!K15<>"",表三!K15,"") | I15: =IF(表三!P15<>"",表三!P15,"") | J15: =IF(表四!N15<>"",ROUND(表四!N15,4),"") | K15: =IF(表四!Q15<>"",表四!Q15,IF(表四!P15<>"",表四!P15,"")) | L15: =IF(表三!BJ15<>"",IF(表三!BJ15<>0,表三!BJ15,""),"") | N15: =IF(H15&I15&E15="範疇2外購電力350099",IF(M15="預設",VLOOKUP(表一!$B$5,附表一!$G$186:$T$211,14,0),""),IF(M15="預設",VLOOKUP(H15&I15&L15&E15,附表一!$F$5:$U$178,16,0),"")) | O15: =IF(H15&I15="範疇2外購電力",IF(M15="預設",VLOOKUP(表一!$B$5,附表一!$G$186:$X$210,18,0),""),IF(M15="預設",VLOOKUP(H15&I15&L15&E15,附表一!$F$5:$Y$175,20,0),"")) | R15: =IF(N15&P15<>"",IF(表四!$Q15<>"","公噸/"&表四!$Q15,IF(表四!$P15<>"","公噸/"&表四!$P15,"")),"") | T15: =IF(表四!O16="",IF($J15<>"",IF(P15<>"",ROUND(ROUND(P15,10)*ROUND($J15,4),4),IF(N15<>"",ROUND(ROUND($J15,4)*ROUND(N15,10),4),"")),""),IF($J15<>"",IF(P15<>"",ROUND(ROUND(P15,10)*ROUND($J15,4)*ROUND(表四!O16,6),4),IF(N15<>"",ROUND(ROUND($J15,4)*ROUND(N15,10)*ROUND(表四!O16,6),4),"")),"")) | U15: =IF(L15="CO2",1,IF(L15="SF6",23500,IF(L15="CH4",30,IF(L15="N2O",265,IF(L15="HFCS",AV15,IF(L15="PFCs",AV15,IF(L15="NF3",16100,""))))))) | V15: =IF(T15<>"",ROUND(T15*U15,4),"") | W15: =IF(表三!BK15<>"",IF(表三!BK15<>0,表三!BK15,""),"") | Y15: =IF(H15&I15="範疇2外購電力",IF(X15="預設",VLOOKUP(表一!$B$5,附表一!$G$186:$T$210,14,0),""),IF(X15="預設",VLOOKUP(H15&I15&W15&E15,附表一!$F$5:$U$175,16,0),"")) | Z15: =IF(H15&I15="範疇2外購電力",IF(X15="預設",VLOOKUP(表一!$B$5,附表一!$G$186:$X$210,18,0),""),IF(X15="預設",VLOOKUP(H15&I15&W15&E15,附表一!$F$5:$Y$175,20,0),"")) | AC15: =IF(Y15&AA15<>"",IF(表四!$Q15<>"","公噸/"&表四!$Q15,IF(表四!$P15<>"","公噸/"&表四!$P15,"")),"") | AE15: =IF(表四!O15="",IF($J15<>"",IF(AA15<>"",ROUND(ROUND(AA15,10)*ROUND($J15,4),4),IF(Y15<>"",ROUND(ROUND($J15,4)*ROUND(Y15,10),4),"")),""),IF($J15<>"",IF(AA15<>"",ROUND(ROUND(AA15,10)*ROUND($J15,4)*ROUND(表四!O15,6),4),IF(Y15<>"",ROUND(ROUND($J15,4)*ROUND(Y15,10)*ROUND(表四!O15,6),4),"")),"")) | AF15: =IF(W15="CO2",1,IF(W15="CH4",30,IF(W15="N2O",265,IF(W15="NF3",16100,"")))) | AG15: =IF(AE15<>"",ROUND(AE15*AF15,4),"") | AH15: =IF(表三!BL15<>"",IF(表三!BL15<>0,表三!BL15,""),"") | AJ15: =IF(H15&I15="範疇2外購電力",IF(AI15="預設",VLOOKUP(表一!$B$5,附表一!$G$186:$T$210,14,0),""),IF(AI15="預設",VLOOKUP(H15&I15&AH15&E15,附表一!$F$5:$U$175,16,0),"")) | AK15: =IF(H15&I15="範疇2外購電力",IF(AI15="預設",VLOOKUP(表一!$B$5,附表一!$G$186:$X$210,18,0),""),IF(AI15="預設",VLOOKUP(H15&I15&AH15&E15,附表一!$F$5:$Y$175,20,0),"")) | AN15: =IF(AJ15&AL15<>"",IF(表四!$Q15<>"","公噸/"&表四!$Q15,IF(表四!$P15<>"","公噸/"&表四!$P15,"")),"") | AP15: =IF(表四!O15="",IF($J15<>"",IF(AL15<>"",ROUND(ROUND(AL15,10)*ROUND($J15,4),4),IF(AJ15<>"",ROUND(ROUND($J15,4)*ROUND(AJ15,10),4),"")),""),IF($J15<>"",IF(AL15<>"",ROUND(ROUND(AL15,10)*ROUND($J15,4)*ROUND(表四!O15,6),4),IF(AJ15<>"",ROUND(ROUND($J15,4)*ROUND(AJ15,10)*ROUND(表四!O15,6),4),"")),"")) | AQ15: =IF(AH15="CO2",1,IF(AH15="CH4",30,IF(AH15="N2O",265,""))) | AR15: =IF(AP15<>"",ROUND(AP15*AQ15,4),"") | AS15: =IF(表三!J15="是",IF(L15="CO2",SUM(AG15,AR15),SUM(V15,AG15,AR15)),IF(SUM(V15,AG15,AR15)<>0,SUM(V15,AG15,AR15),"")) | AT15: =IF(表三!J15="是",IF(L15="CO2",V15,""),"") | AU15: =IF(AS15<>"",AS15/表八!$J$8,"") | AV15: =VLOOKUP(E15,附表二!$A:$G,3,FALSE) -> #N/A | AW15: =H15&L15&G15 | AX15: =H15&L15 | AY15: =H15&W15 | AZ15: =H15&AH15 | BA15: =H15&I15 | BB15: =H15&I15 | BC15: =H15&I15 | BD15: =H15&L15&I15&G15 | BE15: =IFERROR(ABS(AS15),"")
A16: =IF(表三!A16<>"",表三!A16,"") | B16: =IF(表三!C16<>"",表三!C16,"") | C16: =IF(表三!D16<>"",表三!D16,"") | D16: =IF(表三!F16<>"",表三!F16,"") | E16: =IF(表三!H16<>"",表三!H16,"") | F16: =IF(表三!I16<>"",表三!I16,"") | G16: =IF(表三!J16<>"",表三!J16,"") | H16: =IF(表三!K16<>"",表三!K16,"") | I16: =IF(表三!P16<>"",表三!P16,"") | J16: =IF(表四!N16<>"",ROUND(表四!N16,4),"") | K16: =IF(表四!Q16<>"",表四!Q16,IF(表四!P16<>"",表四!P16,"")) | L16: =IF(表三!BJ16<>"",IF(表三!BJ16<>0,表三!BJ16,""),"") | N16: =IF(H16&I16&E16="範疇2外購電力350099",IF(M16="預設",VLOOKUP(表一!$B$5,附表一!$G$186:$T$211,14,0),""),IF(M16="預設",VLOOKUP(H16&I16&L16&E16,附表一!$F$5:$U$178,16,0),"")) | O16: =IF(H16&I16="範疇2外購電力",IF(M16="預設",VLOOKUP(表一!$B$5,附表一!$G$186:$X$210,18,0),""),IF(M16="預設",VLOOKUP(H16&I16&L16&E16,附表一!$F$5:$Y$175,20,0),"")) | R16: =IF(N16&P16<>"",IF(表四!$Q16<>"","公噸/"&表四!$Q16,IF(表四!$P16<>"","公噸/"&表四!$P16,"")),"") | T16: =IF(表四!O17="",IF($J16<>"",IF(P16<>"",ROUND(ROUND(P16,10)*ROUND($J16,4),4),IF(N16<>"",ROUND(ROUND($J16,4)*ROUND(N16,10),4),"")),""),IF($J16<>"",IF(P16<>"",ROUND(ROUND(P16,10)*ROUND($J16,4)*ROUND(表四!O17,6),4),IF(N16<>"",ROUND(ROUND($J16,4)*ROUND(N16,10)*ROUND(表四!O17,6),4),"")),"")) | U16: =IF(L16="CO2",1,IF(L16="SF6",23500,IF(L16="CH4",30,IF(L16="N2O",265,IF(L16="HFCS",AV16,IF(L16="PFCs",AV16,IF(L16="NF3",16100,""))))))) | V16: =IF(T16<>"",ROUND(T16*U16,4),"") | W16: =IF(表三!BK16<>"",IF(表三!BK16<>0,表三!BK16,""),"") | Y16: =IF(H16&I16="範疇2外購電力",IF(X16="預設",VLOOKUP(表一!$B$5,附表一!$G$186:$T$210,14,0),""),IF(X16="預設",VLOOKUP(H16&I16&W16&E16,附表一!$F$5:$U$175,16,0),"")) | Z16: =IF(H16&I16="範疇2外購電力",IF(X16="預設",VLOOKUP(表一!$B$5,附表一!$G$186:$X$210,18,0),""),IF(X16="預設",VLOOKUP(H16&I16&W16&E16,附表一!$F$5:$Y$175,20,0),"")) | AC16: =IF(Y16&AA16<>"",IF(表四!$Q16<>"","公噸/"&表四!$Q16,IF(表四!$P16<>"","公噸/"&表四!$P16,"")),"") | AE16: =IF(表四!O16="",IF($J16<>"",IF(AA16<>"",ROUND(ROUND(AA16,10)*ROUND($J16,4),4),IF(Y16<>"",ROUND(ROUND($J16,4)*ROUND(Y16,10),4),"")),""),IF($J16<>"",IF(AA16<>"",ROUND(ROUND(AA16,10)*ROUND($J16,4)*ROUND(表四!O16,6),4),IF(Y16<>"",ROUND(ROUND($J16,4)*ROUND(Y16,10)*ROUND(表四!O16,6),4),"")),"")) | AF16: =IF(W16="CO2",1,IF(W16="CH4",30,IF(W16="N2O",265,IF(W16="NF3",16100,"")))) | AG16: =IF(AE16<>"",ROUND(AE16*AF16,4),"") | AH16: =IF(表三!BL16<>"",IF(表三!BL16<>0,表三!BL16,""),"") | AJ16: =IF(H16&I16="範疇2外購電力",IF(AI16="預設",VLOOKUP(表一!$B$5,附表一!$G$186:$T$210,14,0),""),IF(AI16="預設",VLOOKUP(H16&I16&AH16&E16,附表一!$F$5:$U$175,16,0),"")) | AK16: =IF(H16&I16="範疇2外購電力",IF(AI16="預設",VLOOKUP(表一!$B$5,附表一!$G$186:$X$210,18,0),""),IF(AI16="預設",VLOOKUP(H16&I16&AH16&E16,附表一!$F$5:$Y$175,20,0),"")) | AN16: =IF(AJ16&AL16<>"",IF(表四!$Q16<>"","公噸/"&表四!$Q16,IF(表四!$P16<>"","公噸/"&表四!$P16,"")),"") | AP16: =IF(表四!O16="",IF($J16<>"",IF(AL16<>"",ROUND(ROUND(AL16,10)*ROUND($J16,4),4),IF(AJ16<>"",ROUND(ROUND($J16,4)*ROUND(AJ16,10),4),"")),""),IF($J16<>"",IF(AL16<>"",ROUND(ROUND(AL16,10)*ROUND($J16,4)*ROUND(表四!O16,6),4),IF(AJ16<>"",ROUND(ROUND($J16,4)*ROUND(AJ16,10)*ROUND(表四!O16,6),4),"")),"")) | AQ16: =IF(AH16="CO2",1,IF(AH16="CH4",30,IF(AH16="N2O",265,""))) | AR16: =IF(AP16<>"",ROUND(AP16*AQ16,4),"") | AS16: =IF(表三!J16="是",IF(L16="CO2",SUM(AG16,AR16),SUM(V16,AG16,AR16)),IF(SUM(V16,AG16,AR16)<>0,SUM(V16,AG16,AR16),"")) | AT16: =IF(表三!J16="是",IF(L16="CO2",V16,""),"") | AU16: =IF(AS16<>"",AS16/表八!$J$8,"") | AV16: =VLOOKUP(E16,附表二!$A:$G,3,FALSE) -> #N/A | AW16: =H16&L16&G16 | AX16: =H16&L16 | AY16: =H16&W16 | AZ16: =H16&AH16 | BA16: =H16&I16 | BB16: =H16&I16 | BC16: =H16&I16 | BD16: =H16&L16&I16&G16 | BE16: =IFERROR(ABS(AS16),"")
